BEGIN:VCALENDAR
VERSION:2.0
PRODID:-//KanoTournai - ECPv6.15.20//NONSGML v1.0//EN
CALSCALE:GREGORIAN
METHOD:PUBLISH
X-ORIGINAL-URL:https://judokano.be
X-WR-CALDESC:Évènements pour KanoTournai
REFRESH-INTERVAL;VALUE=DURATION:PT1H
X-Robots-Tag:noindex
X-PUBLISHED-TTL:PT1H
BEGIN:VTIMEZONE
TZID:Europe/Paris
BEGIN:DAYLIGHT
TZOFFSETFROM:+0100
TZOFFSETTO:+0200
TZNAME:CEST
DTSTART:20250330T010000
END:DAYLIGHT
BEGIN:STANDARD
TZOFFSETFROM:+0200
TZOFFSETTO:+0100
TZNAME:CET
DTSTART:20251026T010000
END:STANDARD
BEGIN:DAYLIGHT
TZOFFSETFROM:+0100
TZOFFSETTO:+0200
TZNAME:CEST
DTSTART:20260329T010000
END:DAYLIGHT
BEGIN:STANDARD
TZOFFSETFROM:+0200
TZOFFSETTO:+0100
TZNAME:CET
DTSTART:20261025T010000
END:STANDARD
BEGIN:DAYLIGHT
TZOFFSETFROM:+0100
TZOFFSETTO:+0200
TZNAME:CEST
DTSTART:20270328T010000
END:DAYLIGHT
BEGIN:STANDARD
TZOFFSETFROM:+0200
TZOFFSETTO:+0100
TZNAME:CET
DTSTART:20271031T010000
END:STANDARD
END:VTIMEZONE
BEGIN:VEVENT
DTSTART;TZID=Europe/Paris:20260817T083000
DTEND;TZID=Europe/Paris:20260821T170000
DTSTAMP:20260426T060052
CREATED:20260403T073741Z
LAST-MODIFIED:20260403T081212Z
UID:10001227-1786955400-1787331600@judokano.be
SUMMARY:Summer Stage 2026
DESCRIPTION:Du lundi 17 au vendredi 21 août 2026\nLe traditionnel stage d’été du Kano revient pour une édition 2026 sous le signe de la diversité et du mouvement ! Cette année\, nous proposons une expérience hybride : l’exigence et les valeurs du Judo alliées à la découverte de disciplines variées pour un épanouissement complet. \n🌟 Le Concept : L’Équilibre par le Sport\nChaque journée est conçue pour offrir un équilibre entre la tradition martiale et le dynamisme des sports collectifs et individuels. \n\n\nMatinées 100% Judo : Perfectionnement technique\, étude du code moral et randoris. \n\n\nAprès-midis Découverte : Initiation à de nouvelles disciplines pour développer l’agilité\, l’esprit d’équipe et le dépassement de soi. \n\n\n\n🏃 Un Programme Riche & Varié\nLe programme détaillé est actuellement en cours d’élaboration par notre équipe technique\, mais voici un aperçu des disciplines qui rythmeront la semaine : \n\n\nJudo (Quotidien) : La base de notre apprentissage\, axée sur la bienveillance et la progression de chacun. \n\n\nRugby : Pour renforcer l’esprit de corps\, le contact et la stratégie collective. \n\n\nAthlétisme : Pour travailler la puissance\, la vitesse et le dépassement de ses propres limites. \n\n\nAirJump : Une dose de fun et de modernité pour travailler la coordination et l’équilibre dans les airs. \n\n\nEt bien d’autres surprises… (Sports de raquette\, jeux de cohésion\, etc.) \n\n\n📝 Infos Pratiques\n\n\nPour qui ? Ouvert à tous les judokas (et sportifs curieux)\, tous niveaux confondus. \n\n\nÉquipement : Ton judogi (on en prête pour les novices)\, mais aussi une tenue de sport complète (chaussures de sport extérieur/intérieur) et ta gourde. \n\n\nEsprit : Comme chaque année\, nous mettrons en avant le respect\, l’entraide et la convivialité. \n\n\nRestez connectés ! Le programme définitif avec le planning heure par heure sera publié très prochainement. Les places sont limitées pour garantir un encadrement de qualité. \n\n« Sur le tatami comme sur le terrain\, c’est l’union de l’esprit et du corps qui forge le caractère. » \n\n\n	Remarque : JavaScript est requis pour ce contenu.
URL:https://judokano.be/event/summer-stage-2/
LOCATION:KanoTournai\, 76 rue Roc Saint-Nicaise\, Tournai\, 7500\, Belgique
CATEGORIES:Activités
ATTACH;FMTTYPE=image/png:https://judokano.be/wp-content/uploads/2026/04/summer-stage-2026.png
END:VEVENT
BEGIN:VEVENT
DTSTART;TZID=Europe/Paris:20260818T173000
DTEND;TZID=Europe/Paris:20260818T190000
DTSTAMP:20260426T060052
CREATED:20260422T140338Z
LAST-MODIFIED:20260422T140338Z
UID:10001334-1787074200-1787079600@judokano.be
SUMMARY:Stage Perfectionnement
DESCRIPTION:Horaire sur l’affiche.
URL:https://judokano.be/event/stage-perfectionnement/2026-08-18/
LOCATION:KanoTournai\, 76 rue Roc Saint-Nicaise\, Tournai\, 7500\, Belgique
CATEGORIES:Activités,Tous
ATTACH;FMTTYPE=image/png:https://judokano.be/wp-content/uploads/2026/04/stage4-8.png
END:VEVENT
END:VCALENDAR