BEGIN:VCALENDAR
VERSION:2.0
PRODID:-//KanoTournai - ECPv6.15.20//NONSGML v1.0//EN
CALSCALE:GREGORIAN
METHOD:PUBLISH
X-ORIGINAL-URL:http://judokano.be
X-WR-CALDESC:Évènements pour KanoTournai
REFRESH-INTERVAL;VALUE=DURATION:PT1H
X-Robots-Tag:noindex
X-PUBLISHED-TTL:PT1H
BEGIN:VTIMEZONE
TZID:Europe/Paris
BEGIN:DAYLIGHT
TZOFFSETFROM:+0100
TZOFFSETTO:+0200
TZNAME:CEST
DTSTART:20250330T010000
END:DAYLIGHT
BEGIN:STANDARD
TZOFFSETFROM:+0200
TZOFFSETTO:+0100
TZNAME:CET
DTSTART:20251026T010000
END:STANDARD
BEGIN:DAYLIGHT
TZOFFSETFROM:+0100
TZOFFSETTO:+0200
TZNAME:CEST
DTSTART:20260329T010000
END:DAYLIGHT
BEGIN:STANDARD
TZOFFSETFROM:+0200
TZOFFSETTO:+0100
TZNAME:CET
DTSTART:20261025T010000
END:STANDARD
BEGIN:DAYLIGHT
TZOFFSETFROM:+0100
TZOFFSETTO:+0200
TZNAME:CEST
DTSTART:20270328T010000
END:DAYLIGHT
BEGIN:STANDARD
TZOFFSETFROM:+0200
TZOFFSETTO:+0100
TZNAME:CET
DTSTART:20271031T010000
END:STANDARD
END:VTIMEZONE
BEGIN:VEVENT
DTSTART;TZID=Europe/Paris:20260610T173000
DTEND;TZID=Europe/Paris:20260610T190000
DTSTAMP:20260426T022551
CREATED:20260422T140338Z
LAST-MODIFIED:20260422T140338Z
UID:10001265-1781112600-1781118000@judokano.be
SUMMARY:Stage Perfectionnement
DESCRIPTION:Horaire sur l’affiche.
URL:http://judokano.be/event/stage-perfectionnement/2026-06-10/
LOCATION:KanoTournai\, 76 rue Roc Saint-Nicaise\, Tournai\, 7500\, Belgique
CATEGORIES:Activités,Tous
ATTACH;FMTTYPE=image/png:http://judokano.be/wp-content/uploads/2026/04/stage4-8.png
END:VEVENT
BEGIN:VEVENT
DTSTART;TZID=Europe/Paris:20260611T173000
DTEND;TZID=Europe/Paris:20260611T190000
DTSTAMP:20260426T022551
CREATED:20260422T140338Z
LAST-MODIFIED:20260422T140338Z
UID:10001266-1781199000-1781204400@judokano.be
SUMMARY:Stage Perfectionnement
DESCRIPTION:Horaire sur l’affiche.
URL:http://judokano.be/event/stage-perfectionnement/2026-06-11/
LOCATION:KanoTournai\, 76 rue Roc Saint-Nicaise\, Tournai\, 7500\, Belgique
CATEGORIES:Activités,Tous
ATTACH;FMTTYPE=image/png:http://judokano.be/wp-content/uploads/2026/04/stage4-8.png
END:VEVENT
BEGIN:VEVENT
DTSTART;TZID=Europe/Paris:20260612T173000
DTEND;TZID=Europe/Paris:20260612T190000
DTSTAMP:20260426T022551
CREATED:20260422T140338Z
LAST-MODIFIED:20260422T140338Z
UID:10001267-1781285400-1781290800@judokano.be
SUMMARY:Stage Perfectionnement
DESCRIPTION:Horaire sur l’affiche.
URL:http://judokano.be/event/stage-perfectionnement/2026-06-12/
LOCATION:KanoTournai\, 76 rue Roc Saint-Nicaise\, Tournai\, 7500\, Belgique
CATEGORIES:Activités,Tous
ATTACH;FMTTYPE=image/png:http://judokano.be/wp-content/uploads/2026/04/stage4-8.png
END:VEVENT
BEGIN:VEVENT
DTSTART;TZID=Europe/Paris:20260612T173000
DTEND;TZID=Europe/Paris:20260612T210000
DTSTAMP:20260426T022551
CREATED:20241217T172523Z
LAST-MODIFIED:20241218T065600Z
UID:10001092-1781285400-1781298000@judokano.be
SUMMARY:Entrainement judo
DESCRIPTION:U07-U09: 17h30-18h30 \nU11-U13: 18h30-19h30 \nU15+ : 19h30-21h00
URL:http://judokano.be/event/entrainement-judo-2/2026-06-12/
LOCATION:KanoTournai\, 76 rue Roc Saint-Nicaise\, Tournai\, 7500\, Belgique
CATEGORIES:Cours
END:VEVENT
BEGIN:VEVENT
DTSTART;TZID=Europe/Paris:20260613T173000
DTEND;TZID=Europe/Paris:20260613T190000
DTSTAMP:20260426T022551
CREATED:20260422T140338Z
LAST-MODIFIED:20260422T140338Z
UID:10001268-1781371800-1781377200@judokano.be
SUMMARY:Stage Perfectionnement
DESCRIPTION:Horaire sur l’affiche.
URL:http://judokano.be/event/stage-perfectionnement/2026-06-13/
LOCATION:KanoTournai\, 76 rue Roc Saint-Nicaise\, Tournai\, 7500\, Belgique
CATEGORIES:Activités,Tous
ATTACH;FMTTYPE=image/png:http://judokano.be/wp-content/uploads/2026/04/stage4-8.png
END:VEVENT
BEGIN:VEVENT
DTSTART;TZID=Europe/Paris:20260614T173000
DTEND;TZID=Europe/Paris:20260614T190000
DTSTAMP:20260426T022551
CREATED:20260422T140338Z
LAST-MODIFIED:20260422T140338Z
UID:10001269-1781458200-1781463600@judokano.be
SUMMARY:Stage Perfectionnement
DESCRIPTION:Horaire sur l’affiche.
URL:http://judokano.be/event/stage-perfectionnement/2026-06-14/
LOCATION:KanoTournai\, 76 rue Roc Saint-Nicaise\, Tournai\, 7500\, Belgique
CATEGORIES:Activités,Tous
ATTACH;FMTTYPE=image/png:http://judokano.be/wp-content/uploads/2026/04/stage4-8.png
END:VEVENT
BEGIN:VEVENT
DTSTART;TZID=Europe/Paris:20260615T173000
DTEND;TZID=Europe/Paris:20260615T190000
DTSTAMP:20260426T022551
CREATED:20250908T125120Z
LAST-MODIFIED:20250908T125256Z
UID:10001154-1781544600-1781550000@judokano.be
SUMMARY:Cours Kata & Uchikomis
DESCRIPTION:
URL:http://judokano.be/event/cours-kata-3/2026-06-15/
LOCATION:KanoTournai\, 76 rue Roc Saint-Nicaise\, Tournai\, 7500\, Belgique
CATEGORIES:Cours
END:VEVENT
BEGIN:VEVENT
DTSTART;TZID=Europe/Paris:20260615T173000
DTEND;TZID=Europe/Paris:20260615T190000
DTSTAMP:20260426T022551
CREATED:20260422T140338Z
LAST-MODIFIED:20260422T140338Z
UID:10001270-1781544600-1781550000@judokano.be
SUMMARY:Stage Perfectionnement
DESCRIPTION:Horaire sur l’affiche.
URL:http://judokano.be/event/stage-perfectionnement/2026-06-15/
LOCATION:KanoTournai\, 76 rue Roc Saint-Nicaise\, Tournai\, 7500\, Belgique
CATEGORIES:Activités,Tous
ATTACH;FMTTYPE=image/png:http://judokano.be/wp-content/uploads/2026/04/stage4-8.png
END:VEVENT
BEGIN:VEVENT
DTSTART;TZID=Europe/Paris:20260616T173000
DTEND;TZID=Europe/Paris:20260616T190000
DTSTAMP:20260426T022551
CREATED:20260422T140338Z
LAST-MODIFIED:20260422T140338Z
UID:10001271-1781631000-1781636400@judokano.be
SUMMARY:Stage Perfectionnement
DESCRIPTION:Horaire sur l’affiche.
URL:http://judokano.be/event/stage-perfectionnement/2026-06-16/
LOCATION:KanoTournai\, 76 rue Roc Saint-Nicaise\, Tournai\, 7500\, Belgique
CATEGORIES:Activités,Tous
ATTACH;FMTTYPE=image/png:http://judokano.be/wp-content/uploads/2026/04/stage4-8.png
END:VEVENT
BEGIN:VEVENT
DTSTART;TZID=Europe/Paris:20260617T170000
DTEND;TZID=Europe/Paris:20260617T203000
DTSTAMP:20260426T022551
CREATED:20241217T172349Z
LAST-MODIFIED:20241217T173204Z
UID:10001015-1781715600-1781728200@judokano.be
SUMMARY:Entrainement Judo
DESCRIPTION:U7-U9: 17h00-18h00 \nU11-U13: 18h00-19h00 \nU15+ : 19h00-20h30
URL:http://judokano.be/event/entrainement-judo/2026-06-17/
LOCATION:KanoTournai\, 76 rue Roc Saint-Nicaise\, Tournai\, 7500\, Belgique
CATEGORIES:Cours
END:VEVENT
BEGIN:VEVENT
DTSTART;TZID=Europe/Paris:20260617T173000
DTEND;TZID=Europe/Paris:20260617T190000
DTSTAMP:20260426T022551
CREATED:20260422T140338Z
LAST-MODIFIED:20260422T140338Z
UID:10001272-1781717400-1781722800@judokano.be
SUMMARY:Stage Perfectionnement
DESCRIPTION:Horaire sur l’affiche.
URL:http://judokano.be/event/stage-perfectionnement/2026-06-17/
LOCATION:KanoTournai\, 76 rue Roc Saint-Nicaise\, Tournai\, 7500\, Belgique
CATEGORIES:Activités,Tous
ATTACH;FMTTYPE=image/png:http://judokano.be/wp-content/uploads/2026/04/stage4-8.png
END:VEVENT
BEGIN:VEVENT
DTSTART;TZID=Europe/Paris:20260618T173000
DTEND;TZID=Europe/Paris:20260618T190000
DTSTAMP:20260426T022551
CREATED:20260422T140338Z
LAST-MODIFIED:20260422T140338Z
UID:10001273-1781803800-1781809200@judokano.be
SUMMARY:Stage Perfectionnement
DESCRIPTION:Horaire sur l’affiche.
URL:http://judokano.be/event/stage-perfectionnement/2026-06-18/
LOCATION:KanoTournai\, 76 rue Roc Saint-Nicaise\, Tournai\, 7500\, Belgique
CATEGORIES:Activités,Tous
ATTACH;FMTTYPE=image/png:http://judokano.be/wp-content/uploads/2026/04/stage4-8.png
END:VEVENT
BEGIN:VEVENT
DTSTART;TZID=Europe/Paris:20260619T173000
DTEND;TZID=Europe/Paris:20260619T190000
DTSTAMP:20260426T022551
CREATED:20260422T140338Z
LAST-MODIFIED:20260422T140338Z
UID:10001274-1781890200-1781895600@judokano.be
SUMMARY:Stage Perfectionnement
DESCRIPTION:Horaire sur l’affiche.
URL:http://judokano.be/event/stage-perfectionnement/2026-06-19/
LOCATION:KanoTournai\, 76 rue Roc Saint-Nicaise\, Tournai\, 7500\, Belgique
CATEGORIES:Activités,Tous
ATTACH;FMTTYPE=image/png:http://judokano.be/wp-content/uploads/2026/04/stage4-8.png
END:VEVENT
BEGIN:VEVENT
DTSTART;TZID=Europe/Paris:20260619T173000
DTEND;TZID=Europe/Paris:20260619T210000
DTSTAMP:20260426T022551
CREATED:20241217T172523Z
LAST-MODIFIED:20241218T065600Z
UID:10001093-1781890200-1781902800@judokano.be
SUMMARY:Entrainement judo
DESCRIPTION:U07-U09: 17h30-18h30 \nU11-U13: 18h30-19h30 \nU15+ : 19h30-21h00
URL:http://judokano.be/event/entrainement-judo-2/2026-06-19/
LOCATION:KanoTournai\, 76 rue Roc Saint-Nicaise\, Tournai\, 7500\, Belgique
CATEGORIES:Cours
END:VEVENT
BEGIN:VEVENT
DTSTART;VALUE=DATE:20260620
DTEND;VALUE=DATE:20260622
DTSTAMP:20260426T022551
CREATED:20251222T125402Z
LAST-MODIFIED:20251222T125402Z
UID:10001206-1781913600-1782086399@judokano.be
SUMMARY:Int. Venray 2026
DESCRIPTION:Saturday 20 June 2026: 09:00: U11\, U13\, U15\, Seniors \nSunday 21 June 2026: 09:00: U18\, U21 \n  \n\n	Remarque : JavaScript est requis pour ce contenu.
URL:http://judokano.be/event/int-venray-2026/
LOCATION:Venray\, Zuidsingel 2\, Venray\, \, 5802 EG\, Netherlands
CATEGORIES:Compétitions
END:VEVENT
BEGIN:VEVENT
DTSTART;TZID=Europe/Paris:20260620T173000
DTEND;TZID=Europe/Paris:20260620T190000
DTSTAMP:20260426T022551
CREATED:20260422T140338Z
LAST-MODIFIED:20260422T140338Z
UID:10001275-1781976600-1781982000@judokano.be
SUMMARY:Stage Perfectionnement
DESCRIPTION:Horaire sur l’affiche.
URL:http://judokano.be/event/stage-perfectionnement/2026-06-20/
LOCATION:KanoTournai\, 76 rue Roc Saint-Nicaise\, Tournai\, 7500\, Belgique
CATEGORIES:Activités,Tous
ATTACH;FMTTYPE=image/png:http://judokano.be/wp-content/uploads/2026/04/stage4-8.png
END:VEVENT
BEGIN:VEVENT
DTSTART;TZID=Europe/Paris:20260621T173000
DTEND;TZID=Europe/Paris:20260621T190000
DTSTAMP:20260426T022551
CREATED:20260422T140338Z
LAST-MODIFIED:20260422T140338Z
UID:10001276-1782063000-1782068400@judokano.be
SUMMARY:Stage Perfectionnement
DESCRIPTION:Horaire sur l’affiche.
URL:http://judokano.be/event/stage-perfectionnement/2026-06-21/
LOCATION:KanoTournai\, 76 rue Roc Saint-Nicaise\, Tournai\, 7500\, Belgique
CATEGORIES:Activités,Tous
ATTACH;FMTTYPE=image/png:http://judokano.be/wp-content/uploads/2026/04/stage4-8.png
END:VEVENT
BEGIN:VEVENT
DTSTART;TZID=Europe/Paris:20260622T173000
DTEND;TZID=Europe/Paris:20260622T190000
DTSTAMP:20260426T022551
CREATED:20260422T140338Z
LAST-MODIFIED:20260422T140338Z
UID:10001277-1782149400-1782154800@judokano.be
SUMMARY:Stage Perfectionnement
DESCRIPTION:Horaire sur l’affiche.
URL:http://judokano.be/event/stage-perfectionnement/2026-06-22/
LOCATION:KanoTournai\, 76 rue Roc Saint-Nicaise\, Tournai\, 7500\, Belgique
CATEGORIES:Activités,Tous
ATTACH;FMTTYPE=image/png:http://judokano.be/wp-content/uploads/2026/04/stage4-8.png
END:VEVENT
BEGIN:VEVENT
DTSTART;TZID=Europe/Paris:20260623T173000
DTEND;TZID=Europe/Paris:20260623T190000
DTSTAMP:20260426T022551
CREATED:20260422T140338Z
LAST-MODIFIED:20260422T140338Z
UID:10001278-1782235800-1782241200@judokano.be
SUMMARY:Stage Perfectionnement
DESCRIPTION:Horaire sur l’affiche.
URL:http://judokano.be/event/stage-perfectionnement/2026-06-23/
LOCATION:KanoTournai\, 76 rue Roc Saint-Nicaise\, Tournai\, 7500\, Belgique
CATEGORIES:Activités,Tous
ATTACH;FMTTYPE=image/png:http://judokano.be/wp-content/uploads/2026/04/stage4-8.png
END:VEVENT
BEGIN:VEVENT
DTSTART;TZID=Europe/Paris:20260624T170000
DTEND;TZID=Europe/Paris:20260624T203000
DTSTAMP:20260426T022551
CREATED:20241217T172349Z
LAST-MODIFIED:20241217T173204Z
UID:10001016-1782320400-1782333000@judokano.be
SUMMARY:Entrainement Judo
DESCRIPTION:U7-U9: 17h00-18h00 \nU11-U13: 18h00-19h00 \nU15+ : 19h00-20h30
URL:http://judokano.be/event/entrainement-judo/2026-06-24/
LOCATION:KanoTournai\, 76 rue Roc Saint-Nicaise\, Tournai\, 7500\, Belgique
CATEGORIES:Cours
END:VEVENT
BEGIN:VEVENT
DTSTART;TZID=Europe/Paris:20260624T173000
DTEND;TZID=Europe/Paris:20260624T190000
DTSTAMP:20260426T022551
CREATED:20260422T140338Z
LAST-MODIFIED:20260422T140338Z
UID:10001279-1782322200-1782327600@judokano.be
SUMMARY:Stage Perfectionnement
DESCRIPTION:Horaire sur l’affiche.
URL:http://judokano.be/event/stage-perfectionnement/2026-06-24/
LOCATION:KanoTournai\, 76 rue Roc Saint-Nicaise\, Tournai\, 7500\, Belgique
CATEGORIES:Activités,Tous
ATTACH;FMTTYPE=image/png:http://judokano.be/wp-content/uploads/2026/04/stage4-8.png
END:VEVENT
BEGIN:VEVENT
DTSTART;TZID=Europe/Paris:20260625T173000
DTEND;TZID=Europe/Paris:20260625T190000
DTSTAMP:20260426T022551
CREATED:20260422T140338Z
LAST-MODIFIED:20260422T140338Z
UID:10001280-1782408600-1782414000@judokano.be
SUMMARY:Stage Perfectionnement
DESCRIPTION:Horaire sur l’affiche.
URL:http://judokano.be/event/stage-perfectionnement/2026-06-25/
LOCATION:KanoTournai\, 76 rue Roc Saint-Nicaise\, Tournai\, 7500\, Belgique
CATEGORIES:Activités,Tous
ATTACH;FMTTYPE=image/png:http://judokano.be/wp-content/uploads/2026/04/stage4-8.png
END:VEVENT
BEGIN:VEVENT
DTSTART;TZID=Europe/Paris:20260626T173000
DTEND;TZID=Europe/Paris:20260626T190000
DTSTAMP:20260426T022551
CREATED:20260422T140338Z
LAST-MODIFIED:20260422T140338Z
UID:10001281-1782495000-1782500400@judokano.be
SUMMARY:Stage Perfectionnement
DESCRIPTION:Horaire sur l’affiche.
URL:http://judokano.be/event/stage-perfectionnement/2026-06-26/
LOCATION:KanoTournai\, 76 rue Roc Saint-Nicaise\, Tournai\, 7500\, Belgique
CATEGORIES:Activités,Tous
ATTACH;FMTTYPE=image/png:http://judokano.be/wp-content/uploads/2026/04/stage4-8.png
END:VEVENT
BEGIN:VEVENT
DTSTART;TZID=Europe/Paris:20260626T173000
DTEND;TZID=Europe/Paris:20260626T210000
DTSTAMP:20260426T022551
CREATED:20241217T172523Z
LAST-MODIFIED:20241218T065600Z
UID:10001094-1782495000-1782507600@judokano.be
SUMMARY:Entrainement judo
DESCRIPTION:U07-U09: 17h30-18h30 \nU11-U13: 18h30-19h30 \nU15+ : 19h30-21h00
URL:http://judokano.be/event/entrainement-judo-2/2026-06-26/
LOCATION:KanoTournai\, 76 rue Roc Saint-Nicaise\, Tournai\, 7500\, Belgique
CATEGORIES:Cours
END:VEVENT
BEGIN:VEVENT
DTSTART;TZID=Europe/Paris:20260627T170000
DTEND;TZID=Europe/Paris:20260627T190000
DTSTAMP:20260426T022551
CREATED:20251204T125052Z
LAST-MODIFIED:20260227T081052Z
UID:10001176-1782579600-1782586800@judokano.be
SUMMARY:Randori Training
DESCRIPTION:Dès 2026\, le Kano Tournai lance un nouveau rendez-vous incontournable pour les judokas à la recherche de volume et d’intensité. Une fois par mois\, nous vous proposons un Randori Training pur\, fidèle à la tradition de l’entraînement à la japonaise. \nL’objectif est clair : travailler le cardio\, la résistance et la technique en situation de fatigue\, sans temps morts inutiles. C’est l’occasion idéale de se tester et de progresser dans une ambiance de travail studieuse et martiale. \nAu programme de cette session : Le format est dense et conçu pour l’endurance. \n\n\nTachi-waza (Debout) : 10 randoris de 5 à 6 minutes. \n\n\nNe-waza (Sol) : 5 randoris. \n\n\nCe cours est ouvert aux judokas motivés (Cadets\, Juniors\, Seniors) prêts à relever le défi physique. \nInfos pratiques : \n\n\n📅 Date : Samedi 31 janvier 2026 (Première édition !) \n\n\n📍 Lieu : Kano Tournai \n\n\n🥋 Équipement : Judogi (et de quoi s’hydrater !) \n\n\nVenez nombreux pour partager l’effort et la passion du Judo.
URL:http://judokano.be/event/randori-training/2026-06-27/
LOCATION:KanoTournai\, 76 rue Roc Saint-Nicaise\, Tournai\, 7500\, Belgique
CATEGORIES:Cours
ATTACH;FMTTYPE=image/png:http://judokano.be/wp-content/uploads/2025/12/randoriT.png
END:VEVENT
BEGIN:VEVENT
DTSTART;TZID=Europe/Paris:20260627T173000
DTEND;TZID=Europe/Paris:20260627T190000
DTSTAMP:20260426T022551
CREATED:20260422T140338Z
LAST-MODIFIED:20260422T140338Z
UID:10001282-1782581400-1782586800@judokano.be
SUMMARY:Stage Perfectionnement
DESCRIPTION:Horaire sur l’affiche.
URL:http://judokano.be/event/stage-perfectionnement/2026-06-27/
LOCATION:KanoTournai\, 76 rue Roc Saint-Nicaise\, Tournai\, 7500\, Belgique
CATEGORIES:Activités,Tous
ATTACH;FMTTYPE=image/png:http://judokano.be/wp-content/uploads/2026/04/stage4-8.png
END:VEVENT
BEGIN:VEVENT
DTSTART;TZID=Europe/Paris:20260628T113000
DTEND;TZID=Europe/Paris:20260628T170000
DTSTAMP:20260426T022551
CREATED:20251222T133245Z
LAST-MODIFIED:20251222T133305Z
UID:10001208-1782646200-1782666000@judokano.be
SUMMARY:BBQ de Fin de Saison : Fêtons l'été ensemble !
DESCRIPTION:La saison sportive touche à sa fin ! Avant que chacun ne parte profiter de ses vacances d’été\, nous vous invitons à notre traditionnel barbecue de clôture. \nC’est le moment idéal pour se retrouver hors des tatamis\, échanger entre membres\, parents et bénévoles\, et célébrer ensemble les succès de l’année écoulée. \n📅 Quand ? Le dimanche 28 juin\, à partir de midi (12h00). \n📍 Où ? Comme l’année dernière\, nous nous retrouverons dans ce cadre convivial que vous aviez apprécié : 4 rue Longue à Esplechin. \n🍽️ Au Menu : On ne change pas une formule qui gagne ! Nous vous proposons un repas savoureux et simple : \n\n\nJambon braisé à la broche \n\n\nSaucisses grillées \n\n\nOption Végétarienne disponible sur demande \n\n\nLe tout accompagné d’un buffet de salades variées. \n\n\n💶 Tarifs : \n\n\nAdulte : 18 € \n\n\nEnfant : 12 € \n\n\n\n📝 Inscriptions : \nPour des raisons d’organisation (et pour être sûr d’avoir assez de jambon pour tout le monde !)\, l’inscription est obligatoire. \nMerci de confirmer votre présence avant le 7 juin. \nOn compte sur votre présence pour partager ce dernier moment fort de la saison ! \n\n	Remarque : JavaScript est requis pour ce contenu.
URL:http://judokano.be/event/bbq-de-fin-de-saison-fetons-lete-ensemble/
LOCATION:Ecole Esplechin\, 4 Rue longue\, Esplechin
CATEGORIES:Activités
ATTACH;FMTTYPE=image/png:http://judokano.be/wp-content/uploads/2025/12/bbq26.png
END:VEVENT
BEGIN:VEVENT
DTSTART;TZID=Europe/Paris:20260628T173000
DTEND;TZID=Europe/Paris:20260628T190000
DTSTAMP:20260426T022552
CREATED:20260422T140338Z
LAST-MODIFIED:20260422T140338Z
UID:10001283-1782667800-1782673200@judokano.be
SUMMARY:Stage Perfectionnement
DESCRIPTION:Horaire sur l’affiche.
URL:http://judokano.be/event/stage-perfectionnement/2026-06-28/
LOCATION:KanoTournai\, 76 rue Roc Saint-Nicaise\, Tournai\, 7500\, Belgique
CATEGORIES:Activités,Tous
ATTACH;FMTTYPE=image/png:http://judokano.be/wp-content/uploads/2026/04/stage4-8.png
END:VEVENT
BEGIN:VEVENT
DTSTART;TZID=Europe/Paris:20260629T173000
DTEND;TZID=Europe/Paris:20260629T190000
DTSTAMP:20260426T022552
CREATED:20260422T140338Z
LAST-MODIFIED:20260422T140338Z
UID:10001284-1782754200-1782759600@judokano.be
SUMMARY:Stage Perfectionnement
DESCRIPTION:Horaire sur l’affiche.
URL:http://judokano.be/event/stage-perfectionnement/2026-06-29/
LOCATION:KanoTournai\, 76 rue Roc Saint-Nicaise\, Tournai\, 7500\, Belgique
CATEGORIES:Activités,Tous
ATTACH;FMTTYPE=image/png:http://judokano.be/wp-content/uploads/2026/04/stage4-8.png
END:VEVENT
BEGIN:VEVENT
DTSTART;TZID=Europe/Paris:20260630T173000
DTEND;TZID=Europe/Paris:20260630T190000
DTSTAMP:20260426T022552
CREATED:20260422T140338Z
LAST-MODIFIED:20260422T140338Z
UID:10001285-1782840600-1782846000@judokano.be
SUMMARY:Stage Perfectionnement
DESCRIPTION:Horaire sur l’affiche.
URL:http://judokano.be/event/stage-perfectionnement/2026-06-30/
LOCATION:KanoTournai\, 76 rue Roc Saint-Nicaise\, Tournai\, 7500\, Belgique
CATEGORIES:Activités,Tous
ATTACH;FMTTYPE=image/png:http://judokano.be/wp-content/uploads/2026/04/stage4-8.png
END:VEVENT
END:VCALENDAR