BEGIN:VCALENDAR
VERSION:2.0
PRODID:-//KanoTournai - ECPv6.15.20//NONSGML v1.0//EN
CALSCALE:GREGORIAN
METHOD:PUBLISH
X-WR-CALNAME:KanoTournai
X-ORIGINAL-URL:http://judokano.be
X-WR-CALDESC:Évènements pour KanoTournai
REFRESH-INTERVAL;VALUE=DURATION:PT1H
X-Robots-Tag:noindex
X-PUBLISHED-TTL:PT1H
BEGIN:VTIMEZONE
TZID:Europe/Paris
BEGIN:DAYLIGHT
TZOFFSETFROM:+0100
TZOFFSETTO:+0200
TZNAME:CEST
DTSTART:20240331T010000
END:DAYLIGHT
BEGIN:STANDARD
TZOFFSETFROM:+0200
TZOFFSETTO:+0100
TZNAME:CET
DTSTART:20241027T010000
END:STANDARD
BEGIN:DAYLIGHT
TZOFFSETFROM:+0100
TZOFFSETTO:+0200
TZNAME:CEST
DTSTART:20250330T010000
END:DAYLIGHT
BEGIN:STANDARD
TZOFFSETFROM:+0200
TZOFFSETTO:+0100
TZNAME:CET
DTSTART:20251026T010000
END:STANDARD
BEGIN:DAYLIGHT
TZOFFSETFROM:+0100
TZOFFSETTO:+0200
TZNAME:CEST
DTSTART:20260329T010000
END:DAYLIGHT
BEGIN:STANDARD
TZOFFSETFROM:+0200
TZOFFSETTO:+0100
TZNAME:CET
DTSTART:20261025T010000
END:STANDARD
BEGIN:DAYLIGHT
TZOFFSETFROM:+0100
TZOFFSETTO:+0200
TZNAME:CEST
DTSTART:20270328T010000
END:DAYLIGHT
BEGIN:STANDARD
TZOFFSETFROM:+0200
TZOFFSETTO:+0100
TZNAME:CET
DTSTART:20271031T010000
END:STANDARD
END:VTIMEZONE
BEGIN:VEVENT
DTSTART;TZID=Europe/Paris:20260131T170000
DTEND;TZID=Europe/Paris:20260131T190000
DTSTAMP:20260426T005631
CREATED:20251204T125052Z
LAST-MODIFIED:20260227T081052Z
UID:10001172-1769878800-1769886000@judokano.be
SUMMARY:Randori Training
DESCRIPTION:Dès 2026\, le Kano Tournai lance un nouveau rendez-vous incontournable pour les judokas à la recherche de volume et d’intensité. Une fois par mois\, nous vous proposons un Randori Training pur\, fidèle à la tradition de l’entraînement à la japonaise. \nL’objectif est clair : travailler le cardio\, la résistance et la technique en situation de fatigue\, sans temps morts inutiles. C’est l’occasion idéale de se tester et de progresser dans une ambiance de travail studieuse et martiale. \nAu programme de cette session : Le format est dense et conçu pour l’endurance. \n\n\nTachi-waza (Debout) : 10 randoris de 5 à 6 minutes. \n\n\nNe-waza (Sol) : 5 randoris. \n\n\nCe cours est ouvert aux judokas motivés (Cadets\, Juniors\, Seniors) prêts à relever le défi physique. \nInfos pratiques : \n\n\n📅 Date : Samedi 31 janvier 2026 (Première édition !) \n\n\n📍 Lieu : Kano Tournai \n\n\n🥋 Équipement : Judogi (et de quoi s’hydrater !) \n\n\nVenez nombreux pour partager l’effort et la passion du Judo.
URL:http://judokano.be/event/randori-training/2026-01-31/
LOCATION:KanoTournai\, 76 rue Roc Saint-Nicaise\, Tournai\, 7500\, Belgique
CATEGORIES:Cours
ATTACH;FMTTYPE=image/png:http://judokano.be/wp-content/uploads/2025/12/randoriT.png
END:VEVENT
BEGIN:VEVENT
DTSTART;TZID=Europe/Paris:20260131T080000
DTEND;TZID=Europe/Paris:20260131T170000
DTSTAMP:20260426T005631
CREATED:20251222T102237Z
LAST-MODIFIED:20251222T102251Z
UID:10001190-1769846400-1769878800@judokano.be
SUMMARY:Tournoi de Haubourdin (FR) U11 U13
DESCRIPTION:117756_plaquette compétition JCH 2026 - Haubourdin\n  \n\n	Remarque : JavaScript est requis pour ce contenu.
URL:http://judokano.be/event/tournoi-de-haubourdin-fr-u11-u13/
LOCATION:Haubourdin\, Avenue de Beaupré\, Haubourdin\, 59320\, France
CATEGORIES:Compétitions
END:VEVENT
BEGIN:VEVENT
DTSTART;TZID=Europe/Paris:20260130T173000
DTEND;TZID=Europe/Paris:20260130T210000
DTSTAMP:20260426T005631
CREATED:20241217T172523Z
LAST-MODIFIED:20241218T065600Z
UID:10001073-1769794200-1769806800@judokano.be
SUMMARY:Entrainement judo
DESCRIPTION:U07-U09: 17h30-18h30 \nU11-U13: 18h30-19h30 \nU15+ : 19h30-21h00
URL:http://judokano.be/event/entrainement-judo-2/2026-01-30/
LOCATION:KanoTournai\, 76 rue Roc Saint-Nicaise\, Tournai\, 7500\, Belgique
CATEGORIES:Cours
END:VEVENT
BEGIN:VEVENT
DTSTART;TZID=Europe/Paris:20260128T170000
DTEND;TZID=Europe/Paris:20260128T203000
DTSTAMP:20260426T005631
CREATED:20241217T172349Z
LAST-MODIFIED:20241217T173204Z
UID:10000995-1769619600-1769632200@judokano.be
SUMMARY:Entrainement Judo
DESCRIPTION:U7-U9: 17h00-18h00 \nU11-U13: 18h00-19h00 \nU15+ : 19h00-20h30
URL:http://judokano.be/event/entrainement-judo/2026-01-28/
LOCATION:KanoTournai\, 76 rue Roc Saint-Nicaise\, Tournai\, 7500\, Belgique
CATEGORIES:Cours
END:VEVENT
BEGIN:VEVENT
DTSTART;TZID=Europe/Paris:20260124T080000
DTEND;TZID=Europe/Paris:20260124T170000
DTSTAMP:20260426T005631
CREATED:20251212T152039Z
LAST-MODIFIED:20251212T152039Z
UID:10001186-1769241600-1769274000@judokano.be
SUMMARY:Championnat Provincial
DESCRIPTION:  \n  \n\n	Remarque : JavaScript est requis pour ce contenu.
URL:http://judokano.be/event/championnat-provincial/
LOCATION:Streppy Bracquegnies
CATEGORIES:Compétitions
END:VEVENT
BEGIN:VEVENT
DTSTART;TZID=Europe/Paris:20260123T173000
DTEND;TZID=Europe/Paris:20260123T210000
DTSTAMP:20260426T005631
CREATED:20241217T172523Z
LAST-MODIFIED:20241218T065600Z
UID:10001072-1769189400-1769202000@judokano.be
SUMMARY:Entrainement judo
DESCRIPTION:U07-U09: 17h30-18h30 \nU11-U13: 18h30-19h30 \nU15+ : 19h30-21h00
URL:http://judokano.be/event/entrainement-judo-2/2026-01-23/
LOCATION:KanoTournai\, 76 rue Roc Saint-Nicaise\, Tournai\, 7500\, Belgique
CATEGORIES:Cours
END:VEVENT
BEGIN:VEVENT
DTSTART;TZID=Europe/Paris:20260121T170000
DTEND;TZID=Europe/Paris:20260121T203000
DTSTAMP:20260426T005631
CREATED:20241217T172349Z
LAST-MODIFIED:20241217T173204Z
UID:10000994-1769014800-1769027400@judokano.be
SUMMARY:Entrainement Judo
DESCRIPTION:U7-U9: 17h00-18h00 \nU11-U13: 18h00-19h00 \nU15+ : 19h00-20h30
URL:http://judokano.be/event/entrainement-judo/2026-01-21/
LOCATION:KanoTournai\, 76 rue Roc Saint-Nicaise\, Tournai\, 7500\, Belgique
CATEGORIES:Cours
END:VEVENT
BEGIN:VEVENT
DTSTART;TZID=Europe/Paris:20260119T173000
DTEND;TZID=Europe/Paris:20260119T190000
DTSTAMP:20260426T005631
CREATED:20250908T125120Z
LAST-MODIFIED:20250908T125256Z
UID:10001149-1768843800-1768849200@judokano.be
SUMMARY:Cours Kata & Uchikomis
DESCRIPTION:
URL:http://judokano.be/event/cours-kata-3/2026-01-19/
LOCATION:KanoTournai\, 76 rue Roc Saint-Nicaise\, Tournai\, 7500\, Belgique
CATEGORIES:Cours
END:VEVENT
BEGIN:VEVENT
DTSTART;TZID=Europe/Paris:20260118T080000
DTEND;TZID=Europe/Paris:20260118T170000
DTSTAMP:20260426T005631
CREATED:20251212T152226Z
LAST-MODIFIED:20251212T153700Z
UID:10001187-1768723200-1768755600@judokano.be
SUMMARY:Tournoi de Lendelede U15 U18 U21+
DESCRIPTION:Remarque : JavaScript est requis pour ce contenu.
URL:http://judokano.be/event/tournoi-de-lendelede/
LOCATION:Lendelede\, Sporthal Steuren Ambacht\, Lendelede
CATEGORIES:Compétitions
END:VEVENT
BEGIN:VEVENT
DTSTART;TZID=Europe/Paris:20260118T080000
DTEND;TZID=Europe/Paris:20260118T170000
DTSTAMP:20260426T005631
CREATED:20251212T145914Z
LAST-MODIFIED:20251212T150408Z
UID:10001184-1768723200-1768755600@judokano.be
SUMMARY:Tournoi Excellence Juniors Amiens
DESCRIPTION:08h00 – 08h30 Juniors Garçons : -55\, -60\, -66\, -73 Kg et pesée aléatoire le jour de la compétition avec 1kg de tolérance \n10h00 – 10h30 Juniors Garçons : -81 \, -90 \, -100 \, +100 Kg et pesée aléatoire le jour de la compétition avec 1kg de tolérance \n13h30 – 14h00 Juniors Filles : -44\, -48 \, -52\, -57\, -63\, -70\, -78\, +78 Kg et pesée aléatoire le jour de la compétition avec 1kg de tolérance \n  \n \n\n	Remarque : JavaScript est requis pour ce contenu.
URL:http://judokano.be/event/tournoi-excellence-juniors-amiens/
LOCATION:Amiens\, 8 rue Lescouve\, Amiens\, 8000\, France
CATEGORIES:Compétitions
END:VEVENT
BEGIN:VEVENT
DTSTART;TZID=Europe/Paris:20260117T080000
DTEND;TZID=Europe/Paris:20260117T170000
DTSTAMP:20260426T005631
CREATED:20251212T152902Z
LAST-MODIFIED:20251212T152902Z
UID:10001188-1768636800-1768669200@judokano.be
SUMMARY:Tournoi de Lendelede U9 U11 U13
DESCRIPTION:2026-01-17 Lendelede\nbro_020dc65d826aaf15d8e3622392f4206d_10966\n\n	Remarque : JavaScript est requis pour ce contenu.
URL:http://judokano.be/event/tournoi-de-lendelede-u9-u11-u13/
LOCATION:Lendelede\, Sporthal Steuren Ambacht\, Lendelede
CATEGORIES:Compétitions
END:VEVENT
BEGIN:VEVENT
DTSTART;TZID=Europe/Paris:20260116T210000
DTEND;TZID=Europe/Paris:20260116T230000
DTSTAMP:20260426T005631
CREATED:20251222T122502Z
LAST-MODIFIED:20251222T122502Z
UID:10001200-1768597200-1768604400@judokano.be
SUMMARY:Drink de nouvel an
DESCRIPTION:
URL:http://judokano.be/event/drink-de-nouvel-an/
LOCATION:KanoTournai\, 76 rue Roc Saint-Nicaise\, Tournai\, 7500\, Belgique
CATEGORIES:Activités
ATTACH;FMTTYPE=image/png:http://judokano.be/wp-content/uploads/2025/12/kagami.png
END:VEVENT
BEGIN:VEVENT
DTSTART;TZID=Europe/Paris:20260116T173000
DTEND;TZID=Europe/Paris:20260116T210000
DTSTAMP:20260426T005631
CREATED:20241217T172523Z
LAST-MODIFIED:20241218T065600Z
UID:10001071-1768584600-1768597200@judokano.be
SUMMARY:Entrainement judo
DESCRIPTION:U07-U09: 17h30-18h30 \nU11-U13: 18h30-19h30 \nU15+ : 19h30-21h00
URL:http://judokano.be/event/entrainement-judo-2/2026-01-16/
LOCATION:KanoTournai\, 76 rue Roc Saint-Nicaise\, Tournai\, 7500\, Belgique
CATEGORIES:Cours
END:VEVENT
BEGIN:VEVENT
DTSTART;TZID=Europe/Paris:20260114T170000
DTEND;TZID=Europe/Paris:20260114T203000
DTSTAMP:20260426T005631
CREATED:20241217T172349Z
LAST-MODIFIED:20241217T173204Z
UID:10000993-1768410000-1768422600@judokano.be
SUMMARY:Entrainement Judo
DESCRIPTION:U7-U9: 17h00-18h00 \nU11-U13: 18h00-19h00 \nU15+ : 19h00-20h30
URL:http://judokano.be/event/entrainement-judo/2026-01-14/
LOCATION:KanoTournai\, 76 rue Roc Saint-Nicaise\, Tournai\, 7500\, Belgique
CATEGORIES:Cours
END:VEVENT
BEGIN:VEVENT
DTSTART;TZID=Europe/Paris:20260109T173000
DTEND;TZID=Europe/Paris:20260109T210000
DTSTAMP:20260426T005631
CREATED:20241217T172523Z
LAST-MODIFIED:20241218T065600Z
UID:10001070-1767979800-1767992400@judokano.be
SUMMARY:Entrainement judo
DESCRIPTION:U07-U09: 17h30-18h30 \nU11-U13: 18h30-19h30 \nU15+ : 19h30-21h00
URL:http://judokano.be/event/entrainement-judo-2/2026-01-09/
LOCATION:KanoTournai\, 76 rue Roc Saint-Nicaise\, Tournai\, 7500\, Belgique
CATEGORIES:Cours
END:VEVENT
BEGIN:VEVENT
DTSTART;TZID=Europe/Paris:20260107T170000
DTEND;TZID=Europe/Paris:20260107T203000
DTSTAMP:20260426T005631
CREATED:20241217T172349Z
LAST-MODIFIED:20241217T173204Z
UID:10000992-1767805200-1767817800@judokano.be
SUMMARY:Entrainement Judo
DESCRIPTION:U7-U9: 17h00-18h00 \nU11-U13: 18h00-19h00 \nU15+ : 19h00-20h30
URL:http://judokano.be/event/entrainement-judo/2026-01-07/
LOCATION:KanoTournai\, 76 rue Roc Saint-Nicaise\, Tournai\, 7500\, Belgique
CATEGORIES:Cours
END:VEVENT
BEGIN:VEVENT
DTSTART;TZID=Europe/Paris:20260105T173000
DTEND;TZID=Europe/Paris:20260105T190000
DTSTAMP:20260426T005631
CREATED:20250908T125354Z
LAST-MODIFIED:20250908T125354Z
UID:10001159-1767634200-1767639600@judokano.be
SUMMARY:Session Uchikomis
DESCRIPTION:
URL:http://judokano.be/event/session-uchikomis/2026-01-05/
LOCATION:KanoTournai\, 76 rue Roc Saint-Nicaise\, Tournai\, 7500\, Belgique
CATEGORIES:Cours
END:VEVENT
BEGIN:VEVENT
DTSTART;VALUE=DATE:20260103
DTEND;VALUE=DATE:20260104
DTSTAMP:20260426T005631
CREATED:20251204T144425Z
LAST-MODIFIED:20251204T144824Z
UID:10001182-1767398400-1767484799@judokano.be
SUMMARY:Stage de Koksijde U13/U15/U18/U21+
DESCRIPTION:Comme chaque année le KANO participera au stage de Koksijde. \nNous participerons à la journée du 3 janvier uniquement. \nSi des judokas sont intéressés aux 3 jours\, ils peuvent prendre directement contact avec l’organisation. \n__________________________________________________________________________________________- \nPour la journée du 3 janvier: cout: 30€ \nPrévoir sa nourriture. Le Kano offre la glace ou la gaufre 😉 \nHoraire du Samedi: \n9.00 – 10:45  Randoritraining groupe 1 U13/U15 \n11:00-13:00    Randoritraining groupe 2 U18/+18 \n14:30-16:30    Training Technique + Randoritraining GROUPE 1 U13/U15 \n16.45 – 19.00  Training Technique + Randoritraining GROUPE 2 U18/+18 \n___________________________________________________________________________________________________________ \n\n	Remarque : JavaScript est requis pour ce contenu.\n\n\n    \n\n\n        \n        \n        \n 
URL:http://judokano.be/event/stage-de-koksijde-u13-u15-u18-u21/
LOCATION:Koksijde\, Koksijde\, Belgique
CATEGORIES:Cours extérieur
END:VEVENT
BEGIN:VEVENT
DTSTART;TZID=Europe/Paris:20251228T080000
DTEND;TZID=Europe/Paris:20251228T170000
DTSTAMP:20260426T005631
CREATED:20251204T131050Z
LAST-MODIFIED:20251204T131409Z
UID:10001181-1766908800-1766941200@judokano.be
SUMMARY:Xmas Training Randori en Musique & Lumière
DESCRIPTION:6-12 ans : 18:45 -19:45+12 ans : 20:00-21:30 \n  \n\n	Remarque : JavaScript est requis pour ce contenu.
URL:http://judokano.be/event/216177/
LOCATION:Houthulst\, Paardedreef 6\, Houthulst\, 8650
CATEGORIES:Cours extérieur
END:VEVENT
BEGIN:VEVENT
DTSTART;TZID=Europe/Paris:20251221T183000
DTEND;TZID=Europe/Paris:20251221T200000
DTSTAMP:20260426T005631
CREATED:20251208T170820Z
LAST-MODIFIED:20251208T170820Z
UID:10001183-1766341800-1766347200@judokano.be
SUMMARY:Repas d'interclubs
DESCRIPTION:🥋 Après l’effort\, le réconfort : Le grand repas du Kano Tournai !\nChers judokas\, parents\, bénévoles et supporters\, \nLa saison des Interclubs 2025 vient de s’achever\, et quelle saison ! \nNos équipes ont porté haut les couleurs du Kano Tournai Royal J.C. sur tous les tatamis de Belgique. De l’Or magnifique de nos Dames en D1 au Bronze arraché par notre équipe D3\, sans oublier la combativité exemplaire de nos équipes Hommes… chaque combattant a mouillé le judogi avec fierté. \nMais le judo\, c’est aussi ce qui se passe en dehors du tapis : l’amitié\, la convivialité et le partage. \nC’est pourquoi nous vous invitons à célébrer ces belles victoires et à renforcer notre esprit d’équipe autour d’un bon repas. \n  \n\n	Remarque : JavaScript est requis pour ce contenu.
URL:http://judokano.be/event/repas-dinterclubs/
LOCATION:O Burger Prince\, Place du Préau 6\, antoing\, 7640\, Belgium
CATEGORIES:Activités
END:VEVENT
BEGIN:VEVENT
DTSTART;TZID=Europe/Paris:20251220T080000
DTEND;TZID=Europe/Paris:20251220T170000
DTSTAMP:20260426T005631
CREATED:20251126T091621Z
LAST-MODIFIED:20251126T091744Z
UID:10001170-1766217600-1766250000@judokano.be
SUMMARY:Forges Les Eaux - Label A
DESCRIPTION:  \nPlaquette Cadets Crédit agricole FORGES LES EAUX-R\n\n	Remarque : JavaScript est requis pour ce contenu.
URL:http://judokano.be/event/forges-les-eaux-label-a/
LOCATION:Forges-Les-Eaux\, Forges-Les-Eaux\, France
CATEGORIES:Compétitions
END:VEVENT
BEGIN:VEVENT
DTSTART;VALUE=DATE:20251220
DTEND;VALUE=DATE:20260105
DTSTAMP:20260426T005631
CREATED:20241218T065835Z
LAST-MODIFIED:20241218T065835Z
UID:10001096-1766188800-1767571199@judokano.be
SUMMARY:Congé d'hiver
DESCRIPTION:
URL:http://judokano.be/event/conge-dhiver/
LOCATION:KanoTournai\, 76 rue Roc Saint-Nicaise\, Tournai\, 7500\, Belgique
CATEGORIES:Fermé
END:VEVENT
BEGIN:VEVENT
DTSTART;TZID=Europe/Paris:20251219T173000
DTEND;TZID=Europe/Paris:20251219T210000
DTSTAMP:20260426T005631
CREATED:20241217T172523Z
LAST-MODIFIED:20241218T065600Z
UID:10001067-1766165400-1766178000@judokano.be
SUMMARY:Entrainement judo
DESCRIPTION:U07-U09: 17h30-18h30 \nU11-U13: 18h30-19h30 \nU15+ : 19h30-21h00
URL:http://judokano.be/event/entrainement-judo-2/2025-12-19/
LOCATION:KanoTournai\, 76 rue Roc Saint-Nicaise\, Tournai\, 7500\, Belgique
CATEGORIES:Cours
END:VEVENT
BEGIN:VEVENT
DTSTART;TZID=Europe/Paris:20251217T170000
DTEND;TZID=Europe/Paris:20251217T203000
DTSTAMP:20260426T005631
CREATED:20241217T172349Z
LAST-MODIFIED:20241217T173204Z
UID:10000989-1765990800-1766003400@judokano.be
SUMMARY:Entrainement Judo
DESCRIPTION:U7-U9: 17h00-18h00 \nU11-U13: 18h00-19h00 \nU15+ : 19h00-20h30
URL:http://judokano.be/event/entrainement-judo/2025-12-17/
LOCATION:KanoTournai\, 76 rue Roc Saint-Nicaise\, Tournai\, 7500\, Belgique
CATEGORIES:Cours
END:VEVENT
BEGIN:VEVENT
DTSTART;TZID=Europe/Paris:20251215T173000
DTEND;TZID=Europe/Paris:20251215T190000
DTSTAMP:20260426T005631
CREATED:20250908T125120Z
LAST-MODIFIED:20250908T125256Z
UID:10001148-1765819800-1765825200@judokano.be
SUMMARY:Cours Kata & Uchikomis
DESCRIPTION:
URL:http://judokano.be/event/cours-kata-3/2025-12-15/
LOCATION:KanoTournai\, 76 rue Roc Saint-Nicaise\, Tournai\, 7500\, Belgique
CATEGORIES:Cours
END:VEVENT
BEGIN:VEVENT
DTSTART;TZID=Europe/Paris:20251213T080000
DTEND;TZID=Europe/Paris:20251213T170000
DTSTAMP:20260426T005631
CREATED:20251126T091308Z
LAST-MODIFIED:20251126T091308Z
UID:10001169-1765612800-1765645200@judokano.be
SUMMARY:Tournoi de Woluwe
DESCRIPTION:Pesée U11: 8h à 8h45 – Combats 9h15 \nPesée U13: 11h45 à 12h15 \nPsée U15: 14h30 à 15h15 \n  \nEnsuite le marché de Noel de Bruxelles ? \n\n	Remarque : JavaScript est requis pour ce contenu.
URL:http://judokano.be/event/tournoi-de-woluwe-2/
LOCATION:Woluwe\, 2 avenue des Vaillants\, Woluwe-Saint-Lambert\, 1200\, Belgium
CATEGORIES:Compétitions
END:VEVENT
BEGIN:VEVENT
DTSTART;TZID=Europe/Paris:20251212T173000
DTEND;TZID=Europe/Paris:20251212T210000
DTSTAMP:20260426T005631
CREATED:20241217T172523Z
LAST-MODIFIED:20241218T065600Z
UID:10001066-1765560600-1765573200@judokano.be
SUMMARY:Entrainement judo
DESCRIPTION:U07-U09: 17h30-18h30 \nU11-U13: 18h30-19h30 \nU15+ : 19h30-21h00
URL:http://judokano.be/event/entrainement-judo-2/2025-12-12/
LOCATION:KanoTournai\, 76 rue Roc Saint-Nicaise\, Tournai\, 7500\, Belgique
CATEGORIES:Cours
END:VEVENT
BEGIN:VEVENT
DTSTART;TZID=Europe/Paris:20251210T170000
DTEND;TZID=Europe/Paris:20251210T203000
DTSTAMP:20260426T005631
CREATED:20241217T172349Z
LAST-MODIFIED:20241217T173204Z
UID:10000988-1765386000-1765398600@judokano.be
SUMMARY:Entrainement Judo
DESCRIPTION:U7-U9: 17h00-18h00 \nU11-U13: 18h00-19h00 \nU15+ : 19h00-20h30
URL:http://judokano.be/event/entrainement-judo/2025-12-10/
LOCATION:KanoTournai\, 76 rue Roc Saint-Nicaise\, Tournai\, 7500\, Belgique
CATEGORIES:Cours
END:VEVENT
BEGIN:VEVENT
DTSTART;VALUE=DATE:20251207
DTEND;VALUE=DATE:20251208
DTSTAMP:20260426T005631
CREATED:20250804T151416Z
LAST-MODIFIED:20251102T173016Z
UID:10001143-1765065600-1765151999@judokano.be
SUMMARY:Tournoi de St Nicolas à Lichtervelde
DESCRIPTION:Remarque : JavaScript est requis pour ce contenu.
URL:http://judokano.be/event/tournoi-de-st-nicolas-a-lichtervelde/
LOCATION:Lichtervelde\, Zandstraat 13\, Lichtervelde\, 8810\, Belgique
CATEGORIES:Compétitions
END:VEVENT
BEGIN:VEVENT
DTSTART;TZID=Europe/Paris:20251205T173000
DTEND;TZID=Europe/Paris:20251205T210000
DTSTAMP:20260426T005631
CREATED:20251126T084347Z
LAST-MODIFIED:20251126T084347Z
UID:10001168-1764955800-1764968400@judokano.be
SUMMARY:Visite de St Nicolas
DESCRIPTION:
URL:http://judokano.be/event/visite-de-st-nicolas/
LOCATION:KanoTournai\, 76 rue Roc Saint-Nicaise\, Tournai\, 7500\, Belgique
CATEGORIES:Activités,Tous
END:VEVENT
END:VCALENDAR