BEGIN:VCALENDAR
VERSION:2.0
PRODID:-//KanoTournai - ECPv6.15.20//NONSGML v1.0//EN
CALSCALE:GREGORIAN
METHOD:PUBLISH
X-ORIGINAL-URL:http://judokano.be
X-WR-CALDESC:Évènements pour KanoTournai
REFRESH-INTERVAL;VALUE=DURATION:PT1H
X-Robots-Tag:noindex
X-PUBLISHED-TTL:PT1H
BEGIN:VTIMEZONE
TZID:Europe/Paris
BEGIN:DAYLIGHT
TZOFFSETFROM:+0100
TZOFFSETTO:+0200
TZNAME:CEST
DTSTART:20250330T010000
END:DAYLIGHT
BEGIN:STANDARD
TZOFFSETFROM:+0200
TZOFFSETTO:+0100
TZNAME:CET
DTSTART:20251026T010000
END:STANDARD
BEGIN:DAYLIGHT
TZOFFSETFROM:+0100
TZOFFSETTO:+0200
TZNAME:CEST
DTSTART:20260329T010000
END:DAYLIGHT
BEGIN:STANDARD
TZOFFSETFROM:+0200
TZOFFSETTO:+0100
TZNAME:CET
DTSTART:20261025T010000
END:STANDARD
BEGIN:DAYLIGHT
TZOFFSETFROM:+0100
TZOFFSETTO:+0200
TZNAME:CEST
DTSTART:20270328T010000
END:DAYLIGHT
BEGIN:STANDARD
TZOFFSETFROM:+0200
TZOFFSETTO:+0100
TZNAME:CET
DTSTART:20271031T010000
END:STANDARD
END:VTIMEZONE
BEGIN:VEVENT
DTSTART;VALUE=DATE:20260314
DTEND;VALUE=DATE:20260316
DTSTAMP:20260425T213427
CREATED:20251204T073721Z
LAST-MODIFIED:20251204T073721Z
UID:10001171-1773446400-1773619199@judokano.be
SUMMARY:Stage International Soeverein U15 U18 U21+
DESCRIPTION:3rd International IHJA Soeverein Training Camp\nInfos: https://ihja.be/ \n  \n 
URL:http://judokano.be/event/stage-international-soeverein-u15-u18-u21/
LOCATION:Lommel\, Sportveldenstraat 10\, Lommel\, 3920\, Belgium
CATEGORIES:Activités
END:VEVENT
BEGIN:VEVENT
DTSTART;VALUE=DATE:20260314
DTEND;VALUE=DATE:20260315
DTSTAMP:20260425T213427
CREATED:20251222T110140Z
LAST-MODIFIED:20251222T110140Z
UID:10001197-1773446400-1773532799@judokano.be
SUMMARY:Grand Prix de Soignies
DESCRIPTION:Remarque : JavaScript est requis pour ce contenu.
URL:http://judokano.be/event/grand-prix-de-soignies-3/
LOCATION:Soignies\, rue cognebeau\, soignies\, Belgique
CATEGORIES:Compétitions
END:VEVENT
BEGIN:VEVENT
DTSTART;TZID=Europe/Paris:20260313T173000
DTEND;TZID=Europe/Paris:20260313T210000
DTSTAMP:20260425T213427
CREATED:20241217T172523Z
LAST-MODIFIED:20241218T065600Z
UID:10001079-1773423000-1773435600@judokano.be
SUMMARY:Entrainement judo
DESCRIPTION:U07-U09: 17h30-18h30 \nU11-U13: 18h30-19h30 \nU15+ : 19h30-21h00
URL:http://judokano.be/event/entrainement-judo-2/2026-03-13/
LOCATION:KanoTournai\, 76 rue Roc Saint-Nicaise\, Tournai\, 7500\, Belgique
CATEGORIES:Cours
END:VEVENT
BEGIN:VEVENT
DTSTART;TZID=Europe/Paris:20260311T170000
DTEND;TZID=Europe/Paris:20260311T203000
DTSTAMP:20260425T213427
CREATED:20241217T172349Z
LAST-MODIFIED:20241217T173204Z
UID:10001001-1773248400-1773261000@judokano.be
SUMMARY:Entrainement Judo
DESCRIPTION:U7-U9: 17h00-18h00 \nU11-U13: 18h00-19h00 \nU15+ : 19h00-20h30
URL:http://judokano.be/event/entrainement-judo/2026-03-11/
LOCATION:KanoTournai\, 76 rue Roc Saint-Nicaise\, Tournai\, 7500\, Belgique
CATEGORIES:Cours
END:VEVENT
BEGIN:VEVENT
DTSTART;TZID=Europe/Paris:20260306T173000
DTEND;TZID=Europe/Paris:20260306T210000
DTSTAMP:20260425T213427
CREATED:20241217T172523Z
LAST-MODIFIED:20241218T065600Z
UID:10001078-1772818200-1772830800@judokano.be
SUMMARY:Entrainement judo
DESCRIPTION:U07-U09: 17h30-18h30 \nU11-U13: 18h30-19h30 \nU15+ : 19h30-21h00
URL:http://judokano.be/event/entrainement-judo-2/2026-03-06/
LOCATION:KanoTournai\, 76 rue Roc Saint-Nicaise\, Tournai\, 7500\, Belgique
CATEGORIES:Cours
END:VEVENT
BEGIN:VEVENT
DTSTART;TZID=Europe/Paris:20260304T170000
DTEND;TZID=Europe/Paris:20260304T203000
DTSTAMP:20260425T213427
CREATED:20241217T172349Z
LAST-MODIFIED:20241217T173204Z
UID:10001000-1772643600-1772656200@judokano.be
SUMMARY:Entrainement Judo
DESCRIPTION:U7-U9: 17h00-18h00 \nU11-U13: 18h00-19h00 \nU15+ : 19h00-20h30
URL:http://judokano.be/event/entrainement-judo/2026-03-04/
LOCATION:KanoTournai\, 76 rue Roc Saint-Nicaise\, Tournai\, 7500\, Belgique
CATEGORIES:Cours
END:VEVENT
BEGIN:VEVENT
DTSTART;TZID=Europe/Paris:20260302T173000
DTEND;TZID=Europe/Paris:20260302T190000
DTSTAMP:20260425T213427
CREATED:20250908T125354Z
LAST-MODIFIED:20250908T125354Z
UID:10001161-1772472600-1772478000@judokano.be
SUMMARY:Session Uchikomis
DESCRIPTION:
URL:http://judokano.be/event/session-uchikomis/2026-03-02/
LOCATION:KanoTournai\, 76 rue Roc Saint-Nicaise\, Tournai\, 7500\, Belgique
CATEGORIES:Cours
END:VEVENT
BEGIN:VEVENT
DTSTART;VALUE=DATE:20260301
DTEND;VALUE=DATE:20260302
DTSTAMP:20260425T213427
CREATED:20251222T103759Z
LAST-MODIFIED:20251222T103759Z
UID:10001195-1772323200-1772409599@judokano.be
SUMMARY:Tournoi d'Ingelmunster U11 U13
DESCRIPTION:Ingelmunster 260301\n  \n\n	Remarque : JavaScript est requis pour ce contenu.
URL:http://judokano.be/event/tournoi-dingelmunster-u11-u13/
LOCATION:Ingelmunster\, Ingelmunster\, Belgique
CATEGORIES:Compétitions
END:VEVENT
BEGIN:VEVENT
DTSTART;VALUE=DATE:20260228
DTEND;VALUE=DATE:20260301
DTSTAMP:20260425T213427
CREATED:20251222T103705Z
LAST-MODIFIED:20251222T103705Z
UID:10001194-1772236800-1772323199@judokano.be
SUMMARY:Tournoi d'Ingelmunster U18 U21+
DESCRIPTION:ingelmunster 280226\n\n	Remarque : JavaScript est requis pour ce contenu.\n\n\n    \n\n\n        \n        \n        \n 
URL:http://judokano.be/event/tournoi-dingelmunster-u18-u21/
LOCATION:Ingelmunster\, Ingelmunster\, Belgique
CATEGORIES:Compétitions
END:VEVENT
BEGIN:VEVENT
DTSTART;TZID=Europe/Paris:20260227T173000
DTEND;TZID=Europe/Paris:20260227T210000
DTSTAMP:20260425T213427
CREATED:20241217T172523Z
LAST-MODIFIED:20241218T065600Z
UID:10001077-1772213400-1772226000@judokano.be
SUMMARY:Entrainement judo
DESCRIPTION:U07-U09: 17h30-18h30 \nU11-U13: 18h30-19h30 \nU15+ : 19h30-21h00
URL:http://judokano.be/event/entrainement-judo-2/2026-02-27/
LOCATION:KanoTournai\, 76 rue Roc Saint-Nicaise\, Tournai\, 7500\, Belgique
CATEGORIES:Cours
END:VEVENT
BEGIN:VEVENT
DTSTART;TZID=Europe/Paris:20260225T170000
DTEND;TZID=Europe/Paris:20260225T203000
DTSTAMP:20260425T213427
CREATED:20241217T172349Z
LAST-MODIFIED:20241217T173204Z
UID:10000999-1772038800-1772051400@judokano.be
SUMMARY:Entrainement Judo
DESCRIPTION:U7-U9: 17h00-18h00 \nU11-U13: 18h00-19h00 \nU15+ : 19h00-20h30
URL:http://judokano.be/event/entrainement-judo/2026-02-25/
LOCATION:KanoTournai\, 76 rue Roc Saint-Nicaise\, Tournai\, 7500\, Belgique
CATEGORIES:Cours
END:VEVENT
BEGIN:VEVENT
DTSTART;TZID=Europe/Paris:20260221T080000
DTEND;TZID=Europe/Paris:20260221T170000
DTSTAMP:20260425T213427
CREATED:20251222T102953Z
LAST-MODIFIED:20251222T102953Z
UID:10001193-1771660800-1771693200@judokano.be
SUMMARY:Izegem 4 Kids (U11 U13)
DESCRIPTION:izegem4kids26\n\n	Remarque : JavaScript est requis pour ce contenu.
URL:http://judokano.be/event/izegem-4-kids-u11-u13/
LOCATION:izegem\, Heilig Hartstraat 15\, Izegem\, 8870\, Belgium
CATEGORIES:Compétitions
END:VEVENT
BEGIN:VEVENT
DTSTART;TZID=Europe/Paris:20260220T173000
DTEND;TZID=Europe/Paris:20260220T210000
DTSTAMP:20260425T213427
CREATED:20241217T172523Z
LAST-MODIFIED:20241218T065600Z
UID:10001076-1771608600-1771621200@judokano.be
SUMMARY:Entrainement judo
DESCRIPTION:U07-U09: 17h30-18h30 \nU11-U13: 18h30-19h30 \nU15+ : 19h30-21h00
URL:http://judokano.be/event/entrainement-judo-2/2026-02-20/
LOCATION:KanoTournai\, 76 rue Roc Saint-Nicaise\, Tournai\, 7500\, Belgique
CATEGORIES:Cours
END:VEVENT
BEGIN:VEVENT
DTSTART;TZID=Europe/Paris:20260218T170000
DTEND;TZID=Europe/Paris:20260218T203000
DTSTAMP:20260425T213427
CREATED:20241217T172349Z
LAST-MODIFIED:20241217T173204Z
UID:10000998-1771434000-1771446600@judokano.be
SUMMARY:Entrainement Judo
DESCRIPTION:U7-U9: 17h00-18h00 \nU11-U13: 18h00-19h00 \nU15+ : 19h00-20h30
URL:http://judokano.be/event/entrainement-judo/2026-02-18/
LOCATION:KanoTournai\, 76 rue Roc Saint-Nicaise\, Tournai\, 7500\, Belgique
CATEGORIES:Cours
END:VEVENT
BEGIN:VEVENT
DTSTART;TZID=Europe/Paris:20260216T173000
DTEND;TZID=Europe/Paris:20260216T190000
DTSTAMP:20260425T213427
CREATED:20250908T125120Z
LAST-MODIFIED:20250908T125256Z
UID:10001150-1771263000-1771268400@judokano.be
SUMMARY:Cours Kata & Uchikomis
DESCRIPTION:
URL:http://judokano.be/event/cours-kata-3/2026-02-16/
LOCATION:KanoTournai\, 76 rue Roc Saint-Nicaise\, Tournai\, 7500\, Belgique
CATEGORIES:Cours
END:VEVENT
BEGIN:VEVENT
DTSTART;VALUE=DATE:20260216
DTEND;VALUE=DATE:20260221
DTSTAMP:20260425T213427
CREATED:20251222T100015Z
LAST-MODIFIED:20251222T101203Z
UID:10001189-1771200000-1771631999@judokano.be
SUMMARY:Stage de Février 2026 : Judo\, Fun et Camaraderie sur le Tatami !
DESCRIPTION:🥋 Le rendez-vous des vacances à ne pas manquer ! \nDu lundi 16 au vendredi 20 février 2026\, nous accueillons vos enfants pour un stage dynamique et convivial. Que ce soit pour perfectionner une technique ou découvrir le plaisir de monter sur un tatami pour la première fois\, cette semaine est faite pour eux ! \n👶 Pour qui ? Ce stage est ouvert à TOUS les enfants âgés de 5 à 12 ans inclus. \n\n\nVos enfants sont déjà judokas ? Ils renforceront leurs acquis et partageront leur passion avec les copains. \n\n\nIls n’ont jamais fait de judo ? C’est l’occasion idéale ! Nos professeurs diplômés leur feront découvrir la discipline de manière ludique et sécurisée. \n\n\nLe petit plus : Pas besoin d’acheter d’équipement ! Le club prête un kimono (tenue de judo) à votre enfant pour toute la durée du stage. Il pourra ainsi vivre l’expérience à 100% comme un vrai petit judoka. \n\n\n\n\n🎉 Au programme de la semaine : \nBien plus qu’un simple stage sportif\, nous proposons une véritable aventure collective : \n\n\nSessions Judo adaptées : Jeux d’opposition\, apprentissage des chutes (ukemi)\, techniques au sol et debout\, le tout dans le respect du code moral du judo. \n\n\nMulti-activités : Parce qu’il faut varier les plaisirs ! L’après-midi laissera place à des grands jeux collectifs\, des activités sportives variées et des temps calmes. \n\n\nEsprit d’équipe : De nouvelles amitiés et des souvenirs garantis. \n\n\n\n📅 Infos Pratiques en un coup d’œil : \n\n\nDates : Du lundi 16 au vendredi 20 février 2026. \n\n\nLieu : Au dojo du club \n\n\nHoraires : De 09h00 à 16h00 (Accueil dès 08h30). \n\n\nRepas : Prévoir un pique-nique pour le midi. N’oubliez pas la gourde et une collation ! \n\n\n💶 Tarifs pour la semaine complète : \n\n\nMembres du club : 70 € \n\n\nNon-membres (extérieurs) : 75 € \n\n\n\n🚀 Comment s’inscrire ? \nAttention\, pour garantir la qualité de l’encadrement\, les places sont limitées ! \n\n\nInscription ci-dessous \n\n\nContact : Pour toute question\, écrivez-nous à info@judokano.be \n\n\nÀ très vite sur le tatami ! \n\n	Remarque : JavaScript est requis pour ce contenu.\nLe Stage est complet.
URL:http://judokano.be/event/stage-de-fevrier-2026-judo-fun-et-camaraderie-sur-le-tatami/
LOCATION:KanoTournai\, 76 rue Roc Saint-Nicaise\, Tournai\, 7500\, Belgique
CATEGORIES:Activités
ATTACH;FMTTYPE=image/png:http://judokano.be/wp-content/uploads/2025/12/stagefev.png
END:VEVENT
BEGIN:VEVENT
DTSTART;VALUE=DATE:20260214
DTEND;VALUE=DATE:20260302
DTSTAMP:20260425T213427
CREATED:20241218T065941Z
LAST-MODIFIED:20241218T065941Z
UID:10001097-1771027200-1772409599@judokano.be
SUMMARY:Congé de détente
DESCRIPTION:
URL:http://judokano.be/event/conge-de-detente/
LOCATION:KanoTournai\, 76 rue Roc Saint-Nicaise\, Tournai\, 7500\, Belgique
CATEGORIES:Fermé
END:VEVENT
BEGIN:VEVENT
DTSTART;VALUE=DATE:20260214
DTEND;VALUE=DATE:20260215
DTSTAMP:20260425T213427
CREATED:20251222T102623Z
LAST-MODIFIED:20260102T133032Z
UID:10001192-1771027200-1771113599@judokano.be
SUMMARY:Championnat de Belgique
DESCRIPTION:
URL:http://judokano.be/event/championnat-de-belgique-2/
LOCATION:Tielt\, Tielt\, Belgique
CATEGORIES:Compétitions
END:VEVENT
BEGIN:VEVENT
DTSTART;TZID=Europe/Paris:20260213T173000
DTEND;TZID=Europe/Paris:20260213T210000
DTSTAMP:20260425T213427
CREATED:20241217T172523Z
LAST-MODIFIED:20241218T065600Z
UID:10001075-1771003800-1771016400@judokano.be
SUMMARY:Entrainement judo
DESCRIPTION:U07-U09: 17h30-18h30 \nU11-U13: 18h30-19h30 \nU15+ : 19h30-21h00
URL:http://judokano.be/event/entrainement-judo-2/2026-02-13/
LOCATION:KanoTournai\, 76 rue Roc Saint-Nicaise\, Tournai\, 7500\, Belgique
CATEGORIES:Cours
END:VEVENT
BEGIN:VEVENT
DTSTART;TZID=Europe/Paris:20260211T170000
DTEND;TZID=Europe/Paris:20260211T203000
DTSTAMP:20260425T213427
CREATED:20241217T172349Z
LAST-MODIFIED:20241217T173204Z
UID:10000997-1770829200-1770841800@judokano.be
SUMMARY:Entrainement Judo
DESCRIPTION:U7-U9: 17h00-18h00 \nU11-U13: 18h00-19h00 \nU15+ : 19h00-20h30
URL:http://judokano.be/event/entrainement-judo/2026-02-11/
LOCATION:KanoTournai\, 76 rue Roc Saint-Nicaise\, Tournai\, 7500\, Belgique
CATEGORIES:Cours
END:VEVENT
BEGIN:VEVENT
DTSTART;VALUE=DATE:20260207
DTEND;VALUE=DATE:20260209
DTSTAMP:20260425T213427
CREATED:20251222T102537Z
LAST-MODIFIED:20251222T102537Z
UID:10001191-1770422400-1770595199@judokano.be
SUMMARY:Championnat Régional Jeunes 2026
DESCRIPTION:
URL:http://judokano.be/event/championnat-regional-jeunes-2026/
LOCATION:Herstal\, rue Emile Muraille\, 158\, Herstal\, 4040\, Belgium
CATEGORIES:Compétitions
END:VEVENT
BEGIN:VEVENT
DTSTART;TZID=Europe/Paris:20260206T173000
DTEND;TZID=Europe/Paris:20260206T210000
DTSTAMP:20260425T213427
CREATED:20241217T172523Z
LAST-MODIFIED:20241218T065600Z
UID:10001074-1770399000-1770411600@judokano.be
SUMMARY:Entrainement judo
DESCRIPTION:U07-U09: 17h30-18h30 \nU11-U13: 18h30-19h30 \nU15+ : 19h30-21h00
URL:http://judokano.be/event/entrainement-judo-2/2026-02-06/
LOCATION:KanoTournai\, 76 rue Roc Saint-Nicaise\, Tournai\, 7500\, Belgique
CATEGORIES:Cours
END:VEVENT
BEGIN:VEVENT
DTSTART;TZID=Europe/Paris:20260204T170000
DTEND;TZID=Europe/Paris:20260204T203000
DTSTAMP:20260425T213427
CREATED:20241217T172349Z
LAST-MODIFIED:20241217T173204Z
UID:10000996-1770224400-1770237000@judokano.be
SUMMARY:Entrainement Judo
DESCRIPTION:U7-U9: 17h00-18h00 \nU11-U13: 18h00-19h00 \nU15+ : 19h00-20h30
URL:http://judokano.be/event/entrainement-judo/2026-02-04/
LOCATION:KanoTournai\, 76 rue Roc Saint-Nicaise\, Tournai\, 7500\, Belgique
CATEGORIES:Cours
END:VEVENT
BEGIN:VEVENT
DTSTART;TZID=Europe/Paris:20260202T173000
DTEND;TZID=Europe/Paris:20260202T190000
DTSTAMP:20260425T213427
CREATED:20250908T125354Z
LAST-MODIFIED:20250908T125354Z
UID:10001160-1770053400-1770058800@judokano.be
SUMMARY:Session Uchikomis
DESCRIPTION:
URL:http://judokano.be/event/session-uchikomis/2026-02-02/
LOCATION:KanoTournai\, 76 rue Roc Saint-Nicaise\, Tournai\, 7500\, Belgique
CATEGORIES:Cours
END:VEVENT
BEGIN:VEVENT
DTSTART;TZID=Europe/Paris:20260131T170000
DTEND;TZID=Europe/Paris:20260131T190000
DTSTAMP:20260425T213427
CREATED:20251204T125052Z
LAST-MODIFIED:20260227T081052Z
UID:10001172-1769878800-1769886000@judokano.be
SUMMARY:Randori Training
DESCRIPTION:Dès 2026\, le Kano Tournai lance un nouveau rendez-vous incontournable pour les judokas à la recherche de volume et d’intensité. Une fois par mois\, nous vous proposons un Randori Training pur\, fidèle à la tradition de l’entraînement à la japonaise. \nL’objectif est clair : travailler le cardio\, la résistance et la technique en situation de fatigue\, sans temps morts inutiles. C’est l’occasion idéale de se tester et de progresser dans une ambiance de travail studieuse et martiale. \nAu programme de cette session : Le format est dense et conçu pour l’endurance. \n\n\nTachi-waza (Debout) : 10 randoris de 5 à 6 minutes. \n\n\nNe-waza (Sol) : 5 randoris. \n\n\nCe cours est ouvert aux judokas motivés (Cadets\, Juniors\, Seniors) prêts à relever le défi physique. \nInfos pratiques : \n\n\n📅 Date : Samedi 31 janvier 2026 (Première édition !) \n\n\n📍 Lieu : Kano Tournai \n\n\n🥋 Équipement : Judogi (et de quoi s’hydrater !) \n\n\nVenez nombreux pour partager l’effort et la passion du Judo.
URL:http://judokano.be/event/randori-training/2026-01-31/
LOCATION:KanoTournai\, 76 rue Roc Saint-Nicaise\, Tournai\, 7500\, Belgique
CATEGORIES:Cours
ATTACH;FMTTYPE=image/png:http://judokano.be/wp-content/uploads/2025/12/randoriT.png
END:VEVENT
BEGIN:VEVENT
DTSTART;TZID=Europe/Paris:20260131T080000
DTEND;TZID=Europe/Paris:20260131T170000
DTSTAMP:20260425T213427
CREATED:20251222T102237Z
LAST-MODIFIED:20251222T102251Z
UID:10001190-1769846400-1769878800@judokano.be
SUMMARY:Tournoi de Haubourdin (FR) U11 U13
DESCRIPTION:117756_plaquette compétition JCH 2026 - Haubourdin\n  \n\n	Remarque : JavaScript est requis pour ce contenu.
URL:http://judokano.be/event/tournoi-de-haubourdin-fr-u11-u13/
LOCATION:Haubourdin\, Avenue de Beaupré\, Haubourdin\, 59320\, France
CATEGORIES:Compétitions
END:VEVENT
BEGIN:VEVENT
DTSTART;TZID=Europe/Paris:20260130T173000
DTEND;TZID=Europe/Paris:20260130T210000
DTSTAMP:20260425T213427
CREATED:20241217T172523Z
LAST-MODIFIED:20241218T065600Z
UID:10001073-1769794200-1769806800@judokano.be
SUMMARY:Entrainement judo
DESCRIPTION:U07-U09: 17h30-18h30 \nU11-U13: 18h30-19h30 \nU15+ : 19h30-21h00
URL:http://judokano.be/event/entrainement-judo-2/2026-01-30/
LOCATION:KanoTournai\, 76 rue Roc Saint-Nicaise\, Tournai\, 7500\, Belgique
CATEGORIES:Cours
END:VEVENT
BEGIN:VEVENT
DTSTART;TZID=Europe/Paris:20260128T170000
DTEND;TZID=Europe/Paris:20260128T203000
DTSTAMP:20260425T213427
CREATED:20241217T172349Z
LAST-MODIFIED:20241217T173204Z
UID:10000995-1769619600-1769632200@judokano.be
SUMMARY:Entrainement Judo
DESCRIPTION:U7-U9: 17h00-18h00 \nU11-U13: 18h00-19h00 \nU15+ : 19h00-20h30
URL:http://judokano.be/event/entrainement-judo/2026-01-28/
LOCATION:KanoTournai\, 76 rue Roc Saint-Nicaise\, Tournai\, 7500\, Belgique
CATEGORIES:Cours
END:VEVENT
BEGIN:VEVENT
DTSTART;TZID=Europe/Paris:20260124T080000
DTEND;TZID=Europe/Paris:20260124T170000
DTSTAMP:20260425T213427
CREATED:20251212T152039Z
LAST-MODIFIED:20251212T152039Z
UID:10001186-1769241600-1769274000@judokano.be
SUMMARY:Championnat Provincial
DESCRIPTION:  \n  \n\n	Remarque : JavaScript est requis pour ce contenu.
URL:http://judokano.be/event/championnat-provincial/
LOCATION:Streppy Bracquegnies
CATEGORIES:Compétitions
END:VEVENT
BEGIN:VEVENT
DTSTART;TZID=Europe/Paris:20260123T173000
DTEND;TZID=Europe/Paris:20260123T210000
DTSTAMP:20260425T213428
CREATED:20241217T172523Z
LAST-MODIFIED:20241218T065600Z
UID:10001072-1769189400-1769202000@judokano.be
SUMMARY:Entrainement judo
DESCRIPTION:U07-U09: 17h30-18h30 \nU11-U13: 18h30-19h30 \nU15+ : 19h30-21h00
URL:http://judokano.be/event/entrainement-judo-2/2026-01-23/
LOCATION:KanoTournai\, 76 rue Roc Saint-Nicaise\, Tournai\, 7500\, Belgique
CATEGORIES:Cours
END:VEVENT
END:VCALENDAR