BEGIN:VCALENDAR
VERSION:2.0
PRODID:-//KanoTournai - ECPv6.15.20//NONSGML v1.0//EN
CALSCALE:GREGORIAN
METHOD:PUBLISH
X-ORIGINAL-URL:http://judokano.be
X-WR-CALDESC:Évènements pour KanoTournai
REFRESH-INTERVAL;VALUE=DURATION:PT1H
X-Robots-Tag:noindex
X-PUBLISHED-TTL:PT1H
BEGIN:VTIMEZONE
TZID:Europe/Paris
BEGIN:DAYLIGHT
TZOFFSETFROM:+0100
TZOFFSETTO:+0200
TZNAME:CEST
DTSTART:20250330T010000
END:DAYLIGHT
BEGIN:STANDARD
TZOFFSETFROM:+0200
TZOFFSETTO:+0100
TZNAME:CET
DTSTART:20251026T010000
END:STANDARD
BEGIN:DAYLIGHT
TZOFFSETFROM:+0100
TZOFFSETTO:+0200
TZNAME:CEST
DTSTART:20260329T010000
END:DAYLIGHT
BEGIN:STANDARD
TZOFFSETFROM:+0200
TZOFFSETTO:+0100
TZNAME:CET
DTSTART:20261025T010000
END:STANDARD
BEGIN:DAYLIGHT
TZOFFSETFROM:+0100
TZOFFSETTO:+0200
TZNAME:CEST
DTSTART:20270328T010000
END:DAYLIGHT
BEGIN:STANDARD
TZOFFSETFROM:+0200
TZOFFSETTO:+0100
TZNAME:CET
DTSTART:20271031T010000
END:STANDARD
END:VTIMEZONE
BEGIN:VEVENT
DTSTART;VALUE=DATE:20260425
DTEND;VALUE=DATE:20260511
DTSTAMP:20260425T180138
CREATED:20241218T070024Z
LAST-MODIFIED:20241218T070024Z
UID:10001098-1777075200-1778457599@judokano.be
SUMMARY:Congé de Printemps
DESCRIPTION:
URL:http://judokano.be/event/conge-de-printemps/
LOCATION:KanoTournai\, 76 rue Roc Saint-Nicaise\, Tournai\, 7500\, Belgique
CATEGORIES:Fermé
END:VEVENT
BEGIN:VEVENT
DTSTART;TZID=Europe/Paris:20260425T170000
DTEND;TZID=Europe/Paris:20260425T190000
DTSTAMP:20260425T180138
CREATED:20251204T125052Z
LAST-MODIFIED:20260227T081052Z
UID:10001174-1777136400-1777143600@judokano.be
SUMMARY:Randori Training
DESCRIPTION:Dès 2026\, le Kano Tournai lance un nouveau rendez-vous incontournable pour les judokas à la recherche de volume et d’intensité. Une fois par mois\, nous vous proposons un Randori Training pur\, fidèle à la tradition de l’entraînement à la japonaise. \nL’objectif est clair : travailler le cardio\, la résistance et la technique en situation de fatigue\, sans temps morts inutiles. C’est l’occasion idéale de se tester et de progresser dans une ambiance de travail studieuse et martiale. \nAu programme de cette session : Le format est dense et conçu pour l’endurance. \n\n\nTachi-waza (Debout) : 10 randoris de 5 à 6 minutes. \n\n\nNe-waza (Sol) : 5 randoris. \n\n\nCe cours est ouvert aux judokas motivés (Cadets\, Juniors\, Seniors) prêts à relever le défi physique. \nInfos pratiques : \n\n\n📅 Date : Samedi 31 janvier 2026 (Première édition !) \n\n\n📍 Lieu : Kano Tournai \n\n\n🥋 Équipement : Judogi (et de quoi s’hydrater !) \n\n\nVenez nombreux pour partager l’effort et la passion du Judo.
URL:http://judokano.be/event/randori-training/2026-04-25/
LOCATION:KanoTournai\, 76 rue Roc Saint-Nicaise\, Tournai\, 7500\, Belgique
CATEGORIES:Cours
ATTACH;FMTTYPE=image/png:http://judokano.be/wp-content/uploads/2025/12/randoriT.png
END:VEVENT
BEGIN:VEVENT
DTSTART;TZID=Europe/Paris:20260429T170000
DTEND;TZID=Europe/Paris:20260429T203000
DTSTAMP:20260425T180138
CREATED:20241217T172349Z
LAST-MODIFIED:20241217T173204Z
UID:10001008-1777482000-1777494600@judokano.be
SUMMARY:Entrainement Judo
DESCRIPTION:U7-U9: 17h00-18h00 \nU11-U13: 18h00-19h00 \nU15+ : 19h00-20h30
URL:http://judokano.be/event/entrainement-judo/2026-04-29/
LOCATION:KanoTournai\, 76 rue Roc Saint-Nicaise\, Tournai\, 7500\, Belgique
CATEGORIES:Cours
END:VEVENT
BEGIN:VEVENT
DTSTART;TZID=Europe/Paris:20260501T173000
DTEND;TZID=Europe/Paris:20260501T210000
DTSTAMP:20260425T180138
CREATED:20241217T172523Z
LAST-MODIFIED:20241218T065600Z
UID:10001086-1777656600-1777669200@judokano.be
SUMMARY:Entrainement judo
DESCRIPTION:U07-U09: 17h30-18h30 \nU11-U13: 18h30-19h30 \nU15+ : 19h30-21h00
URL:http://judokano.be/event/entrainement-judo-2/2026-05-01/
LOCATION:KanoTournai\, 76 rue Roc Saint-Nicaise\, Tournai\, 7500\, Belgique
CATEGORIES:Cours
END:VEVENT
BEGIN:VEVENT
DTSTART;TZID=Europe/Paris:20260502T080000
DTEND;TZID=Europe/Paris:20260502T170000
DTSTAMP:20260425T180138
CREATED:20251222T123941Z
LAST-MODIFIED:20251222T123941Z
UID:10001203-1777708800-1777741200@judokano.be
SUMMARY:Bekers Van Gent U18 U21+
DESCRIPTION:bro_717846f2a7ff7f40ca75d98fd60f991c_10817\n\n	Remarque : JavaScript est requis pour ce contenu.
URL:http://judokano.be/event/bekers-van-gent-u18-u21/
LOCATION:GENT\, Zuiderlaan 14\, Gent\, 9000\, Belgium
CATEGORIES:Compétitions
END:VEVENT
BEGIN:VEVENT
DTSTART;VALUE=DATE:20260504
DTEND;VALUE=DATE:20260509
DTSTAMP:20260425T180138
CREATED:20260225T151813Z
LAST-MODIFIED:20260325T124503Z
UID:10001212-1777852800-1778284799@judokano.be
SUMMARY:Stage de Printemps
DESCRIPTION:🥋 Stage de Judo de Printemps : Découvre la Voie\, Affirme ton Judo !\nDu 4 au 8 mai 2026\, le tatami du Kano Tournai s’anime pour une semaine exceptionnelle ! Que ton enfant souhaite découvrir ses premières sensations de chute ou qu’il aspire à perfectionner ses balayages\, notre stage est conçu pour répondre à toutes les ambitions. \nNous accueillons les enfants de 5 à 12 ans\, avec des groupes de niveaux adaptés : de l’initiation complète jusqu’à la ceinture verte. \n✨ Deux parcours\, une même passion\nAu Kano Tournai\, nous croyons en la force du groupe. Pendant que les plus jeunes découvrent les bases\, les plus gradés travaillent la précision. \n\n\nPour les débutants : Une immersion douce et ludique. Apprendre à tomber sans crainte\, comprendre les valeurs du respect et de la politesse\, et réussir ses premières immobilisations. C’est le moment idéal pour tester le judo dans un cadre bienveillant. \n\n\nPour les judokas confirmés (jusqu’à la ceinture verte) : Un programme de perfectionnement technique (Tachi-Waza et Ne-Waza) pour préparer les prochains passages de grades. Travail sur les déplacements\, les combinaisons et l’analyse tactique des randoris\, le tout avec des outils de motricité modernes. \n\n\n🌟 Le Code Moral au cœur de l’apprentissage\nLe judo est plus qu’un sport\, c’est un art de vivre. Chaque journée sera rythmée par une valeur de notre code moral. Entre tradition et modernité\, nous encourageons chaque enfant à cultiver le dépassement de soi tout en prenant soin de ses partenaires. \n📅 Détails Pratiques\n\n\nQuand ? Du lundi 4 au vendredi 8 mai 2026. \n\n\nHoraires : Activités de 09h00 à 16h00 (Accueil dès 08h30 / Garderie jusqu’à 16h30). \n\n\nOù ? Dojo du Kano Tournai. \n\n\nÉquipement : Judogi (prêt possible pour les débutants)\, gourde et pique-nique. \n\n\n📝 Inscriptions & Tarifs\n75€ la semaine (70€ pour les membres du Kano Tournai) \nNe tardez pas\, les places s’envolent vite pour garantir un encadrement de qualité par nos moniteurs diplômés ! \n\n	Remarque : JavaScript est requis pour ce contenu.
URL:http://judokano.be/event/stage-de-printemps/
LOCATION:KanoTournai\, 76 rue Roc Saint-Nicaise\, Tournai\, 7500\, Belgique
CATEGORIES:Activités,Tous
ATTACH;FMTTYPE=image/png:http://judokano.be/wp-content/uploads/2026/02/stage-printemps-26.png
END:VEVENT
BEGIN:VEVENT
DTSTART;TZID=Europe/Paris:20260504T173000
DTEND;TZID=Europe/Paris:20260504T190000
DTSTAMP:20260425T180138
CREATED:20250908T125354Z
LAST-MODIFIED:20250908T125354Z
UID:10001163-1777915800-1777921200@judokano.be
SUMMARY:Session Uchikomis
DESCRIPTION:
URL:http://judokano.be/event/session-uchikomis/2026-05-04/
LOCATION:KanoTournai\, 76 rue Roc Saint-Nicaise\, Tournai\, 7500\, Belgique
CATEGORIES:Cours
END:VEVENT
BEGIN:VEVENT
DTSTART;TZID=Europe/Paris:20260504T173000
DTEND;TZID=Europe/Paris:20260504T190000
DTSTAMP:20260425T180138
CREATED:20260422T140338Z
LAST-MODIFIED:20260422T140338Z
UID:10001228-1777915800-1777921200@judokano.be
SUMMARY:Stage Perfectionnement
DESCRIPTION:Horaire sur l’affiche.
URL:http://judokano.be/event/stage-perfectionnement/2026-05-04/
LOCATION:KanoTournai\, 76 rue Roc Saint-Nicaise\, Tournai\, 7500\, Belgique
CATEGORIES:Activités,Tous
ATTACH;FMTTYPE=image/png:http://judokano.be/wp-content/uploads/2026/04/stage4-8.png
END:VEVENT
BEGIN:VEVENT
DTSTART;TZID=Europe/Paris:20260505T173000
DTEND;TZID=Europe/Paris:20260505T190000
DTSTAMP:20260425T180138
CREATED:20260422T140338Z
LAST-MODIFIED:20260422T140338Z
UID:10001229-1778002200-1778007600@judokano.be
SUMMARY:Stage Perfectionnement
DESCRIPTION:Horaire sur l’affiche.
URL:http://judokano.be/event/stage-perfectionnement/2026-05-05/
LOCATION:KanoTournai\, 76 rue Roc Saint-Nicaise\, Tournai\, 7500\, Belgique
CATEGORIES:Activités,Tous
ATTACH;FMTTYPE=image/png:http://judokano.be/wp-content/uploads/2026/04/stage4-8.png
END:VEVENT
BEGIN:VEVENT
DTSTART;TZID=Europe/Paris:20260506T170000
DTEND;TZID=Europe/Paris:20260506T203000
DTSTAMP:20260425T180138
CREATED:20241217T172349Z
LAST-MODIFIED:20241217T173204Z
UID:10001009-1778086800-1778099400@judokano.be
SUMMARY:Entrainement Judo
DESCRIPTION:U7-U9: 17h00-18h00 \nU11-U13: 18h00-19h00 \nU15+ : 19h00-20h30
URL:http://judokano.be/event/entrainement-judo/2026-05-06/
LOCATION:KanoTournai\, 76 rue Roc Saint-Nicaise\, Tournai\, 7500\, Belgique
CATEGORIES:Cours
END:VEVENT
BEGIN:VEVENT
DTSTART;TZID=Europe/Paris:20260506T173000
DTEND;TZID=Europe/Paris:20260506T190000
DTSTAMP:20260425T180138
CREATED:20260422T140338Z
LAST-MODIFIED:20260422T140338Z
UID:10001230-1778088600-1778094000@judokano.be
SUMMARY:Stage Perfectionnement
DESCRIPTION:Horaire sur l’affiche.
URL:http://judokano.be/event/stage-perfectionnement/2026-05-06/
LOCATION:KanoTournai\, 76 rue Roc Saint-Nicaise\, Tournai\, 7500\, Belgique
CATEGORIES:Activités,Tous
ATTACH;FMTTYPE=image/png:http://judokano.be/wp-content/uploads/2026/04/stage4-8.png
END:VEVENT
BEGIN:VEVENT
DTSTART;TZID=Europe/Paris:20260507T173000
DTEND;TZID=Europe/Paris:20260507T190000
DTSTAMP:20260425T180138
CREATED:20260422T140338Z
LAST-MODIFIED:20260422T140338Z
UID:10001231-1778175000-1778180400@judokano.be
SUMMARY:Stage Perfectionnement
DESCRIPTION:Horaire sur l’affiche.
URL:http://judokano.be/event/stage-perfectionnement/2026-05-07/
LOCATION:KanoTournai\, 76 rue Roc Saint-Nicaise\, Tournai\, 7500\, Belgique
CATEGORIES:Activités,Tous
ATTACH;FMTTYPE=image/png:http://judokano.be/wp-content/uploads/2026/04/stage4-8.png
END:VEVENT
BEGIN:VEVENT
DTSTART;TZID=Europe/Paris:20260508T173000
DTEND;TZID=Europe/Paris:20260508T190000
DTSTAMP:20260425T180138
CREATED:20260422T140338Z
LAST-MODIFIED:20260422T140338Z
UID:10001232-1778261400-1778266800@judokano.be
SUMMARY:Stage Perfectionnement
DESCRIPTION:Horaire sur l’affiche.
URL:http://judokano.be/event/stage-perfectionnement/2026-05-08/
LOCATION:KanoTournai\, 76 rue Roc Saint-Nicaise\, Tournai\, 7500\, Belgique
CATEGORIES:Activités,Tous
ATTACH;FMTTYPE=image/png:http://judokano.be/wp-content/uploads/2026/04/stage4-8.png
END:VEVENT
BEGIN:VEVENT
DTSTART;TZID=Europe/Paris:20260508T173000
DTEND;TZID=Europe/Paris:20260508T210000
DTSTAMP:20260425T180138
CREATED:20241217T172523Z
LAST-MODIFIED:20241218T065600Z
UID:10001087-1778261400-1778274000@judokano.be
SUMMARY:Entrainement judo
DESCRIPTION:U07-U09: 17h30-18h30 \nU11-U13: 18h30-19h30 \nU15+ : 19h30-21h00
URL:http://judokano.be/event/entrainement-judo-2/2026-05-08/
LOCATION:KanoTournai\, 76 rue Roc Saint-Nicaise\, Tournai\, 7500\, Belgique
CATEGORIES:Cours
END:VEVENT
BEGIN:VEVENT
DTSTART;TZID=Europe/Paris:20260509T173000
DTEND;TZID=Europe/Paris:20260509T190000
DTSTAMP:20260425T180138
CREATED:20260422T140338Z
LAST-MODIFIED:20260422T140338Z
UID:10001233-1778347800-1778353200@judokano.be
SUMMARY:Stage Perfectionnement
DESCRIPTION:Horaire sur l’affiche.
URL:http://judokano.be/event/stage-perfectionnement/2026-05-09/
LOCATION:KanoTournai\, 76 rue Roc Saint-Nicaise\, Tournai\, 7500\, Belgique
CATEGORIES:Activités,Tous
ATTACH;FMTTYPE=image/png:http://judokano.be/wp-content/uploads/2026/04/stage4-8.png
END:VEVENT
BEGIN:VEVENT
DTSTART;TZID=Europe/Paris:20260510T173000
DTEND;TZID=Europe/Paris:20260510T190000
DTSTAMP:20260425T180138
CREATED:20260422T140338Z
LAST-MODIFIED:20260422T140338Z
UID:10001234-1778434200-1778439600@judokano.be
SUMMARY:Stage Perfectionnement
DESCRIPTION:Horaire sur l’affiche.
URL:http://judokano.be/event/stage-perfectionnement/2026-05-10/
LOCATION:KanoTournai\, 76 rue Roc Saint-Nicaise\, Tournai\, 7500\, Belgique
CATEGORIES:Activités,Tous
ATTACH;FMTTYPE=image/png:http://judokano.be/wp-content/uploads/2026/04/stage4-8.png
END:VEVENT
BEGIN:VEVENT
DTSTART;TZID=Europe/Paris:20260511T173000
DTEND;TZID=Europe/Paris:20260511T190000
DTSTAMP:20260425T180138
CREATED:20260422T140338Z
LAST-MODIFIED:20260422T140338Z
UID:10001235-1778520600-1778526000@judokano.be
SUMMARY:Stage Perfectionnement
DESCRIPTION:Horaire sur l’affiche.
URL:http://judokano.be/event/stage-perfectionnement/2026-05-11/
LOCATION:KanoTournai\, 76 rue Roc Saint-Nicaise\, Tournai\, 7500\, Belgique
CATEGORIES:Activités,Tous
ATTACH;FMTTYPE=image/png:http://judokano.be/wp-content/uploads/2026/04/stage4-8.png
END:VEVENT
BEGIN:VEVENT
DTSTART;TZID=Europe/Paris:20260512T173000
DTEND;TZID=Europe/Paris:20260512T190000
DTSTAMP:20260425T180138
CREATED:20260422T140338Z
LAST-MODIFIED:20260422T140338Z
UID:10001236-1778607000-1778612400@judokano.be
SUMMARY:Stage Perfectionnement
DESCRIPTION:Horaire sur l’affiche.
URL:http://judokano.be/event/stage-perfectionnement/2026-05-12/
LOCATION:KanoTournai\, 76 rue Roc Saint-Nicaise\, Tournai\, 7500\, Belgique
CATEGORIES:Activités,Tous
ATTACH;FMTTYPE=image/png:http://judokano.be/wp-content/uploads/2026/04/stage4-8.png
END:VEVENT
BEGIN:VEVENT
DTSTART;TZID=Europe/Paris:20260513T170000
DTEND;TZID=Europe/Paris:20260513T203000
DTSTAMP:20260425T180138
CREATED:20241217T172349Z
LAST-MODIFIED:20241217T173204Z
UID:10001010-1778691600-1778704200@judokano.be
SUMMARY:Entrainement Judo
DESCRIPTION:U7-U9: 17h00-18h00 \nU11-U13: 18h00-19h00 \nU15+ : 19h00-20h30
URL:http://judokano.be/event/entrainement-judo/2026-05-13/
LOCATION:KanoTournai\, 76 rue Roc Saint-Nicaise\, Tournai\, 7500\, Belgique
CATEGORIES:Cours
END:VEVENT
BEGIN:VEVENT
DTSTART;TZID=Europe/Paris:20260513T173000
DTEND;TZID=Europe/Paris:20260513T190000
DTSTAMP:20260425T180138
CREATED:20260422T140338Z
LAST-MODIFIED:20260422T140338Z
UID:10001237-1778693400-1778698800@judokano.be
SUMMARY:Stage Perfectionnement
DESCRIPTION:Horaire sur l’affiche.
URL:http://judokano.be/event/stage-perfectionnement/2026-05-13/
LOCATION:KanoTournai\, 76 rue Roc Saint-Nicaise\, Tournai\, 7500\, Belgique
CATEGORIES:Activités,Tous
ATTACH;FMTTYPE=image/png:http://judokano.be/wp-content/uploads/2026/04/stage4-8.png
END:VEVENT
BEGIN:VEVENT
DTSTART;TZID=Europe/Paris:20260514T173000
DTEND;TZID=Europe/Paris:20260514T190000
DTSTAMP:20260425T180138
CREATED:20260422T140338Z
LAST-MODIFIED:20260422T140338Z
UID:10001238-1778779800-1778785200@judokano.be
SUMMARY:Stage Perfectionnement
DESCRIPTION:Horaire sur l’affiche.
URL:http://judokano.be/event/stage-perfectionnement/2026-05-14/
LOCATION:KanoTournai\, 76 rue Roc Saint-Nicaise\, Tournai\, 7500\, Belgique
CATEGORIES:Activités,Tous
ATTACH;FMTTYPE=image/png:http://judokano.be/wp-content/uploads/2026/04/stage4-8.png
END:VEVENT
BEGIN:VEVENT
DTSTART;TZID=Europe/Paris:20260515T173000
DTEND;TZID=Europe/Paris:20260515T190000
DTSTAMP:20260425T180138
CREATED:20260422T140338Z
LAST-MODIFIED:20260422T140338Z
UID:10001239-1778866200-1778871600@judokano.be
SUMMARY:Stage Perfectionnement
DESCRIPTION:Horaire sur l’affiche.
URL:http://judokano.be/event/stage-perfectionnement/2026-05-15/
LOCATION:KanoTournai\, 76 rue Roc Saint-Nicaise\, Tournai\, 7500\, Belgique
CATEGORIES:Activités,Tous
ATTACH;FMTTYPE=image/png:http://judokano.be/wp-content/uploads/2026/04/stage4-8.png
END:VEVENT
BEGIN:VEVENT
DTSTART;TZID=Europe/Paris:20260515T173000
DTEND;TZID=Europe/Paris:20260515T210000
DTSTAMP:20260425T180138
CREATED:20241217T172523Z
LAST-MODIFIED:20241218T065600Z
UID:10001088-1778866200-1778878800@judokano.be
SUMMARY:Entrainement judo
DESCRIPTION:U07-U09: 17h30-18h30 \nU11-U13: 18h30-19h30 \nU15+ : 19h30-21h00
URL:http://judokano.be/event/entrainement-judo-2/2026-05-15/
LOCATION:KanoTournai\, 76 rue Roc Saint-Nicaise\, Tournai\, 7500\, Belgique
CATEGORIES:Cours
END:VEVENT
BEGIN:VEVENT
DTSTART;TZID=Europe/Paris:20260516T080000
DTEND;TZID=Europe/Paris:20260516T170000
DTSTAMP:20260425T180138
CREATED:20251222T124701Z
LAST-MODIFIED:20251222T124701Z
UID:10001204-1778918400-1778950800@judokano.be
SUMMARY:Ippon Trophy 2026 U15 U18
DESCRIPTION:Remarque : JavaScript est requis pour ce contenu.
URL:http://judokano.be/event/ippon-trophy-2026-u15-u18/
LOCATION:“Sporthal de Rode Loop – Merksem”\, Merksem\, Belgium
CATEGORIES:Compétitions
END:VEVENT
BEGIN:VEVENT
DTSTART;TZID=Europe/Paris:20260516T173000
DTEND;TZID=Europe/Paris:20260516T190000
DTSTAMP:20260425T180138
CREATED:20260422T140338Z
LAST-MODIFIED:20260422T140338Z
UID:10001240-1778952600-1778958000@judokano.be
SUMMARY:Stage Perfectionnement
DESCRIPTION:Horaire sur l’affiche.
URL:http://judokano.be/event/stage-perfectionnement/2026-05-16/
LOCATION:KanoTournai\, 76 rue Roc Saint-Nicaise\, Tournai\, 7500\, Belgique
CATEGORIES:Activités,Tous
ATTACH;FMTTYPE=image/png:http://judokano.be/wp-content/uploads/2026/04/stage4-8.png
END:VEVENT
BEGIN:VEVENT
DTSTART;TZID=Europe/Paris:20260517T080000
DTEND;TZID=Europe/Paris:20260517T170000
DTSTAMP:20260425T180138
CREATED:20251222T124744Z
LAST-MODIFIED:20251222T124744Z
UID:10001205-1779004800-1779037200@judokano.be
SUMMARY:Ippon Trophy U11 U13 U21+
DESCRIPTION:Remarque : JavaScript est requis pour ce contenu.
URL:http://judokano.be/event/ippon-trophy-u11-u13-u21/
LOCATION:“Sporthal de Rode Loop – Merksem”\, Merksem\, Belgium
CATEGORIES:Compétitions
END:VEVENT
BEGIN:VEVENT
DTSTART;TZID=Europe/Paris:20260517T173000
DTEND;TZID=Europe/Paris:20260517T190000
DTSTAMP:20260425T180138
CREATED:20260422T140338Z
LAST-MODIFIED:20260422T140338Z
UID:10001241-1779039000-1779044400@judokano.be
SUMMARY:Stage Perfectionnement
DESCRIPTION:Horaire sur l’affiche.
URL:http://judokano.be/event/stage-perfectionnement/2026-05-17/
LOCATION:KanoTournai\, 76 rue Roc Saint-Nicaise\, Tournai\, 7500\, Belgique
CATEGORIES:Activités,Tous
ATTACH;FMTTYPE=image/png:http://judokano.be/wp-content/uploads/2026/04/stage4-8.png
END:VEVENT
BEGIN:VEVENT
DTSTART;TZID=Europe/Paris:20260518T173000
DTEND;TZID=Europe/Paris:20260518T190000
DTSTAMP:20260425T180138
CREATED:20250908T125120Z
LAST-MODIFIED:20250908T125256Z
UID:10001153-1779125400-1779130800@judokano.be
SUMMARY:Cours Kata & Uchikomis
DESCRIPTION:
URL:http://judokano.be/event/cours-kata-3/2026-05-18/
LOCATION:KanoTournai\, 76 rue Roc Saint-Nicaise\, Tournai\, 7500\, Belgique
CATEGORIES:Cours
END:VEVENT
BEGIN:VEVENT
DTSTART;TZID=Europe/Paris:20260518T173000
DTEND;TZID=Europe/Paris:20260518T190000
DTSTAMP:20260425T180138
CREATED:20260422T140338Z
LAST-MODIFIED:20260422T140338Z
UID:10001242-1779125400-1779130800@judokano.be
SUMMARY:Stage Perfectionnement
DESCRIPTION:Horaire sur l’affiche.
URL:http://judokano.be/event/stage-perfectionnement/2026-05-18/
LOCATION:KanoTournai\, 76 rue Roc Saint-Nicaise\, Tournai\, 7500\, Belgique
CATEGORIES:Activités,Tous
ATTACH;FMTTYPE=image/png:http://judokano.be/wp-content/uploads/2026/04/stage4-8.png
END:VEVENT
BEGIN:VEVENT
DTSTART;TZID=Europe/Paris:20260519T173000
DTEND;TZID=Europe/Paris:20260519T190000
DTSTAMP:20260425T180138
CREATED:20260422T140338Z
LAST-MODIFIED:20260422T140338Z
UID:10001243-1779211800-1779217200@judokano.be
SUMMARY:Stage Perfectionnement
DESCRIPTION:Horaire sur l’affiche.
URL:http://judokano.be/event/stage-perfectionnement/2026-05-19/
LOCATION:KanoTournai\, 76 rue Roc Saint-Nicaise\, Tournai\, 7500\, Belgique
CATEGORIES:Activités,Tous
ATTACH;FMTTYPE=image/png:http://judokano.be/wp-content/uploads/2026/04/stage4-8.png
END:VEVENT
END:VCALENDAR