BEGIN:VCALENDAR
VERSION:2.0
PRODID:-//KanoTournai - ECPv6.15.20//NONSGML v1.0//EN
CALSCALE:GREGORIAN
METHOD:PUBLISH
X-WR-CALNAME:KanoTournai
X-ORIGINAL-URL:http://judokano.be
X-WR-CALDESC:Évènements pour KanoTournai
REFRESH-INTERVAL;VALUE=DURATION:PT1H
X-Robots-Tag:noindex
X-PUBLISHED-TTL:PT1H
BEGIN:VTIMEZONE
TZID:Europe/Paris
BEGIN:DAYLIGHT
TZOFFSETFROM:+0100
TZOFFSETTO:+0200
TZNAME:CEST
DTSTART:20230326T010000
END:DAYLIGHT
BEGIN:STANDARD
TZOFFSETFROM:+0200
TZOFFSETTO:+0100
TZNAME:CET
DTSTART:20231029T010000
END:STANDARD
BEGIN:DAYLIGHT
TZOFFSETFROM:+0100
TZOFFSETTO:+0200
TZNAME:CEST
DTSTART:20240331T010000
END:DAYLIGHT
BEGIN:STANDARD
TZOFFSETFROM:+0200
TZOFFSETTO:+0100
TZNAME:CET
DTSTART:20241027T010000
END:STANDARD
BEGIN:DAYLIGHT
TZOFFSETFROM:+0100
TZOFFSETTO:+0200
TZNAME:CEST
DTSTART:20250330T010000
END:DAYLIGHT
BEGIN:STANDARD
TZOFFSETFROM:+0200
TZOFFSETTO:+0100
TZNAME:CET
DTSTART:20251026T010000
END:STANDARD
BEGIN:DAYLIGHT
TZOFFSETFROM:+0100
TZOFFSETTO:+0200
TZNAME:CEST
DTSTART:20260329T010000
END:DAYLIGHT
BEGIN:STANDARD
TZOFFSETFROM:+0200
TZOFFSETTO:+0100
TZNAME:CET
DTSTART:20261025T010000
END:STANDARD
END:VTIMEZONE
BEGIN:VEVENT
DTSTART;TZID=Europe/Paris:20251213T080000
DTEND;TZID=Europe/Paris:20251213T170000
DTSTAMP:20260426T021307
CREATED:20251126T091308Z
LAST-MODIFIED:20251126T091308Z
UID:10001169-1765612800-1765645200@judokano.be
SUMMARY:Tournoi de Woluwe
DESCRIPTION:Pesée U11: 8h à 8h45 – Combats 9h15 \nPesée U13: 11h45 à 12h15 \nPsée U15: 14h30 à 15h15 \n  \nEnsuite le marché de Noel de Bruxelles ? \n\n	Remarque : JavaScript est requis pour ce contenu.
URL:http://judokano.be/event/tournoi-de-woluwe-2/
LOCATION:Woluwe\, 2 avenue des Vaillants\, Woluwe-Saint-Lambert\, 1200\, Belgium
CATEGORIES:Compétitions
END:VEVENT
BEGIN:VEVENT
DTSTART;VALUE=DATE:20241214
DTEND;VALUE=DATE:20241215
DTSTAMP:20260426T021307
CREATED:20241205T152903Z
LAST-MODIFIED:20241205T153223Z
UID:10000899-1734134400-1734220799@judokano.be
SUMMARY:Tournoi de Woluwe
DESCRIPTION:Remarque : JavaScript est requis pour ce contenu.\nAucun champ trouvé.
URL:http://judokano.be/event/tournoi-de-woluwe/
LOCATION:Woluwe\, 2 avenue des Vaillants\, Woluwe-Saint-Lambert\, 1200\, Belgium
CATEGORIES:Compétitions,Tous
ATTACH;FMTTYPE=image/png:http://judokano.be/wp-content/uploads/2024/12/affcihe-2025-recto.png
END:VEVENT
END:VCALENDAR