BEGIN:VCALENDAR
VERSION:2.0
PRODID:-//KanoTournai - ECPv6.15.20//NONSGML v1.0//EN
CALSCALE:GREGORIAN
METHOD:PUBLISH
X-ORIGINAL-URL:http://judokano.be
X-WR-CALDESC:Évènements pour KanoTournai
REFRESH-INTERVAL;VALUE=DURATION:PT1H
X-Robots-Tag:noindex
X-PUBLISHED-TTL:PT1H
BEGIN:VTIMEZONE
TZID:Europe/Paris
BEGIN:DAYLIGHT
TZOFFSETFROM:+0100
TZOFFSETTO:+0200
TZNAME:CEST
DTSTART:20230326T010000
END:DAYLIGHT
BEGIN:STANDARD
TZOFFSETFROM:+0200
TZOFFSETTO:+0100
TZNAME:CET
DTSTART:20231029T010000
END:STANDARD
BEGIN:DAYLIGHT
TZOFFSETFROM:+0100
TZOFFSETTO:+0200
TZNAME:CEST
DTSTART:20240331T010000
END:DAYLIGHT
BEGIN:STANDARD
TZOFFSETFROM:+0200
TZOFFSETTO:+0100
TZNAME:CET
DTSTART:20241027T010000
END:STANDARD
BEGIN:DAYLIGHT
TZOFFSETFROM:+0100
TZOFFSETTO:+0200
TZNAME:CEST
DTSTART:20250330T010000
END:DAYLIGHT
BEGIN:STANDARD
TZOFFSETFROM:+0200
TZOFFSETTO:+0100
TZNAME:CET
DTSTART:20251026T010000
END:STANDARD
BEGIN:DAYLIGHT
TZOFFSETFROM:+0100
TZOFFSETTO:+0200
TZNAME:CEST
DTSTART:20260329T010000
END:DAYLIGHT
BEGIN:STANDARD
TZOFFSETFROM:+0200
TZOFFSETTO:+0100
TZNAME:CET
DTSTART:20261025T010000
END:STANDARD
BEGIN:DAYLIGHT
TZOFFSETFROM:+0100
TZOFFSETTO:+0200
TZNAME:CEST
DTSTART:20270328T010000
END:DAYLIGHT
BEGIN:STANDARD
TZOFFSETFROM:+0200
TZOFFSETTO:+0100
TZNAME:CET
DTSTART:20271031T010000
END:STANDARD
END:VTIMEZONE
BEGIN:VEVENT
DTSTART;TZID=Europe/Paris:20260315T080000
DTEND;TZID=Europe/Paris:20260315T170000
DTSTAMP:20260425T195450
CREATED:20251222T104525Z
LAST-MODIFIED:20251222T104525Z
UID:10001196-1773561600-1773594000@judokano.be
SUMMARY:Grand Prix de Soignies
DESCRIPTION:Remarque : JavaScript est requis pour ce contenu.
URL:http://judokano.be/event/grand-prix-de-soignies-2/
LOCATION:Soignies\, rue cognebeau\, soignies\, Belgique
CATEGORIES:Compétitions
END:VEVENT
BEGIN:VEVENT
DTSTART;VALUE=DATE:20260314
DTEND;VALUE=DATE:20260315
DTSTAMP:20260425T195450
CREATED:20251222T110140Z
LAST-MODIFIED:20251222T110140Z
UID:10001197-1773446400-1773532799@judokano.be
SUMMARY:Grand Prix de Soignies
DESCRIPTION:Remarque : JavaScript est requis pour ce contenu.
URL:http://judokano.be/event/grand-prix-de-soignies-3/
LOCATION:Soignies\, rue cognebeau\, soignies\, Belgique
CATEGORIES:Compétitions
END:VEVENT
BEGIN:VEVENT
DTSTART;VALUE=DATE:20250316
DTEND;VALUE=DATE:20250317
DTSTAMP:20260425T195450
CREATED:20250210T134543Z
LAST-MODIFIED:20250210T140345Z
UID:10001114-1742083200-1742169599@judokano.be
SUMMARY:Grand Prix de Soignies U11 U13
DESCRIPTION:Compétitions en poules \n\n\n\nCatégories\nAnnées\nGrade\nInscription\nPesée\nCombat\n\n\nU9 Filles et garçons\n2017\nPesée : 9h15\n(40 participants maximum)\nAnimation pédagogique\n9h45 à 10h45\n(40 participants maximum)\n\n\n2018\nPesée : 10h30\n(40 participants maximum)\nAnimation pédagogique\n11h à 12h\n(40 participants maximum)\n\n\nU11 (F)\n2015/16\nà partir de 5 Kyu\nGratuit\n8h30 à 9h\n9h30\n\n\nU11 (G)\n2015/16\n8h30 à 9h15\n10h\n\n\nU13 (F)\n2013/14\nà partir de 4 Kyu\nGratuit\n10h45 à 11h15\n11h45\n\n\nU13 (G)\n2013/14\n\n\n\n  \n\n	Remarque : JavaScript est requis pour ce contenu.
URL:http://judokano.be/event/grand-prix-de-soignies/
LOCATION:Soignies\, rue cognebeau\, soignies\, Belgique
CATEGORIES:Compétitions
ATTACH;FMTTYPE=image/jpeg:http://judokano.be/wp-content/uploads/2025/02/soignies25.jpg
END:VEVENT
BEGIN:VEVENT
DTSTART;VALUE=DATE:20250315
DTEND;VALUE=DATE:20250316
DTSTAMP:20260425T195450
CREATED:20250210T135637Z
LAST-MODIFIED:20250210T140254Z
UID:10001115-1741996800-1742083199@judokano.be
SUMMARY:GP Soignies - U15 U18
DESCRIPTION:U15 – U18\nSamedi 15 mars\n\n\n\nPoules de sélection & tableau avec élimination directe \n\n\n\nCatégories\nAnnées\nGrade\nInscription\nPesée\nCombat\n\n\nU15 (F)\n2011/12\nà partir de 3 Kyu\n(*)\n8h30 à 9h\n9h30\n\n\nU15 (G)\n2011/12\n8h45 à 9h30\n10h30\n\n\nU18 (F)\n2008/09/10\nà partir de 3 Kyu\n(*)\n11h à 12h\n13h\n\n\nU18 (G)\n2008/09/10\n\n\n\n\n\n\n	Remarque : JavaScript est requis pour ce contenu.
URL:http://judokano.be/event/gp-soignies-u15-u18/
LOCATION:Soignies\, rue cognebeau\, soignies\, Belgique
CATEGORIES:Compétitions
ATTACH;FMTTYPE=image/jpeg:http://judokano.be/wp-content/uploads/2025/02/soignies25.jpg
END:VEVENT
BEGIN:VEVENT
DTSTART;VALUE=DATE:20240309
DTEND;VALUE=DATE:20240311
DTSTAMP:20260425T195450
CREATED:20230525T153601Z
LAST-MODIFIED:20230525T153601Z
UID:10000699-1709942400-1710115199@judokano.be
SUMMARY:Tournoi de Soignies
DESCRIPTION:U9 U11 U13 U15 U18 \ndate à confirmer
URL:http://judokano.be/event/tournoi-de-soignies/
LOCATION:Soignies\, rue cognebeau\, soignies\, Belgique
CATEGORIES:Compétitions
END:VEVENT
END:VCALENDAR