BEGIN:VCALENDAR
VERSION:2.0
PRODID:-//KanoTournai - ECPv6.15.20//NONSGML v1.0//EN
CALSCALE:GREGORIAN
METHOD:PUBLISH
X-WR-CALNAME:KanoTournai
X-ORIGINAL-URL:http://judokano.be
X-WR-CALDESC:Évènements pour KanoTournai
REFRESH-INTERVAL;VALUE=DURATION:PT1H
X-Robots-Tag:noindex
X-PUBLISHED-TTL:PT1H
BEGIN:VTIMEZONE
TZID:Europe/Paris
BEGIN:DAYLIGHT
TZOFFSETFROM:+0100
TZOFFSETTO:+0200
TZNAME:CEST
DTSTART:20240331T010000
END:DAYLIGHT
BEGIN:STANDARD
TZOFFSETFROM:+0200
TZOFFSETTO:+0100
TZNAME:CET
DTSTART:20241027T010000
END:STANDARD
BEGIN:DAYLIGHT
TZOFFSETFROM:+0100
TZOFFSETTO:+0200
TZNAME:CEST
DTSTART:20250330T010000
END:DAYLIGHT
BEGIN:STANDARD
TZOFFSETFROM:+0200
TZOFFSETTO:+0100
TZNAME:CET
DTSTART:20251026T010000
END:STANDARD
BEGIN:DAYLIGHT
TZOFFSETFROM:+0100
TZOFFSETTO:+0200
TZNAME:CEST
DTSTART:20260329T010000
END:DAYLIGHT
BEGIN:STANDARD
TZOFFSETFROM:+0200
TZOFFSETTO:+0100
TZNAME:CET
DTSTART:20261025T010000
END:STANDARD
BEGIN:DAYLIGHT
TZOFFSETFROM:+0100
TZOFFSETTO:+0200
TZNAME:CEST
DTSTART:20270328T010000
END:DAYLIGHT
BEGIN:STANDARD
TZOFFSETFROM:+0200
TZOFFSETTO:+0100
TZNAME:CET
DTSTART:20271031T010000
END:STANDARD
END:VTIMEZONE
BEGIN:VEVENT
DTSTART;VALUE=DATE:20260419
DTEND;VALUE=DATE:20260420
DTSTAMP:20260425T174558
CREATED:20260331T161416Z
LAST-MODIFIED:20260331T162442Z
UID:10001226-1776556800-1776643199@judokano.be
SUMMARY:Rencontre U11 U13 Moorsele
DESCRIPTION:bro_b682e228d5661813d4c087d1900ca4e4_10754\n\n	Remarque : JavaScript est requis pour ce contenu.
URL:http://judokano.be/event/rencontre-u11-u13-moorsele/
LOCATION:Moorsele
CATEGORIES:Compétitions
END:VEVENT
BEGIN:VEVENT
DTSTART;TZID=Europe/Paris:20260418T080000
DTEND;TZID=Europe/Paris:20260418T170000
DTSTAMP:20260425T174558
CREATED:20260102T161019Z
LAST-MODIFIED:20260102T161658Z
UID:10001209-1776499200-1776531600@judokano.be
SUMMARY:Instap Tornooi Moorsele U18+
DESCRIPTION:moorsele\nTounoi Verte & Bleue U18+ & Marron-Noire ! \n\n	Remarque : JavaScript est requis pour ce contenu.
URL:http://judokano.be/event/instap-tornooi-moorsele-u18/
LOCATION:Moorsele
CATEGORIES:Compétitions
END:VEVENT
BEGIN:VEVENT
DTSTART;VALUE=DATE:20250406
DTEND;VALUE=DATE:20250407
DTSTAMP:20260425T174558
CREATED:20241218T073113Z
LAST-MODIFIED:20250319T074519Z
UID:10001105-1743897600-1743983999@judokano.be
SUMMARY:Tournoi de Moorsele U11 U13
DESCRIPTION:Moorsele 2\n\n	Remarque : JavaScript est requis pour ce contenu.
URL:http://judokano.be/event/tournoi-de-moorsele-u11-u13/
LOCATION:Moorsele
CATEGORIES:Compétitions
END:VEVENT
BEGIN:VEVENT
DTSTART;VALUE=DATE:20250405
DTEND;VALUE=DATE:20250406
DTSTAMP:20260425T174558
CREATED:20241218T073028Z
LAST-MODIFIED:20250317T211330Z
UID:10001104-1743811200-1743897599@judokano.be
SUMMARY:Tournoi de Moorsele U15 U18+
DESCRIPTION:moorsele 1\n\n	Remarque : JavaScript est requis pour ce contenu.\n\n\n    \n\n\n        \n        \n        \n 
URL:http://judokano.be/event/tournoi-de-moorsele-u15-u18/
LOCATION:Moorsele
CATEGORIES:Compétitions
END:VEVENT
END:VCALENDAR