BEGIN:VCALENDAR
VERSION:2.0
PRODID:-//KanoTournai - ECPv6.15.20//NONSGML v1.0//EN
CALSCALE:GREGORIAN
METHOD:PUBLISH
X-WR-CALNAME:KanoTournai
X-ORIGINAL-URL:http://judokano.be
X-WR-CALDESC:Évènements pour KanoTournai
REFRESH-INTERVAL;VALUE=DURATION:PT1H
X-Robots-Tag:noindex
X-PUBLISHED-TTL:PT1H
BEGIN:VTIMEZONE
TZID:Europe/Paris
BEGIN:DAYLIGHT
TZOFFSETFROM:+0100
TZOFFSETTO:+0200
TZNAME:CEST
DTSTART:20230326T010000
END:DAYLIGHT
BEGIN:STANDARD
TZOFFSETFROM:+0200
TZOFFSETTO:+0100
TZNAME:CET
DTSTART:20231029T010000
END:STANDARD
BEGIN:DAYLIGHT
TZOFFSETFROM:+0100
TZOFFSETTO:+0200
TZNAME:CEST
DTSTART:20240331T010000
END:DAYLIGHT
BEGIN:STANDARD
TZOFFSETFROM:+0200
TZOFFSETTO:+0100
TZNAME:CET
DTSTART:20241027T010000
END:STANDARD
BEGIN:DAYLIGHT
TZOFFSETFROM:+0100
TZOFFSETTO:+0200
TZNAME:CEST
DTSTART:20250330T010000
END:DAYLIGHT
BEGIN:STANDARD
TZOFFSETFROM:+0200
TZOFFSETTO:+0100
TZNAME:CET
DTSTART:20251026T010000
END:STANDARD
BEGIN:DAYLIGHT
TZOFFSETFROM:+0100
TZOFFSETTO:+0200
TZNAME:CEST
DTSTART:20260329T010000
END:DAYLIGHT
BEGIN:STANDARD
TZOFFSETFROM:+0200
TZOFFSETTO:+0100
TZNAME:CET
DTSTART:20261025T010000
END:STANDARD
BEGIN:DAYLIGHT
TZOFFSETFROM:+0100
TZOFFSETTO:+0200
TZNAME:CEST
DTSTART:20270328T010000
END:DAYLIGHT
BEGIN:STANDARD
TZOFFSETFROM:+0200
TZOFFSETTO:+0100
TZNAME:CET
DTSTART:20271031T010000
END:STANDARD
END:VTIMEZONE
BEGIN:VEVENT
DTSTART;TZID=Europe/Paris:20260425T080000
DTEND;TZID=Europe/Paris:20260425T170000
DTSTAMP:20260425T175829
CREATED:20251222T131214Z
LAST-MODIFIED:20260417T061853Z
UID:10001207-1777104000-1777136400@judokano.be
SUMMARY:Grand Prix de la Ville d'Ath
DESCRIPTION:  \n \n\n	Remarque : JavaScript est requis pour ce contenu.
URL:http://judokano.be/event/grand-prix-de-la-ville-dath-3/
LOCATION:GP ath\, Ath\, Belgique
CATEGORIES:Compétitions
END:VEVENT
BEGIN:VEVENT
DTSTART;VALUE=DATE:20250426
DTEND;VALUE=DATE:20250427
DTSTAMP:20260425T175830
CREATED:20250306T135314Z
LAST-MODIFIED:20250419T080242Z
UID:10001121-1745625600-1745711999@judokano.be
SUMMARY:Grand Prix de la ville d'Ath
DESCRIPTION:affiche-GP-ATH-51-2025\nHoraire-51\n\n	Remarque : JavaScript est requis pour ce contenu.
URL:http://judokano.be/event/grand-prix-de-la-ville-dath-2/
LOCATION:GP ath\, Ath\, Belgique
CATEGORIES:Compétitions
END:VEVENT
BEGIN:VEVENT
DTSTART;VALUE=DATE:20240427
DTEND;VALUE=DATE:20240428
DTSTAMP:20260425T175830
CREATED:20230525T153202Z
LAST-MODIFIED:20230928T135659Z
UID:10000696-1714176000-1714262399@judokano.be
SUMMARY:Grand Prix de la Ville d'Ath
DESCRIPTION:Tournoi amical U9 U11 U13 U15 U18
URL:http://judokano.be/event/grand-prix-de-la-ville-dath/
LOCATION:GP ath\, Ath\, Belgique
CATEGORIES:Compétitions
END:VEVENT
END:VCALENDAR