BEGIN:VCALENDAR
VERSION:2.0
PRODID:-//KanoTournai - ECPv6.15.20//NONSGML v1.0//EN
CALSCALE:GREGORIAN
METHOD:PUBLISH
X-WR-CALNAME:KanoTournai
X-ORIGINAL-URL:http://judokano.be
X-WR-CALDESC:Évènements pour KanoTournai
REFRESH-INTERVAL;VALUE=DURATION:PT1H
X-Robots-Tag:noindex
X-PUBLISHED-TTL:PT1H
BEGIN:VTIMEZONE
TZID:Europe/Paris
BEGIN:DAYLIGHT
TZOFFSETFROM:+0100
TZOFFSETTO:+0200
TZNAME:CEST
DTSTART:20240331T010000
END:DAYLIGHT
BEGIN:STANDARD
TZOFFSETFROM:+0200
TZOFFSETTO:+0100
TZNAME:CET
DTSTART:20241027T010000
END:STANDARD
BEGIN:DAYLIGHT
TZOFFSETFROM:+0100
TZOFFSETTO:+0200
TZNAME:CEST
DTSTART:20250330T010000
END:DAYLIGHT
BEGIN:STANDARD
TZOFFSETFROM:+0200
TZOFFSETTO:+0100
TZNAME:CET
DTSTART:20251026T010000
END:STANDARD
BEGIN:DAYLIGHT
TZOFFSETFROM:+0100
TZOFFSETTO:+0200
TZNAME:CEST
DTSTART:20260329T010000
END:DAYLIGHT
BEGIN:STANDARD
TZOFFSETFROM:+0200
TZOFFSETTO:+0100
TZNAME:CET
DTSTART:20261025T010000
END:STANDARD
END:VTIMEZONE
BEGIN:VEVENT
DTSTART;VALUE=DATE:20251101
DTEND;VALUE=DATE:20251102
DTSTAMP:20260425T231428
CREATED:20250804T145215Z
LAST-MODIFIED:20250804T145215Z
UID:10001140-1761955200-1762041599@judokano.be
SUMMARY:Championnat de Belgique Sénior
DESCRIPTION:
URL:http://judokano.be/event/championnat-de-belgique-senior/
LOCATION:Centre Blocry\, Place des sports 1\, Ottignies-Louvain-La-Neuve\, 1348\, Belgium
CATEGORIES:Compétitions
END:VEVENT
BEGIN:VEVENT
DTSTART;TZID=Europe/Paris:20251103T173000
DTEND;TZID=Europe/Paris:20251103T190000
DTSTAMP:20260425T231428
CREATED:20250908T125354Z
LAST-MODIFIED:20250908T125354Z
UID:10001157-1762191000-1762196400@judokano.be
SUMMARY:Session Uchikomis
DESCRIPTION:
URL:http://judokano.be/event/session-uchikomis/2025-11-03/
LOCATION:KanoTournai\, 76 rue Roc Saint-Nicaise\, Tournai\, 7500\, Belgique
CATEGORIES:Cours
END:VEVENT
BEGIN:VEVENT
DTSTART;TZID=Europe/Paris:20251105T170000
DTEND;TZID=Europe/Paris:20251105T203000
DTSTAMP:20260425T231428
CREATED:20241217T172349Z
LAST-MODIFIED:20241217T173204Z
UID:10000983-1762362000-1762374600@judokano.be
SUMMARY:Entrainement Judo
DESCRIPTION:U7-U9: 17h00-18h00 \nU11-U13: 18h00-19h00 \nU15+ : 19h00-20h30
URL:http://judokano.be/event/entrainement-judo/2025-11-05/
LOCATION:KanoTournai\, 76 rue Roc Saint-Nicaise\, Tournai\, 7500\, Belgique
CATEGORIES:Cours
END:VEVENT
BEGIN:VEVENT
DTSTART;TZID=Europe/Paris:20251107T173000
DTEND;TZID=Europe/Paris:20251107T210000
DTSTAMP:20260425T231428
CREATED:20241217T172523Z
LAST-MODIFIED:20241218T065600Z
UID:10001061-1762536600-1762549200@judokano.be
SUMMARY:Entrainement judo
DESCRIPTION:U07-U09: 17h30-18h30 \nU11-U13: 18h30-19h30 \nU15+ : 19h30-21h00
URL:http://judokano.be/event/entrainement-judo-2/2025-11-07/
LOCATION:KanoTournai\, 76 rue Roc Saint-Nicaise\, Tournai\, 7500\, Belgique
CATEGORIES:Cours
END:VEVENT
BEGIN:VEVENT
DTSTART;VALUE=DATE:20251109
DTEND;VALUE=DATE:20251110
DTSTAMP:20260425T231428
CREATED:20250804T150300Z
LAST-MODIFIED:20250804T150300Z
UID:10001141-1762646400-1762732799@judokano.be
SUMMARY:Harnes U18 2025
DESCRIPTION:regl_cadets_2025\n  \n\n	Remarque : JavaScript est requis pour ce contenu.
URL:http://judokano.be/event/harnes-u18-2025/
LOCATION:Harnes\, Harnes\, France
CATEGORIES:Compétitions,Tous
END:VEVENT
BEGIN:VEVENT
DTSTART;TZID=Europe/Paris:20251111T090000
DTEND;TZID=Europe/Paris:20251111T170000
DTSTAMP:20260425T231428
CREATED:20251102T083840Z
LAST-MODIFIED:20251102T083840Z
UID:10001166-1762851600-1762880400@judokano.be
SUMMARY:Tournoi des Jeunes - 2 Haine
DESCRIPTION:  \n  \n\n	Remarque : JavaScript est requis pour ce contenu.
URL:http://judokano.be/event/tournoi-des-jeunes-2-haine/
LOCATION:2Haines\, 1 rue des longues haies\, Haine-Saint-Paul\, 7100\, Belgium
CATEGORIES:Compétitions
ATTACH;FMTTYPE=image/jpeg:http://judokano.be/wp-content/uploads/2025/11/WhatsApp-Image-2025-11-02-at-09.31.09.jpeg
END:VEVENT
BEGIN:VEVENT
DTSTART;TZID=Europe/Paris:20251112T170000
DTEND;TZID=Europe/Paris:20251112T203000
DTSTAMP:20260425T231428
CREATED:20241217T172349Z
LAST-MODIFIED:20241217T173204Z
UID:10000984-1762966800-1762979400@judokano.be
SUMMARY:Entrainement Judo
DESCRIPTION:U7-U9: 17h00-18h00 \nU11-U13: 18h00-19h00 \nU15+ : 19h00-20h30
URL:http://judokano.be/event/entrainement-judo/2025-11-12/
LOCATION:KanoTournai\, 76 rue Roc Saint-Nicaise\, Tournai\, 7500\, Belgique
CATEGORIES:Cours
END:VEVENT
BEGIN:VEVENT
DTSTART;TZID=Europe/Paris:20251114T173000
DTEND;TZID=Europe/Paris:20251114T210000
DTSTAMP:20260425T231428
CREATED:20241217T172523Z
LAST-MODIFIED:20241218T065600Z
UID:10001062-1763141400-1763154000@judokano.be
SUMMARY:Entrainement judo
DESCRIPTION:U07-U09: 17h30-18h30 \nU11-U13: 18h30-19h30 \nU15+ : 19h30-21h00
URL:http://judokano.be/event/entrainement-judo-2/2025-11-14/
LOCATION:KanoTournai\, 76 rue Roc Saint-Nicaise\, Tournai\, 7500\, Belgique
CATEGORIES:Cours
END:VEVENT
BEGIN:VEVENT
DTSTART;TZID=Europe/Paris:20251117T173000
DTEND;TZID=Europe/Paris:20251117T190000
DTSTAMP:20260425T231428
CREATED:20250908T125120Z
LAST-MODIFIED:20250908T125256Z
UID:10001147-1763400600-1763406000@judokano.be
SUMMARY:Cours Kata & Uchikomis
DESCRIPTION:
URL:http://judokano.be/event/cours-kata-3/2025-11-17/
LOCATION:KanoTournai\, 76 rue Roc Saint-Nicaise\, Tournai\, 7500\, Belgique
CATEGORIES:Cours
END:VEVENT
BEGIN:VEVENT
DTSTART;TZID=Europe/Paris:20251119T170000
DTEND;TZID=Europe/Paris:20251119T203000
DTSTAMP:20260425T231428
CREATED:20241217T172349Z
LAST-MODIFIED:20241217T173204Z
UID:10000985-1763571600-1763584200@judokano.be
SUMMARY:Entrainement Judo
DESCRIPTION:U7-U9: 17h00-18h00 \nU11-U13: 18h00-19h00 \nU15+ : 19h00-20h30
URL:http://judokano.be/event/entrainement-judo/2025-11-19/
LOCATION:KanoTournai\, 76 rue Roc Saint-Nicaise\, Tournai\, 7500\, Belgique
CATEGORIES:Cours
END:VEVENT
BEGIN:VEVENT
DTSTART;TZID=Europe/Paris:20251121T173000
DTEND;TZID=Europe/Paris:20251121T210000
DTSTAMP:20260425T231428
CREATED:20241217T172523Z
LAST-MODIFIED:20241218T065600Z
UID:10001063-1763746200-1763758800@judokano.be
SUMMARY:Entrainement judo
DESCRIPTION:U07-U09: 17h30-18h30 \nU11-U13: 18h30-19h30 \nU15+ : 19h30-21h00
URL:http://judokano.be/event/entrainement-judo-2/2025-11-21/
LOCATION:KanoTournai\, 76 rue Roc Saint-Nicaise\, Tournai\, 7500\, Belgique
CATEGORIES:Cours
END:VEVENT
BEGIN:VEVENT
DTSTART;TZID=Europe/Paris:20251122T140000
DTEND;TZID=Europe/Paris:20251122T173000
DTSTAMP:20260425T231428
CREATED:20251013T172244Z
LAST-MODIFIED:20251104T184126Z
UID:10001165-1763820000-1763832600@judokano.be
SUMMARY:Master Class Nicole Flagothier
DESCRIPTION:🥋 Masterclass exceptionnelle avec Nicole Flagothier\nLe Kano Tournai a l’honneur d’accueillir Nicole Flagothier\, légende du judo belge :🥇 5ᵉ aux Jeux Olympiques🥈 2 médailles aux Championnats du Monde🥉 4 médailles aux Championnats d’Europe \nUne occasion unique de partager le tatami avec une championne inspirante\, qui viendra transmettre son expérience et ses techniques favorites à nos judokas. \n\n👶 Session U11 & U13 – ANNULATION\n ̶�̶�̶ ̶1̶4̶h̶0̶0̶ ̶→̶ ̶1̶5̶h̶0̶0̶\n̶�̶�̶ ̶P̶a̶r̶t̶i̶c̶i̶p̶a̶t̶i̶o̶n̶ ̶:̶ ̶5̶ ̶€̶\n̶U̶n̶ ̶e̶n̶t̶r̶a̶î̶n̶e̶m̶e̶n̶t̶ ̶d̶y̶n̶a̶m̶i̶q̶u̶e̶ ̶e̶t̶ ̶a̶c̶c̶e̶s̶s̶i̶b̶l̶e̶\,̶ ̶o̶ù̶ ̶l̶e̶s̶ ̶j̶e̶u̶n̶e̶s̶ ̶j̶u̶d̶o̶k̶a̶s̶ ̶d̶é̶c̶o̶u̶v̶r̶i̶r̶o̶n̶t̶ ̶l̶e̶s̶ ̶g̶e̶s̶t̶e̶s̶ ̶c̶l̶é̶s̶ ̶d̶’̶u̶n̶e̶ ̶g̶r̶a̶n̶d̶e̶ ̶c̶h̶a̶m̶p̶i̶o̶n̶n̶e̶\,̶ ̶d̶a̶n̶s̶ ̶u̶n̶e̶ ̶a̶m̶b̶i̶a̶n̶c̶e̶ ̶b̶i̶e̶n̶v̶e̶i̶l̶l̶a̶n̶t̶e̶ ̶e̶t̶ ̶m̶o̶t̶i̶v̶a̶n̶t̶e̶.̶ \n\n🥋 Session U13\, U15\, U18\, U21 & Séniors  -> 30 min supplémentaire !🕞 15h00 → 17h30\n💶 Participation : 10 €Une masterclass technique et intense\, axée sur les mouvements phares et les enchaînements préférés de Nicole Flagothier.\n\n📍 Lieu : Kano Tournai🔗 Inscription obligatoire (places limitées) \nVenez vivre une expérience unique sur le tatami\, apprendre auprès d’une figure du judo belge et partager un moment d’inspiration et de respect.« Le judo\, c’est plus que des techniques… c’est une rencontre. » \n\n	Remarque : JavaScript est requis pour ce contenu.
URL:http://judokano.be/event/master-class-nicole-flagothier/
LOCATION:KanoTournai\, 76 rue Roc Saint-Nicaise\, Tournai\, 7500\, Belgique
CATEGORIES:Activités,Tous
ATTACH;FMTTYPE=image/png:http://judokano.be/wp-content/uploads/2025/10/NicoleFlagothier-1.png
END:VEVENT
BEGIN:VEVENT
DTSTART;TZID=Europe/Paris:20251126T170000
DTEND;TZID=Europe/Paris:20251126T203000
DTSTAMP:20260425T231428
CREATED:20241217T172349Z
LAST-MODIFIED:20241217T173204Z
UID:10000986-1764176400-1764189000@judokano.be
SUMMARY:Entrainement Judo
DESCRIPTION:U7-U9: 17h00-18h00 \nU11-U13: 18h00-19h00 \nU15+ : 19h00-20h30
URL:http://judokano.be/event/entrainement-judo/2025-11-26/
LOCATION:KanoTournai\, 76 rue Roc Saint-Nicaise\, Tournai\, 7500\, Belgique
CATEGORIES:Cours
END:VEVENT
BEGIN:VEVENT
DTSTART;TZID=Europe/Paris:20251128T173000
DTEND;TZID=Europe/Paris:20251128T210000
DTSTAMP:20260425T231428
CREATED:20241217T172523Z
LAST-MODIFIED:20241218T065600Z
UID:10001064-1764351000-1764363600@judokano.be
SUMMARY:Entrainement judo
DESCRIPTION:U07-U09: 17h30-18h30 \nU11-U13: 18h30-19h30 \nU15+ : 19h30-21h00
URL:http://judokano.be/event/entrainement-judo-2/2025-11-28/
LOCATION:KanoTournai\, 76 rue Roc Saint-Nicaise\, Tournai\, 7500\, Belgique
CATEGORIES:Cours
END:VEVENT
BEGIN:VEVENT
DTSTART;TZID=Europe/Paris:20251130T090000
DTEND;TZID=Europe/Paris:20251130T170000
DTSTAMP:20260425T231428
CREATED:20251102T172207Z
LAST-MODIFIED:20251102T172633Z
UID:10001167-1764493200-1764522000@judokano.be
SUMMARY:Tournoi d'Ardooie U9 U11 U13
DESCRIPTION:bro_3ba699a74486445059530a8ef79b991b_732\n\n	Remarque : JavaScript est requis pour ce contenu.
URL:http://judokano.be/event/tournoi-dardooie-u9-u11-u13/
LOCATION:Ardooie\, Melkerijstraat 2A\, ardooie\, 8850\, Belgique
CATEGORIES:Compétitions
END:VEVENT
END:VCALENDAR