BEGIN:VCALENDAR
VERSION:2.0
PRODID:-//KanoTournai - ECPv6.15.20//NONSGML v1.0//EN
CALSCALE:GREGORIAN
METHOD:PUBLISH
X-WR-CALNAME:KanoTournai
X-ORIGINAL-URL:http://judokano.be
X-WR-CALDESC:Évènements pour KanoTournai
REFRESH-INTERVAL;VALUE=DURATION:PT1H
X-Robots-Tag:noindex
X-PUBLISHED-TTL:PT1H
BEGIN:VTIMEZONE
TZID:Europe/Paris
BEGIN:DAYLIGHT
TZOFFSETFROM:+0100
TZOFFSETTO:+0200
TZNAME:CEST
DTSTART:20240331T010000
END:DAYLIGHT
BEGIN:STANDARD
TZOFFSETFROM:+0200
TZOFFSETTO:+0100
TZNAME:CET
DTSTART:20241027T010000
END:STANDARD
BEGIN:DAYLIGHT
TZOFFSETFROM:+0100
TZOFFSETTO:+0200
TZNAME:CEST
DTSTART:20250330T010000
END:DAYLIGHT
BEGIN:STANDARD
TZOFFSETFROM:+0200
TZOFFSETTO:+0100
TZNAME:CET
DTSTART:20251026T010000
END:STANDARD
BEGIN:DAYLIGHT
TZOFFSETFROM:+0100
TZOFFSETTO:+0200
TZNAME:CEST
DTSTART:20260329T010000
END:DAYLIGHT
BEGIN:STANDARD
TZOFFSETFROM:+0200
TZOFFSETTO:+0100
TZNAME:CET
DTSTART:20261025T010000
END:STANDARD
END:VTIMEZONE
BEGIN:VEVENT
DTSTART;TZID=Europe/Paris:20251001T170000
DTEND;TZID=Europe/Paris:20251001T203000
DTSTAMP:20260426T005017
CREATED:20241217T172349Z
LAST-MODIFIED:20241217T173204Z
UID:10000978-1759338000-1759350600@judokano.be
SUMMARY:Entrainement Judo
DESCRIPTION:U7-U9: 17h00-18h00 \nU11-U13: 18h00-19h00 \nU15+ : 19h00-20h30
URL:http://judokano.be/event/entrainement-judo/2025-10-01/
LOCATION:KanoTournai\, 76 rue Roc Saint-Nicaise\, Tournai\, 7500\, Belgique
CATEGORIES:Cours
END:VEVENT
BEGIN:VEVENT
DTSTART;TZID=Europe/Paris:20251003T173000
DTEND;TZID=Europe/Paris:20251003T210000
DTSTAMP:20260426T005017
CREATED:20241217T172523Z
LAST-MODIFIED:20241218T065600Z
UID:10001056-1759512600-1759525200@judokano.be
SUMMARY:Entrainement judo
DESCRIPTION:U07-U09: 17h30-18h30 \nU11-U13: 18h30-19h30 \nU15+ : 19h30-21h00
URL:http://judokano.be/event/entrainement-judo-2/2025-10-03/
LOCATION:KanoTournai\, 76 rue Roc Saint-Nicaise\, Tournai\, 7500\, Belgique
CATEGORIES:Cours
END:VEVENT
BEGIN:VEVENT
DTSTART;VALUE=DATE:20251004
DTEND;VALUE=DATE:20251005
DTSTAMP:20260426T005017
CREATED:20250804T140232Z
LAST-MODIFIED:20250804T140232Z
UID:10001134-1759536000-1759622399@judokano.be
SUMMARY:Hainaut Cup 2025 U15 U18
DESCRIPTION:Remarque : JavaScript est requis pour ce contenu.
URL:http://judokano.be/event/hainaut-cup-2025-u15-u18/
LOCATION:HainautCup\, 150 Rue JF Kennedy\, Roselies\, 6250\, Belgique
CATEGORIES:Compétitions,Tous
END:VEVENT
BEGIN:VEVENT
DTSTART;VALUE=DATE:20251005
DTEND;VALUE=DATE:20251006
DTSTAMP:20260426T005017
CREATED:20250804T140502Z
LAST-MODIFIED:20250804T140533Z
UID:10001135-1759622400-1759708799@judokano.be
SUMMARY:Hainaut Cup 2025 U9 U11 U13
DESCRIPTION:Remarque : JavaScript est requis pour ce contenu.
URL:http://judokano.be/event/hainaut-cup-2025-u9-u11-u13/
LOCATION:HainautCup\, 150 Rue JF Kennedy\, Roselies\, 6250\, Belgique
CATEGORIES:Compétitions,Tous
END:VEVENT
BEGIN:VEVENT
DTSTART;TZID=Europe/Paris:20251006T173000
DTEND;TZID=Europe/Paris:20251006T190000
DTSTAMP:20260426T005017
CREATED:20250908T125354Z
LAST-MODIFIED:20250908T125354Z
UID:10001156-1759771800-1759777200@judokano.be
SUMMARY:Session Uchikomis
DESCRIPTION:
URL:http://judokano.be/event/session-uchikomis/2025-10-06/
LOCATION:KanoTournai\, 76 rue Roc Saint-Nicaise\, Tournai\, 7500\, Belgique
CATEGORIES:Cours
END:VEVENT
BEGIN:VEVENT
DTSTART;TZID=Europe/Paris:20251007T173000
DTEND;TZID=Europe/Paris:20251007T190000
DTSTAMP:20260426T005017
CREATED:20241217T170531Z
LAST-MODIFIED:20241217T170531Z
UID:10000924-1759858200-1759863600@judokano.be
SUMMARY:Prépa Physique
DESCRIPTION:
URL:http://judokano.be/event/prepa-physique/2025-10-07/
LOCATION:KanoTournai\, 76 rue Roc Saint-Nicaise\, Tournai\, 7500\, Belgique
CATEGORIES:Cours
END:VEVENT
BEGIN:VEVENT
DTSTART;TZID=Europe/Paris:20251008T170000
DTEND;TZID=Europe/Paris:20251008T203000
DTSTAMP:20260426T005017
CREATED:20241217T172349Z
LAST-MODIFIED:20241217T173204Z
UID:10000979-1759942800-1759955400@judokano.be
SUMMARY:Entrainement Judo
DESCRIPTION:U7-U9: 17h00-18h00 \nU11-U13: 18h00-19h00 \nU15+ : 19h00-20h30
URL:http://judokano.be/event/entrainement-judo/2025-10-08/
LOCATION:KanoTournai\, 76 rue Roc Saint-Nicaise\, Tournai\, 7500\, Belgique
CATEGORIES:Cours
END:VEVENT
BEGIN:VEVENT
DTSTART;TZID=Europe/Paris:20251010T173000
DTEND;TZID=Europe/Paris:20251010T210000
DTSTAMP:20260426T005017
CREATED:20241217T172523Z
LAST-MODIFIED:20241218T065600Z
UID:10001057-1760117400-1760130000@judokano.be
SUMMARY:Entrainement judo
DESCRIPTION:U07-U09: 17h30-18h30 \nU11-U13: 18h30-19h30 \nU15+ : 19h30-21h00
URL:http://judokano.be/event/entrainement-judo-2/2025-10-10/
LOCATION:KanoTournai\, 76 rue Roc Saint-Nicaise\, Tournai\, 7500\, Belgique
CATEGORIES:Cours
END:VEVENT
BEGIN:VEVENT
DTSTART;VALUE=DATE:20251011
DTEND;VALUE=DATE:20251012
DTSTAMP:20260426T005017
CREATED:20250804T144042Z
LAST-MODIFIED:20250929T170751Z
UID:10001137-1760140800-1760227199@judokano.be
SUMMARY:52ste Ontmoeting U13-U11-U09 Lendelede
DESCRIPTION:Rencontre amicale pour U9 débutant\, U9 avancé\, U11 & U13. \nHoraires: \nU13:  9h00 \nU11: 11h30 \nU9: 15h30 -> 17h30 \nbro_571a4515bb7b24348ed535725b327ab5_10246\nbro_5c9a093c8f95bde16a26bb6c2c73d577_10810\n\n	Remarque : JavaScript est requis pour ce contenu.
URL:http://judokano.be/event/52ste-ontmoeting-u13-u11-u09-lendelede/
LOCATION:Lendelede\, Sporthal Steuren Ambacht\, Lendelede
CATEGORIES:Compétitions,Tous
END:VEVENT
BEGIN:VEVENT
DTSTART;TZID=Europe/Paris:20251014T173000
DTEND;TZID=Europe/Paris:20251014T190000
DTSTAMP:20260426T005017
CREATED:20241217T170531Z
LAST-MODIFIED:20241217T170531Z
UID:10000925-1760463000-1760468400@judokano.be
SUMMARY:Prépa Physique
DESCRIPTION:
URL:http://judokano.be/event/prepa-physique/2025-10-14/
LOCATION:KanoTournai\, 76 rue Roc Saint-Nicaise\, Tournai\, 7500\, Belgique
CATEGORIES:Cours
END:VEVENT
BEGIN:VEVENT
DTSTART;TZID=Europe/Paris:20251015T170000
DTEND;TZID=Europe/Paris:20251015T203000
DTSTAMP:20260426T005017
CREATED:20241217T172349Z
LAST-MODIFIED:20241217T173204Z
UID:10000980-1760547600-1760560200@judokano.be
SUMMARY:Entrainement Judo
DESCRIPTION:U7-U9: 17h00-18h00 \nU11-U13: 18h00-19h00 \nU15+ : 19h00-20h30
URL:http://judokano.be/event/entrainement-judo/2025-10-15/
LOCATION:KanoTournai\, 76 rue Roc Saint-Nicaise\, Tournai\, 7500\, Belgique
CATEGORIES:Cours
END:VEVENT
BEGIN:VEVENT
DTSTART;TZID=Europe/Paris:20251017T173000
DTEND;TZID=Europe/Paris:20251017T210000
DTSTAMP:20260426T005017
CREATED:20241217T172523Z
LAST-MODIFIED:20241218T065600Z
UID:10001058-1760722200-1760734800@judokano.be
SUMMARY:Entrainement judo
DESCRIPTION:U07-U09: 17h30-18h30 \nU11-U13: 18h30-19h30 \nU15+ : 19h30-21h00
URL:http://judokano.be/event/entrainement-judo-2/2025-10-17/
LOCATION:KanoTournai\, 76 rue Roc Saint-Nicaise\, Tournai\, 7500\, Belgique
CATEGORIES:Cours
END:VEVENT
BEGIN:VEVENT
DTSTART;VALUE=DATE:20251018
DTEND;VALUE=DATE:20251019
DTSTAMP:20260426T005017
CREATED:20250804T144429Z
LAST-MODIFIED:20250929T171211Z
UID:10001138-1760745600-1760831999@judokano.be
SUMMARY:Tournoi de l'amitié - Quevaucamps
DESCRIPTION:Quevaucamps\n\n	Remarque : JavaScript est requis pour ce contenu.
URL:http://judokano.be/event/tournoi-de-lamitie-quevaucamps/
LOCATION:Amities\, Rue Porte-à-Champ 7\, Basècles\, 7971\, Belgique
CATEGORIES:Compétitions,Tous
ATTACH;FMTTYPE=image/png:http://judokano.be/wp-content/uploads/2025/08/Quevaucamps-QR.png
END:VEVENT
BEGIN:VEVENT
DTSTART;VALUE=DATE:20251019
DTEND;VALUE=DATE:20251020
DTSTAMP:20260426T005017
CREATED:20250804T145030Z
LAST-MODIFIED:20250804T145030Z
UID:10001139-1760832000-1760918399@judokano.be
SUMMARY:Championnat régional Sénior
DESCRIPTION:Remarque : JavaScript est requis pour ce contenu.
URL:http://judokano.be/event/championnat-regional-senior/
LOCATION:Amities\, Rue Porte-à-Champ 7\, Basècles\, 7971\, Belgique
CATEGORIES:Compétitions
END:VEVENT
BEGIN:VEVENT
DTSTART;VALUE=DATE:20251020
DTEND;VALUE=DATE:20251025
DTSTAMP:20260426T005017
CREATED:20241217T125732Z
LAST-MODIFIED:20250920T062436Z
UID:10000900-1760918400-1761350399@judokano.be
SUMMARY:Stage de Judo - Automne
DESCRIPTION:Nous avons le plaisir de proposer un nouveau stage de judo pour les jeunes\, du 20 au 24 octobre 2025 ! Stage axé sur l’apprentissage\, le perfectionnement et le plaisir. Encadré par des professeurs expérimentés\, ce stage s’adresse aux enfants\, tous niveaux confondus. \nProgramme du stage : \n\nHoraires : Chaque jour de 9h00 à 16h00 (accueil dès 8h30\, fin de la journée jusqu’à 16h30).\nMatin : Échauffement et techniques fondamentales de judo.\nPause déjeuner : Moment convivial avec pique-nique (prévoir le repas).\nAprès-midi : Ateliers techniques avancés\, combats d’entraînement et activités complémentaires autour de l’esprit du judo.\n\nInformations pratiques : \n\nLieu : Dojo de Kano Tournai\nTarif : 75 € pour la semaine / 70€ pour les membres du KanoTournai\nMatériel : Prévoir un judogi (possibilité de prêt limité pour ceux qui n’en ont pas).\n\nInscription : Merci de remplir le formulaire d’inscription en ligne avant le 10 octobre 2025. \nVenez rejoindre une semaine dynamique où l’apprentissage et l’amusement seront au rendez-vous ! \n\n	Remarque : JavaScript est requis pour ce contenu.
URL:http://judokano.be/event/stage-de-judo-automne/
LOCATION:KanoTournai\, 76 rue Roc Saint-Nicaise\, Tournai\, 7500\, Belgique
CATEGORIES:Activités
ATTACH;FMTTYPE=image/png:http://judokano.be/wp-content/uploads/2024/12/Stage-dautomne.png
END:VEVENT
BEGIN:VEVENT
DTSTART;TZID=Europe/Paris:20251020T173000
DTEND;TZID=Europe/Paris:20251020T190000
DTSTAMP:20260426T005017
CREATED:20250908T125120Z
LAST-MODIFIED:20250908T125256Z
UID:10001146-1760981400-1760986800@judokano.be
SUMMARY:Cours Kata & Uchikomis
DESCRIPTION:
URL:http://judokano.be/event/cours-kata-3/2025-10-20/
LOCATION:KanoTournai\, 76 rue Roc Saint-Nicaise\, Tournai\, 7500\, Belgique
CATEGORIES:Cours
END:VEVENT
BEGIN:VEVENT
DTSTART;TZID=Europe/Paris:20251029T170000
DTEND;TZID=Europe/Paris:20251029T203000
DTSTAMP:20260426T005017
CREATED:20241217T172349Z
LAST-MODIFIED:20241217T173204Z
UID:10000982-1761757200-1761769800@judokano.be
SUMMARY:Entrainement Judo
DESCRIPTION:U7-U9: 17h00-18h00 \nU11-U13: 18h00-19h00 \nU15+ : 19h00-20h30
URL:http://judokano.be/event/entrainement-judo/2025-10-29/
LOCATION:KanoTournai\, 76 rue Roc Saint-Nicaise\, Tournai\, 7500\, Belgique
CATEGORIES:Cours
END:VEVENT
BEGIN:VEVENT
DTSTART;TZID=Europe/Paris:20251031T173000
DTEND;TZID=Europe/Paris:20251031T210000
DTSTAMP:20260426T005017
CREATED:20241217T172523Z
LAST-MODIFIED:20241218T065600Z
UID:10001060-1761931800-1761944400@judokano.be
SUMMARY:Entrainement judo
DESCRIPTION:U07-U09: 17h30-18h30 \nU11-U13: 18h30-19h30 \nU15+ : 19h30-21h00
URL:http://judokano.be/event/entrainement-judo-2/2025-10-31/
LOCATION:KanoTournai\, 76 rue Roc Saint-Nicaise\, Tournai\, 7500\, Belgique
CATEGORIES:Cours
END:VEVENT
END:VCALENDAR