BEGIN:VCALENDAR
VERSION:2.0
PRODID:-//KanoTournai - ECPv6.15.20//NONSGML v1.0//EN
CALSCALE:GREGORIAN
METHOD:PUBLISH
X-ORIGINAL-URL:http://judokano.be
X-WR-CALDESC:Évènements pour KanoTournai
REFRESH-INTERVAL;VALUE=DURATION:PT1H
X-Robots-Tag:noindex
X-PUBLISHED-TTL:PT1H
BEGIN:VTIMEZONE
TZID:Europe/Paris
BEGIN:DAYLIGHT
TZOFFSETFROM:+0100
TZOFFSETTO:+0200
TZNAME:CEST
DTSTART:20240331T010000
END:DAYLIGHT
BEGIN:STANDARD
TZOFFSETFROM:+0200
TZOFFSETTO:+0100
TZNAME:CET
DTSTART:20241027T010000
END:STANDARD
BEGIN:DAYLIGHT
TZOFFSETFROM:+0100
TZOFFSETTO:+0200
TZNAME:CEST
DTSTART:20250330T010000
END:DAYLIGHT
BEGIN:STANDARD
TZOFFSETFROM:+0200
TZOFFSETTO:+0100
TZNAME:CET
DTSTART:20251026T010000
END:STANDARD
BEGIN:DAYLIGHT
TZOFFSETFROM:+0100
TZOFFSETTO:+0200
TZNAME:CEST
DTSTART:20260329T010000
END:DAYLIGHT
BEGIN:STANDARD
TZOFFSETFROM:+0200
TZOFFSETTO:+0100
TZNAME:CET
DTSTART:20261025T010000
END:STANDARD
END:VTIMEZONE
BEGIN:VEVENT
DTSTART;TZID=Europe/Paris:20250901T173000
DTEND;TZID=Europe/Paris:20250901T190000
DTSTAMP:20260426T050908
CREATED:20250908T125354Z
LAST-MODIFIED:20250908T125354Z
UID:10001155-1756747800-1756753200@judokano.be
SUMMARY:Session Uchikomis
DESCRIPTION:
URL:http://judokano.be/event/session-uchikomis/2025-09-01/
LOCATION:KanoTournai\, 76 rue Roc Saint-Nicaise\, Tournai\, 7500\, Belgique
CATEGORIES:Cours
END:VEVENT
BEGIN:VEVENT
DTSTART;TZID=Europe/Paris:20250902T173000
DTEND;TZID=Europe/Paris:20250902T190000
DTSTAMP:20260426T050908
CREATED:20241217T170531Z
LAST-MODIFIED:20241217T170531Z
UID:10000919-1756834200-1756839600@judokano.be
SUMMARY:Prépa Physique
DESCRIPTION:
URL:http://judokano.be/event/prepa-physique/2025-09-02/
LOCATION:KanoTournai\, 76 rue Roc Saint-Nicaise\, Tournai\, 7500\, Belgique
CATEGORIES:Cours
END:VEVENT
BEGIN:VEVENT
DTSTART;TZID=Europe/Paris:20250903T170000
DTEND;TZID=Europe/Paris:20250903T203000
DTSTAMP:20260426T050908
CREATED:20241217T172349Z
LAST-MODIFIED:20241217T173204Z
UID:10000974-1756918800-1756931400@judokano.be
SUMMARY:Entrainement Judo
DESCRIPTION:U7-U9: 17h00-18h00 \nU11-U13: 18h00-19h00 \nU15+ : 19h00-20h30
URL:http://judokano.be/event/entrainement-judo/2025-09-03/
LOCATION:KanoTournai\, 76 rue Roc Saint-Nicaise\, Tournai\, 7500\, Belgique
CATEGORIES:Cours
END:VEVENT
BEGIN:VEVENT
DTSTART;TZID=Europe/Paris:20250905T173000
DTEND;TZID=Europe/Paris:20250905T210000
DTSTAMP:20260426T050908
CREATED:20241217T172523Z
LAST-MODIFIED:20241218T065600Z
UID:10001052-1757093400-1757106000@judokano.be
SUMMARY:Entrainement judo
DESCRIPTION:U07-U09: 17h30-18h30 \nU11-U13: 18h30-19h30 \nU15+ : 19h30-21h00
URL:http://judokano.be/event/entrainement-judo-2/2025-09-05/
LOCATION:KanoTournai\, 76 rue Roc Saint-Nicaise\, Tournai\, 7500\, Belgique
CATEGORIES:Cours
END:VEVENT
BEGIN:VEVENT
DTSTART;TZID=Europe/Paris:20250909T173000
DTEND;TZID=Europe/Paris:20250909T190000
DTSTAMP:20260426T050908
CREATED:20241217T170531Z
LAST-MODIFIED:20241217T170531Z
UID:10000920-1757439000-1757444400@judokano.be
SUMMARY:Prépa Physique
DESCRIPTION:
URL:http://judokano.be/event/prepa-physique/2025-09-09/
LOCATION:KanoTournai\, 76 rue Roc Saint-Nicaise\, Tournai\, 7500\, Belgique
CATEGORIES:Cours
END:VEVENT
BEGIN:VEVENT
DTSTART;TZID=Europe/Paris:20250910T170000
DTEND;TZID=Europe/Paris:20250910T203000
DTSTAMP:20260426T050908
CREATED:20241217T172349Z
LAST-MODIFIED:20241217T173204Z
UID:10000975-1757523600-1757536200@judokano.be
SUMMARY:Entrainement Judo
DESCRIPTION:U7-U9: 17h00-18h00 \nU11-U13: 18h00-19h00 \nU15+ : 19h00-20h30
URL:http://judokano.be/event/entrainement-judo/2025-09-10/
LOCATION:KanoTournai\, 76 rue Roc Saint-Nicaise\, Tournai\, 7500\, Belgique
CATEGORIES:Cours
END:VEVENT
BEGIN:VEVENT
DTSTART;TZID=Europe/Paris:20250912T173000
DTEND;TZID=Europe/Paris:20250912T210000
DTSTAMP:20260426T050908
CREATED:20241217T172523Z
LAST-MODIFIED:20241218T065600Z
UID:10001053-1757698200-1757710800@judokano.be
SUMMARY:Entrainement judo
DESCRIPTION:U07-U09: 17h30-18h30 \nU11-U13: 18h30-19h30 \nU15+ : 19h30-21h00
URL:http://judokano.be/event/entrainement-judo-2/2025-09-12/
LOCATION:KanoTournai\, 76 rue Roc Saint-Nicaise\, Tournai\, 7500\, Belgique
CATEGORIES:Cours
END:VEVENT
BEGIN:VEVENT
DTSTART;TZID=Europe/Paris:20250915T173000
DTEND;TZID=Europe/Paris:20250915T190000
DTSTAMP:20260426T050908
CREATED:20250908T125120Z
LAST-MODIFIED:20250908T125256Z
UID:10001145-1757957400-1757962800@judokano.be
SUMMARY:Cours Kata & Uchikomis
DESCRIPTION:
URL:http://judokano.be/event/cours-kata-3/2025-09-15/
LOCATION:KanoTournai\, 76 rue Roc Saint-Nicaise\, Tournai\, 7500\, Belgique
CATEGORIES:Cours
END:VEVENT
BEGIN:VEVENT
DTSTART;TZID=Europe/Paris:20250916T173000
DTEND;TZID=Europe/Paris:20250916T190000
DTSTAMP:20260426T050908
CREATED:20241217T170531Z
LAST-MODIFIED:20241217T170531Z
UID:10000921-1758043800-1758049200@judokano.be
SUMMARY:Prépa Physique
DESCRIPTION:
URL:http://judokano.be/event/prepa-physique/2025-09-16/
LOCATION:KanoTournai\, 76 rue Roc Saint-Nicaise\, Tournai\, 7500\, Belgique
CATEGORIES:Cours
END:VEVENT
BEGIN:VEVENT
DTSTART;TZID=Europe/Paris:20250917T170000
DTEND;TZID=Europe/Paris:20250917T203000
DTSTAMP:20260426T050908
CREATED:20241217T172349Z
LAST-MODIFIED:20241217T173204Z
UID:10000976-1758128400-1758141000@judokano.be
SUMMARY:Entrainement Judo
DESCRIPTION:U7-U9: 17h00-18h00 \nU11-U13: 18h00-19h00 \nU15+ : 19h00-20h30
URL:http://judokano.be/event/entrainement-judo/2025-09-17/
LOCATION:KanoTournai\, 76 rue Roc Saint-Nicaise\, Tournai\, 7500\, Belgique
CATEGORIES:Cours
END:VEVENT
BEGIN:VEVENT
DTSTART;TZID=Europe/Paris:20250919T173000
DTEND;TZID=Europe/Paris:20250919T210000
DTSTAMP:20260426T050908
CREATED:20241217T172523Z
LAST-MODIFIED:20241218T065600Z
UID:10001054-1758303000-1758315600@judokano.be
SUMMARY:Entrainement judo
DESCRIPTION:U07-U09: 17h30-18h30 \nU11-U13: 18h30-19h30 \nU15+ : 19h30-21h00
URL:http://judokano.be/event/entrainement-judo-2/2025-09-19/
LOCATION:KanoTournai\, 76 rue Roc Saint-Nicaise\, Tournai\, 7500\, Belgique
CATEGORIES:Cours
END:VEVENT
BEGIN:VEVENT
DTSTART;VALUE=DATE:20250920
DTEND;VALUE=DATE:20250922
DTSTAMP:20260426T050908
CREATED:20250519T072939Z
LAST-MODIFIED:20250519T080517Z
UID:10001127-1758326400-1758499199@judokano.be
SUMMARY:Open du Brabant 2025
DESCRIPTION:un tournoi pour U15 et U21 +: le samedi 20 septembre\nun tournoi pour les U18: le dimanche 21 septembre\n\nBrabantOpen-Uitnodiging-Invitation-2025\n  \n\n	Remarque : JavaScript est requis pour ce contenu.
URL:http://judokano.be/event/open-du-brabant-2/
LOCATION:OpenBrabant\, Lindeboomstraat\, 30\, Tervuren\, 3080\, Belgique
CATEGORIES:Compétitions
END:VEVENT
BEGIN:VEVENT
DTSTART;TZID=Europe/Paris:20250923T173000
DTEND;TZID=Europe/Paris:20250923T190000
DTSTAMP:20260426T050908
CREATED:20241217T170531Z
LAST-MODIFIED:20241217T170531Z
UID:10000922-1758648600-1758654000@judokano.be
SUMMARY:Prépa Physique
DESCRIPTION:
URL:http://judokano.be/event/prepa-physique/2025-09-23/
LOCATION:KanoTournai\, 76 rue Roc Saint-Nicaise\, Tournai\, 7500\, Belgique
CATEGORIES:Cours
END:VEVENT
BEGIN:VEVENT
DTSTART;TZID=Europe/Paris:20250924T170000
DTEND;TZID=Europe/Paris:20250924T203000
DTSTAMP:20260426T050908
CREATED:20250920T064415Z
LAST-MODIFIED:20250920T064415Z
UID:10000932-1758733200-1758745800@judokano.be
SUMMARY:Amène ton ami !
DESCRIPTION:🥋✨ Mercredi 24 septembre = JUDO PARTY ! ✨🥋 \nChaque judoka du Kano peut emmener un copain ou une copine sur le tatami 🤩Viens partager ton sport\, tes chutes (en douceur 😉) et surtout ton plaisir du judo ! \n👉 Mets ton judogi\, ton sourire… et viens accompagné !Un tatami plein d’amis = un dojo rempli d’énergie 🌸🔥
URL:http://judokano.be/event/amenes-ton-ami-2-2/
LOCATION:KanoTournai\, 76 rue Roc Saint-Nicaise\, Tournai\, 7500\, Belgique
CATEGORIES:Cours
ATTACH;FMTTYPE=image/png:http://judokano.be/wp-content/uploads/2024/12/amene-ton-ami-1.png
END:VEVENT
BEGIN:VEVENT
DTSTART;TZID=Europe/Paris:20250926T173000
DTEND;TZID=Europe/Paris:20250926T210000
DTSTAMP:20260426T050908
CREATED:20241217T172523Z
LAST-MODIFIED:20241218T065600Z
UID:10001055-1758907800-1758920400@judokano.be
SUMMARY:Entrainement judo
DESCRIPTION:U07-U09: 17h30-18h30 \nU11-U13: 18h30-19h30 \nU15+ : 19h30-21h00
URL:http://judokano.be/event/entrainement-judo-2/2025-09-26/
LOCATION:KanoTournai\, 76 rue Roc Saint-Nicaise\, Tournai\, 7500\, Belgique
CATEGORIES:Cours
END:VEVENT
BEGIN:VEVENT
DTSTART;VALUE=DATE:20250927
DTEND;VALUE=DATE:20250928
DTSTAMP:20260426T050908
CREATED:20250804T135126Z
LAST-MODIFIED:20250804T135126Z
UID:10001133-1758931200-1759017599@judokano.be
SUMMARY:JCCB - Compétition amicale
DESCRIPTION:Remarque : JavaScript est requis pour ce contenu.
URL:http://judokano.be/event/jccb-competition-amicale/
LOCATION:JCCB\, Avenue Gabrielle Petit 6\, Brugelette\, 7940
CATEGORIES:Compétitions,Tous
END:VEVENT
BEGIN:VEVENT
DTSTART;VALUE=DATE:20250927
DTEND;VALUE=DATE:20250928
DTSTAMP:20260426T050908
CREATED:20250804T143533Z
LAST-MODIFIED:20250804T143533Z
UID:10001136-1758931200-1759017599@judokano.be
SUMMARY:Beker Van Deinze U15 U18 U21+
DESCRIPTION:bro_deee6b79230df98aeeacceef66222b5b_10548\n  \n\n	Remarque : JavaScript est requis pour ce contenu.
URL:http://judokano.be/event/beker-van-deinze-u15-u18-u21/
LOCATION:Deinze\, Kastanjelaan 31\, Deinze\, 9800\, Belgium
CATEGORIES:Compétitions,Tous
END:VEVENT
BEGIN:VEVENT
DTSTART;TZID=Europe/Paris:20250930T173000
DTEND;TZID=Europe/Paris:20250930T190000
DTSTAMP:20260426T050909
CREATED:20241217T170531Z
LAST-MODIFIED:20241217T170531Z
UID:10000923-1759253400-1759258800@judokano.be
SUMMARY:Prépa Physique
DESCRIPTION:
URL:http://judokano.be/event/prepa-physique/2025-09-30/
LOCATION:KanoTournai\, 76 rue Roc Saint-Nicaise\, Tournai\, 7500\, Belgique
CATEGORIES:Cours
END:VEVENT
END:VCALENDAR