BEGIN:VCALENDAR
VERSION:2.0
PRODID:-//KanoTournai - ECPv6.15.20//NONSGML v1.0//EN
CALSCALE:GREGORIAN
METHOD:PUBLISH
X-WR-CALNAME:KanoTournai
X-ORIGINAL-URL:http://judokano.be
X-WR-CALDESC:Évènements pour KanoTournai
REFRESH-INTERVAL;VALUE=DURATION:PT1H
X-Robots-Tag:noindex
X-PUBLISHED-TTL:PT1H
BEGIN:VTIMEZONE
TZID:Europe/Paris
BEGIN:DAYLIGHT
TZOFFSETFROM:+0100
TZOFFSETTO:+0200
TZNAME:CEST
DTSTART:20250330T010000
END:DAYLIGHT
BEGIN:STANDARD
TZOFFSETFROM:+0200
TZOFFSETTO:+0100
TZNAME:CET
DTSTART:20251026T010000
END:STANDARD
BEGIN:DAYLIGHT
TZOFFSETFROM:+0100
TZOFFSETTO:+0200
TZNAME:CEST
DTSTART:20260329T010000
END:DAYLIGHT
BEGIN:STANDARD
TZOFFSETFROM:+0200
TZOFFSETTO:+0100
TZNAME:CET
DTSTART:20261025T010000
END:STANDARD
BEGIN:DAYLIGHT
TZOFFSETFROM:+0100
TZOFFSETTO:+0200
TZNAME:CEST
DTSTART:20270328T010000
END:DAYLIGHT
BEGIN:STANDARD
TZOFFSETFROM:+0200
TZOFFSETTO:+0100
TZNAME:CET
DTSTART:20271031T010000
END:STANDARD
END:VTIMEZONE
BEGIN:VEVENT
DTSTART;TZID=Europe/Paris:20260525T173000
DTEND;TZID=Europe/Paris:20260525T190000
DTSTAMP:20260426T020832
CREATED:20260422T140338Z
LAST-MODIFIED:20260422T140338Z
UID:10001249-1779730200-1779735600@judokano.be
SUMMARY:Stage Perfectionnement
DESCRIPTION:Horaire sur l’affiche.
URL:http://judokano.be/event/stage-perfectionnement/2026-05-25/
LOCATION:KanoTournai\, 76 rue Roc Saint-Nicaise\, Tournai\, 7500\, Belgique
CATEGORIES:Activités,Tous
ATTACH;FMTTYPE=image/png:http://judokano.be/wp-content/uploads/2026/04/stage4-8.png
END:VEVENT
BEGIN:VEVENT
DTSTART;TZID=Europe/Paris:20260526T173000
DTEND;TZID=Europe/Paris:20260526T190000
DTSTAMP:20260426T020832
CREATED:20260422T140338Z
LAST-MODIFIED:20260422T140338Z
UID:10001250-1779816600-1779822000@judokano.be
SUMMARY:Stage Perfectionnement
DESCRIPTION:Horaire sur l’affiche.
URL:http://judokano.be/event/stage-perfectionnement/2026-05-26/
LOCATION:KanoTournai\, 76 rue Roc Saint-Nicaise\, Tournai\, 7500\, Belgique
CATEGORIES:Activités,Tous
ATTACH;FMTTYPE=image/png:http://judokano.be/wp-content/uploads/2026/04/stage4-8.png
END:VEVENT
BEGIN:VEVENT
DTSTART;TZID=Europe/Paris:20260527T170000
DTEND;TZID=Europe/Paris:20260527T203000
DTSTAMP:20260426T020832
CREATED:20241217T172349Z
LAST-MODIFIED:20241217T173204Z
UID:10001012-1779901200-1779913800@judokano.be
SUMMARY:Entrainement Judo
DESCRIPTION:U7-U9: 17h00-18h00 \nU11-U13: 18h00-19h00 \nU15+ : 19h00-20h30
URL:http://judokano.be/event/entrainement-judo/2026-05-27/
LOCATION:KanoTournai\, 76 rue Roc Saint-Nicaise\, Tournai\, 7500\, Belgique
CATEGORIES:Cours
END:VEVENT
BEGIN:VEVENT
DTSTART;TZID=Europe/Paris:20260527T173000
DTEND;TZID=Europe/Paris:20260527T190000
DTSTAMP:20260426T020832
CREATED:20260422T140338Z
LAST-MODIFIED:20260422T140338Z
UID:10001251-1779903000-1779908400@judokano.be
SUMMARY:Stage Perfectionnement
DESCRIPTION:Horaire sur l’affiche.
URL:http://judokano.be/event/stage-perfectionnement/2026-05-27/
LOCATION:KanoTournai\, 76 rue Roc Saint-Nicaise\, Tournai\, 7500\, Belgique
CATEGORIES:Activités,Tous
ATTACH;FMTTYPE=image/png:http://judokano.be/wp-content/uploads/2026/04/stage4-8.png
END:VEVENT
BEGIN:VEVENT
DTSTART;TZID=Europe/Paris:20260528T173000
DTEND;TZID=Europe/Paris:20260528T190000
DTSTAMP:20260426T020832
CREATED:20260422T140338Z
LAST-MODIFIED:20260422T140338Z
UID:10001252-1779989400-1779994800@judokano.be
SUMMARY:Stage Perfectionnement
DESCRIPTION:Horaire sur l’affiche.
URL:http://judokano.be/event/stage-perfectionnement/2026-05-28/
LOCATION:KanoTournai\, 76 rue Roc Saint-Nicaise\, Tournai\, 7500\, Belgique
CATEGORIES:Activités,Tous
ATTACH;FMTTYPE=image/png:http://judokano.be/wp-content/uploads/2026/04/stage4-8.png
END:VEVENT
BEGIN:VEVENT
DTSTART;TZID=Europe/Paris:20260529T173000
DTEND;TZID=Europe/Paris:20260529T190000
DTSTAMP:20260426T020832
CREATED:20260422T140338Z
LAST-MODIFIED:20260422T140338Z
UID:10001253-1780075800-1780081200@judokano.be
SUMMARY:Stage Perfectionnement
DESCRIPTION:Horaire sur l’affiche.
URL:http://judokano.be/event/stage-perfectionnement/2026-05-29/
LOCATION:KanoTournai\, 76 rue Roc Saint-Nicaise\, Tournai\, 7500\, Belgique
CATEGORIES:Activités,Tous
ATTACH;FMTTYPE=image/png:http://judokano.be/wp-content/uploads/2026/04/stage4-8.png
END:VEVENT
BEGIN:VEVENT
DTSTART;TZID=Europe/Paris:20260529T173000
DTEND;TZID=Europe/Paris:20260529T210000
DTSTAMP:20260426T020832
CREATED:20241217T172523Z
LAST-MODIFIED:20241218T065600Z
UID:10001090-1780075800-1780088400@judokano.be
SUMMARY:Entrainement judo
DESCRIPTION:U07-U09: 17h30-18h30 \nU11-U13: 18h30-19h30 \nU15+ : 19h30-21h00
URL:http://judokano.be/event/entrainement-judo-2/2026-05-29/
LOCATION:KanoTournai\, 76 rue Roc Saint-Nicaise\, Tournai\, 7500\, Belgique
CATEGORIES:Cours
END:VEVENT
BEGIN:VEVENT
DTSTART;TZID=Europe/Paris:20260530T133000
DTEND;TZID=Europe/Paris:20260530T193000
DTSTAMP:20260426T020832
CREATED:20260325T081439Z
LAST-MODIFIED:20260403T062600Z
UID:10001225-1780147800-1780169400@judokano.be
SUMMARY:Masterclass RAFFAELE LISI
DESCRIPTION:Le samedi 30 mai 2026\, nous avons l’immense plaisir d’accueillir Raffaele Lisi pour une masterclass dédiée à l’excellence technique et au partage. \nÀ propos de notre invité\nRaffaele Lisi est une figure respectée du judo\, reconnu pour sa pédagogie fine et sa rigueur technique. Ses spécialités\, qu’il partagera avec nous\, incluent : \n\n\nLe Ne-Waza (travail au sol) : Un domaine où son expertise et ses transitions fluides font référence. \n\n\nLa précision technique : Une approche axée sur le placement et l’efficacité\, idéale pour approfondir ses bases ou perfectionner son répertoire de haut niveau. \n\n\nL’esprit de transmission : Une vision du judo qui allie l’exigence du dépassement de soi à la bienveillance nécessaire à tout apprentissage. \n\n\nInformations pratiques :\n\n\nDate : Samedi 30 mai 2026 – Première séance de 14:00 à 16:00 [PAUSE] 17:15 à 19:15 \n\n\nLieu : 76 rue roc Saint-Nicaise\, 7500 Tournai \n\n\nPublic : Ouvert à tous les judokas passionnés\, quel que soit leur grade\, souhaitant enrichir leur pratique dans le respect des traditions de notre art. \n\n\nVenez nombreux pour vivre cette expérience de progression collective sur le tatami\, où chaque mouvement est une leçon de vie. \n\n	Remarque : JavaScript est requis pour ce contenu.
URL:http://judokano.be/event/masterclass-raffaele-lisi/
LOCATION:KanoTournai\, 76 rue Roc Saint-Nicaise\, Tournai\, 7500\, Belgique
CATEGORIES:Activités
ATTACH;FMTTYPE=image/jpeg:http://judokano.be/wp-content/uploads/2026/03/RAFFAELE-LISI-1.jpg
END:VEVENT
BEGIN:VEVENT
DTSTART;TZID=Europe/Paris:20260530T170000
DTEND;TZID=Europe/Paris:20260530T190000
DTSTAMP:20260426T020832
CREATED:20251204T125052Z
LAST-MODIFIED:20260227T081052Z
UID:10001175-1780160400-1780167600@judokano.be
SUMMARY:Randori Training
DESCRIPTION:Dès 2026\, le Kano Tournai lance un nouveau rendez-vous incontournable pour les judokas à la recherche de volume et d’intensité. Une fois par mois\, nous vous proposons un Randori Training pur\, fidèle à la tradition de l’entraînement à la japonaise. \nL’objectif est clair : travailler le cardio\, la résistance et la technique en situation de fatigue\, sans temps morts inutiles. C’est l’occasion idéale de se tester et de progresser dans une ambiance de travail studieuse et martiale. \nAu programme de cette session : Le format est dense et conçu pour l’endurance. \n\n\nTachi-waza (Debout) : 10 randoris de 5 à 6 minutes. \n\n\nNe-waza (Sol) : 5 randoris. \n\n\nCe cours est ouvert aux judokas motivés (Cadets\, Juniors\, Seniors) prêts à relever le défi physique. \nInfos pratiques : \n\n\n📅 Date : Samedi 31 janvier 2026 (Première édition !) \n\n\n📍 Lieu : Kano Tournai \n\n\n🥋 Équipement : Judogi (et de quoi s’hydrater !) \n\n\nVenez nombreux pour partager l’effort et la passion du Judo.
URL:http://judokano.be/event/randori-training/2026-05-30/
LOCATION:KanoTournai\, 76 rue Roc Saint-Nicaise\, Tournai\, 7500\, Belgique
CATEGORIES:Cours
ATTACH;FMTTYPE=image/png:http://judokano.be/wp-content/uploads/2025/12/randoriT.png
END:VEVENT
BEGIN:VEVENT
DTSTART;TZID=Europe/Paris:20260530T173000
DTEND;TZID=Europe/Paris:20260530T190000
DTSTAMP:20260426T020832
CREATED:20260422T140338Z
LAST-MODIFIED:20260422T140338Z
UID:10001254-1780162200-1780167600@judokano.be
SUMMARY:Stage Perfectionnement
DESCRIPTION:Horaire sur l’affiche.
URL:http://judokano.be/event/stage-perfectionnement/2026-05-30/
LOCATION:KanoTournai\, 76 rue Roc Saint-Nicaise\, Tournai\, 7500\, Belgique
CATEGORIES:Activités,Tous
ATTACH;FMTTYPE=image/png:http://judokano.be/wp-content/uploads/2026/04/stage4-8.png
END:VEVENT
BEGIN:VEVENT
DTSTART;TZID=Europe/Paris:20260531T173000
DTEND;TZID=Europe/Paris:20260531T190000
DTSTAMP:20260426T020832
CREATED:20260422T140338Z
LAST-MODIFIED:20260422T140338Z
UID:10001255-1780248600-1780254000@judokano.be
SUMMARY:Stage Perfectionnement
DESCRIPTION:Horaire sur l’affiche.
URL:http://judokano.be/event/stage-perfectionnement/2026-05-31/
LOCATION:KanoTournai\, 76 rue Roc Saint-Nicaise\, Tournai\, 7500\, Belgique
CATEGORIES:Activités,Tous
ATTACH;FMTTYPE=image/png:http://judokano.be/wp-content/uploads/2026/04/stage4-8.png
END:VEVENT
BEGIN:VEVENT
DTSTART;TZID=Europe/Paris:20260601T173000
DTEND;TZID=Europe/Paris:20260601T190000
DTSTAMP:20260426T020832
CREATED:20250908T125354Z
LAST-MODIFIED:20250908T125354Z
UID:10001164-1780335000-1780340400@judokano.be
SUMMARY:Session Uchikomis
DESCRIPTION:
URL:http://judokano.be/event/session-uchikomis/2026-06-01/
LOCATION:KanoTournai\, 76 rue Roc Saint-Nicaise\, Tournai\, 7500\, Belgique
CATEGORIES:Cours
END:VEVENT
BEGIN:VEVENT
DTSTART;TZID=Europe/Paris:20260601T173000
DTEND;TZID=Europe/Paris:20260601T190000
DTSTAMP:20260426T020832
CREATED:20260422T140338Z
LAST-MODIFIED:20260422T140338Z
UID:10001256-1780335000-1780340400@judokano.be
SUMMARY:Stage Perfectionnement
DESCRIPTION:Horaire sur l’affiche.
URL:http://judokano.be/event/stage-perfectionnement/2026-06-01/
LOCATION:KanoTournai\, 76 rue Roc Saint-Nicaise\, Tournai\, 7500\, Belgique
CATEGORIES:Activités,Tous
ATTACH;FMTTYPE=image/png:http://judokano.be/wp-content/uploads/2026/04/stage4-8.png
END:VEVENT
BEGIN:VEVENT
DTSTART;TZID=Europe/Paris:20260602T173000
DTEND;TZID=Europe/Paris:20260602T190000
DTSTAMP:20260426T020832
CREATED:20260422T140338Z
LAST-MODIFIED:20260422T140338Z
UID:10001257-1780421400-1780426800@judokano.be
SUMMARY:Stage Perfectionnement
DESCRIPTION:Horaire sur l’affiche.
URL:http://judokano.be/event/stage-perfectionnement/2026-06-02/
LOCATION:KanoTournai\, 76 rue Roc Saint-Nicaise\, Tournai\, 7500\, Belgique
CATEGORIES:Activités,Tous
ATTACH;FMTTYPE=image/png:http://judokano.be/wp-content/uploads/2026/04/stage4-8.png
END:VEVENT
BEGIN:VEVENT
DTSTART;TZID=Europe/Paris:20260603T170000
DTEND;TZID=Europe/Paris:20260603T203000
DTSTAMP:20260426T020832
CREATED:20241217T172349Z
LAST-MODIFIED:20241217T173204Z
UID:10001013-1780506000-1780518600@judokano.be
SUMMARY:Entrainement Judo
DESCRIPTION:U7-U9: 17h00-18h00 \nU11-U13: 18h00-19h00 \nU15+ : 19h00-20h30
URL:http://judokano.be/event/entrainement-judo/2026-06-03/
LOCATION:KanoTournai\, 76 rue Roc Saint-Nicaise\, Tournai\, 7500\, Belgique
CATEGORIES:Cours
END:VEVENT
BEGIN:VEVENT
DTSTART;TZID=Europe/Paris:20260603T173000
DTEND;TZID=Europe/Paris:20260603T190000
DTSTAMP:20260426T020832
CREATED:20260422T140338Z
LAST-MODIFIED:20260422T140338Z
UID:10001258-1780507800-1780513200@judokano.be
SUMMARY:Stage Perfectionnement
DESCRIPTION:Horaire sur l’affiche.
URL:http://judokano.be/event/stage-perfectionnement/2026-06-03/
LOCATION:KanoTournai\, 76 rue Roc Saint-Nicaise\, Tournai\, 7500\, Belgique
CATEGORIES:Activités,Tous
ATTACH;FMTTYPE=image/png:http://judokano.be/wp-content/uploads/2026/04/stage4-8.png
END:VEVENT
BEGIN:VEVENT
DTSTART;TZID=Europe/Paris:20260604T173000
DTEND;TZID=Europe/Paris:20260604T190000
DTSTAMP:20260426T020832
CREATED:20260422T140338Z
LAST-MODIFIED:20260422T140338Z
UID:10001259-1780594200-1780599600@judokano.be
SUMMARY:Stage Perfectionnement
DESCRIPTION:Horaire sur l’affiche.
URL:http://judokano.be/event/stage-perfectionnement/2026-06-04/
LOCATION:KanoTournai\, 76 rue Roc Saint-Nicaise\, Tournai\, 7500\, Belgique
CATEGORIES:Activités,Tous
ATTACH;FMTTYPE=image/png:http://judokano.be/wp-content/uploads/2026/04/stage4-8.png
END:VEVENT
BEGIN:VEVENT
DTSTART;TZID=Europe/Paris:20260605T173000
DTEND;TZID=Europe/Paris:20260605T190000
DTSTAMP:20260426T020832
CREATED:20260422T140338Z
LAST-MODIFIED:20260422T140338Z
UID:10001260-1780680600-1780686000@judokano.be
SUMMARY:Stage Perfectionnement
DESCRIPTION:Horaire sur l’affiche.
URL:http://judokano.be/event/stage-perfectionnement/2026-06-05/
LOCATION:KanoTournai\, 76 rue Roc Saint-Nicaise\, Tournai\, 7500\, Belgique
CATEGORIES:Activités,Tous
ATTACH;FMTTYPE=image/png:http://judokano.be/wp-content/uploads/2026/04/stage4-8.png
END:VEVENT
BEGIN:VEVENT
DTSTART;TZID=Europe/Paris:20260605T173000
DTEND;TZID=Europe/Paris:20260605T210000
DTSTAMP:20260426T020832
CREATED:20241217T172523Z
LAST-MODIFIED:20241218T065600Z
UID:10001091-1780680600-1780693200@judokano.be
SUMMARY:Entrainement judo
DESCRIPTION:U07-U09: 17h30-18h30 \nU11-U13: 18h30-19h30 \nU15+ : 19h30-21h00
URL:http://judokano.be/event/entrainement-judo-2/2026-06-05/
LOCATION:KanoTournai\, 76 rue Roc Saint-Nicaise\, Tournai\, 7500\, Belgique
CATEGORIES:Cours
END:VEVENT
BEGIN:VEVENT
DTSTART;TZID=Europe/Paris:20260606T173000
DTEND;TZID=Europe/Paris:20260606T190000
DTSTAMP:20260426T020832
CREATED:20260422T140338Z
LAST-MODIFIED:20260422T140338Z
UID:10001261-1780767000-1780772400@judokano.be
SUMMARY:Stage Perfectionnement
DESCRIPTION:Horaire sur l’affiche.
URL:http://judokano.be/event/stage-perfectionnement/2026-06-06/
LOCATION:KanoTournai\, 76 rue Roc Saint-Nicaise\, Tournai\, 7500\, Belgique
CATEGORIES:Activités,Tous
ATTACH;FMTTYPE=image/png:http://judokano.be/wp-content/uploads/2026/04/stage4-8.png
END:VEVENT
BEGIN:VEVENT
DTSTART;TZID=Europe/Paris:20260607T173000
DTEND;TZID=Europe/Paris:20260607T190000
DTSTAMP:20260426T020832
CREATED:20260422T140338Z
LAST-MODIFIED:20260422T140338Z
UID:10001262-1780853400-1780858800@judokano.be
SUMMARY:Stage Perfectionnement
DESCRIPTION:Horaire sur l’affiche.
URL:http://judokano.be/event/stage-perfectionnement/2026-06-07/
LOCATION:KanoTournai\, 76 rue Roc Saint-Nicaise\, Tournai\, 7500\, Belgique
CATEGORIES:Activités,Tous
ATTACH;FMTTYPE=image/png:http://judokano.be/wp-content/uploads/2026/04/stage4-8.png
END:VEVENT
BEGIN:VEVENT
DTSTART;TZID=Europe/Paris:20260608T173000
DTEND;TZID=Europe/Paris:20260608T190000
DTSTAMP:20260426T020832
CREATED:20260422T140338Z
LAST-MODIFIED:20260422T140338Z
UID:10001263-1780939800-1780945200@judokano.be
SUMMARY:Stage Perfectionnement
DESCRIPTION:Horaire sur l’affiche.
URL:http://judokano.be/event/stage-perfectionnement/2026-06-08/
LOCATION:KanoTournai\, 76 rue Roc Saint-Nicaise\, Tournai\, 7500\, Belgique
CATEGORIES:Activités,Tous
ATTACH;FMTTYPE=image/png:http://judokano.be/wp-content/uploads/2026/04/stage4-8.png
END:VEVENT
BEGIN:VEVENT
DTSTART;TZID=Europe/Paris:20260609T173000
DTEND;TZID=Europe/Paris:20260609T190000
DTSTAMP:20260426T020832
CREATED:20260422T140338Z
LAST-MODIFIED:20260422T140338Z
UID:10001264-1781026200-1781031600@judokano.be
SUMMARY:Stage Perfectionnement
DESCRIPTION:Horaire sur l’affiche.
URL:http://judokano.be/event/stage-perfectionnement/2026-06-09/
LOCATION:KanoTournai\, 76 rue Roc Saint-Nicaise\, Tournai\, 7500\, Belgique
CATEGORIES:Activités,Tous
ATTACH;FMTTYPE=image/png:http://judokano.be/wp-content/uploads/2026/04/stage4-8.png
END:VEVENT
BEGIN:VEVENT
DTSTART;TZID=Europe/Paris:20260610T170000
DTEND;TZID=Europe/Paris:20260610T203000
DTSTAMP:20260426T020832
CREATED:20241217T172349Z
LAST-MODIFIED:20241217T173204Z
UID:10001014-1781110800-1781123400@judokano.be
SUMMARY:Entrainement Judo
DESCRIPTION:U7-U9: 17h00-18h00 \nU11-U13: 18h00-19h00 \nU15+ : 19h00-20h30
URL:http://judokano.be/event/entrainement-judo/2026-06-10/
LOCATION:KanoTournai\, 76 rue Roc Saint-Nicaise\, Tournai\, 7500\, Belgique
CATEGORIES:Cours
END:VEVENT
BEGIN:VEVENT
DTSTART;TZID=Europe/Paris:20260610T173000
DTEND;TZID=Europe/Paris:20260610T190000
DTSTAMP:20260426T020832
CREATED:20260422T140338Z
LAST-MODIFIED:20260422T140338Z
UID:10001265-1781112600-1781118000@judokano.be
SUMMARY:Stage Perfectionnement
DESCRIPTION:Horaire sur l’affiche.
URL:http://judokano.be/event/stage-perfectionnement/2026-06-10/
LOCATION:KanoTournai\, 76 rue Roc Saint-Nicaise\, Tournai\, 7500\, Belgique
CATEGORIES:Activités,Tous
ATTACH;FMTTYPE=image/png:http://judokano.be/wp-content/uploads/2026/04/stage4-8.png
END:VEVENT
BEGIN:VEVENT
DTSTART;TZID=Europe/Paris:20260611T173000
DTEND;TZID=Europe/Paris:20260611T190000
DTSTAMP:20260426T020832
CREATED:20260422T140338Z
LAST-MODIFIED:20260422T140338Z
UID:10001266-1781199000-1781204400@judokano.be
SUMMARY:Stage Perfectionnement
DESCRIPTION:Horaire sur l’affiche.
URL:http://judokano.be/event/stage-perfectionnement/2026-06-11/
LOCATION:KanoTournai\, 76 rue Roc Saint-Nicaise\, Tournai\, 7500\, Belgique
CATEGORIES:Activités,Tous
ATTACH;FMTTYPE=image/png:http://judokano.be/wp-content/uploads/2026/04/stage4-8.png
END:VEVENT
BEGIN:VEVENT
DTSTART;TZID=Europe/Paris:20260612T173000
DTEND;TZID=Europe/Paris:20260612T190000
DTSTAMP:20260426T020832
CREATED:20260422T140338Z
LAST-MODIFIED:20260422T140338Z
UID:10001267-1781285400-1781290800@judokano.be
SUMMARY:Stage Perfectionnement
DESCRIPTION:Horaire sur l’affiche.
URL:http://judokano.be/event/stage-perfectionnement/2026-06-12/
LOCATION:KanoTournai\, 76 rue Roc Saint-Nicaise\, Tournai\, 7500\, Belgique
CATEGORIES:Activités,Tous
ATTACH;FMTTYPE=image/png:http://judokano.be/wp-content/uploads/2026/04/stage4-8.png
END:VEVENT
BEGIN:VEVENT
DTSTART;TZID=Europe/Paris:20260612T173000
DTEND;TZID=Europe/Paris:20260612T210000
DTSTAMP:20260426T020832
CREATED:20241217T172523Z
LAST-MODIFIED:20241218T065600Z
UID:10001092-1781285400-1781298000@judokano.be
SUMMARY:Entrainement judo
DESCRIPTION:U07-U09: 17h30-18h30 \nU11-U13: 18h30-19h30 \nU15+ : 19h30-21h00
URL:http://judokano.be/event/entrainement-judo-2/2026-06-12/
LOCATION:KanoTournai\, 76 rue Roc Saint-Nicaise\, Tournai\, 7500\, Belgique
CATEGORIES:Cours
END:VEVENT
BEGIN:VEVENT
DTSTART;TZID=Europe/Paris:20260613T173000
DTEND;TZID=Europe/Paris:20260613T190000
DTSTAMP:20260426T020832
CREATED:20260422T140338Z
LAST-MODIFIED:20260422T140338Z
UID:10001268-1781371800-1781377200@judokano.be
SUMMARY:Stage Perfectionnement
DESCRIPTION:Horaire sur l’affiche.
URL:http://judokano.be/event/stage-perfectionnement/2026-06-13/
LOCATION:KanoTournai\, 76 rue Roc Saint-Nicaise\, Tournai\, 7500\, Belgique
CATEGORIES:Activités,Tous
ATTACH;FMTTYPE=image/png:http://judokano.be/wp-content/uploads/2026/04/stage4-8.png
END:VEVENT
BEGIN:VEVENT
DTSTART;TZID=Europe/Paris:20260614T173000
DTEND;TZID=Europe/Paris:20260614T190000
DTSTAMP:20260426T020832
CREATED:20260422T140338Z
LAST-MODIFIED:20260422T140338Z
UID:10001269-1781458200-1781463600@judokano.be
SUMMARY:Stage Perfectionnement
DESCRIPTION:Horaire sur l’affiche.
URL:http://judokano.be/event/stage-perfectionnement/2026-06-14/
LOCATION:KanoTournai\, 76 rue Roc Saint-Nicaise\, Tournai\, 7500\, Belgique
CATEGORIES:Activités,Tous
ATTACH;FMTTYPE=image/png:http://judokano.be/wp-content/uploads/2026/04/stage4-8.png
END:VEVENT
END:VCALENDAR