BEGIN:VCALENDAR
VERSION:2.0
PRODID:-//KanoTournai - ECPv6.15.20//NONSGML v1.0//EN
CALSCALE:GREGORIAN
METHOD:PUBLISH
X-WR-CALNAME:KanoTournai
X-ORIGINAL-URL:http://judokano.be
X-WR-CALDESC:Évènements pour KanoTournai
REFRESH-INTERVAL;VALUE=DURATION:PT1H
X-Robots-Tag:noindex
X-PUBLISHED-TTL:PT1H
BEGIN:VTIMEZONE
TZID:Europe/Paris
BEGIN:DAYLIGHT
TZOFFSETFROM:+0100
TZOFFSETTO:+0200
TZNAME:CEST
DTSTART:20250330T010000
END:DAYLIGHT
BEGIN:STANDARD
TZOFFSETFROM:+0200
TZOFFSETTO:+0100
TZNAME:CET
DTSTART:20251026T010000
END:STANDARD
BEGIN:DAYLIGHT
TZOFFSETFROM:+0100
TZOFFSETTO:+0200
TZNAME:CEST
DTSTART:20260329T010000
END:DAYLIGHT
BEGIN:STANDARD
TZOFFSETFROM:+0200
TZOFFSETTO:+0100
TZNAME:CET
DTSTART:20261025T010000
END:STANDARD
BEGIN:DAYLIGHT
TZOFFSETFROM:+0100
TZOFFSETTO:+0200
TZNAME:CEST
DTSTART:20270328T010000
END:DAYLIGHT
BEGIN:STANDARD
TZOFFSETFROM:+0200
TZOFFSETTO:+0100
TZNAME:CET
DTSTART:20271031T010000
END:STANDARD
END:VTIMEZONE
BEGIN:VEVENT
DTSTART;TZID=Europe/Paris:20260424T173000
DTEND;TZID=Europe/Paris:20260424T210000
DTSTAMP:20260425T163731
CREATED:20241217T172523Z
LAST-MODIFIED:20241218T065600Z
UID:10001085-1777051800-1777064400@judokano.be
SUMMARY:Entrainement judo
DESCRIPTION:U07-U09: 17h30-18h30 \nU11-U13: 18h30-19h30 \nU15+ : 19h30-21h00
URL:http://judokano.be/event/entrainement-judo-2/2026-04-24/
LOCATION:KanoTournai\, 76 rue Roc Saint-Nicaise\, Tournai\, 7500\, Belgique
CATEGORIES:Cours
END:VEVENT
BEGIN:VEVENT
DTSTART;TZID=Europe/Paris:20260422T170000
DTEND;TZID=Europe/Paris:20260422T203000
DTSTAMP:20260425T163731
CREATED:20241217T172349Z
LAST-MODIFIED:20241217T173204Z
UID:10001007-1776877200-1776889800@judokano.be
SUMMARY:Entrainement Judo
DESCRIPTION:U7-U9: 17h00-18h00 \nU11-U13: 18h00-19h00 \nU15+ : 19h00-20h30
URL:http://judokano.be/event/entrainement-judo/2026-04-22/
LOCATION:KanoTournai\, 76 rue Roc Saint-Nicaise\, Tournai\, 7500\, Belgique
CATEGORIES:Cours
END:VEVENT
BEGIN:VEVENT
DTSTART;TZID=Europe/Paris:20260420T173000
DTEND;TZID=Europe/Paris:20260420T190000
DTSTAMP:20260425T163731
CREATED:20250908T125120Z
LAST-MODIFIED:20250908T125256Z
UID:10001152-1776706200-1776711600@judokano.be
SUMMARY:Cours Kata & Uchikomis
DESCRIPTION:
URL:http://judokano.be/event/cours-kata-3/2026-04-20/
LOCATION:KanoTournai\, 76 rue Roc Saint-Nicaise\, Tournai\, 7500\, Belgique
CATEGORIES:Cours
END:VEVENT
BEGIN:VEVENT
DTSTART;VALUE=DATE:20260419
DTEND;VALUE=DATE:20260420
DTSTAMP:20260425T163731
CREATED:20260331T161416Z
LAST-MODIFIED:20260331T162442Z
UID:10001226-1776556800-1776643199@judokano.be
SUMMARY:Rencontre U11 U13 Moorsele
DESCRIPTION:bro_b682e228d5661813d4c087d1900ca4e4_10754\n\n	Remarque : JavaScript est requis pour ce contenu.
URL:http://judokano.be/event/rencontre-u11-u13-moorsele/
LOCATION:Moorsele
CATEGORIES:Compétitions
END:VEVENT
BEGIN:VEVENT
DTSTART;TZID=Europe/Paris:20260418T080000
DTEND;TZID=Europe/Paris:20260418T170000
DTSTAMP:20260425T163731
CREATED:20260102T161019Z
LAST-MODIFIED:20260102T161658Z
UID:10001209-1776499200-1776531600@judokano.be
SUMMARY:Instap Tornooi Moorsele U18+
DESCRIPTION:moorsele\nTounoi Verte & Bleue U18+ & Marron-Noire ! \n\n	Remarque : JavaScript est requis pour ce contenu.
URL:http://judokano.be/event/instap-tornooi-moorsele-u18/
LOCATION:Moorsele
CATEGORIES:Compétitions
END:VEVENT
BEGIN:VEVENT
DTSTART;TZID=Europe/Paris:20260417T173000
DTEND;TZID=Europe/Paris:20260417T210000
DTSTAMP:20260425T163731
CREATED:20241217T172523Z
LAST-MODIFIED:20241218T065600Z
UID:10001084-1776447000-1776459600@judokano.be
SUMMARY:Entrainement judo
DESCRIPTION:U07-U09: 17h30-18h30 \nU11-U13: 18h30-19h30 \nU15+ : 19h30-21h00
URL:http://judokano.be/event/entrainement-judo-2/2026-04-17/
LOCATION:KanoTournai\, 76 rue Roc Saint-Nicaise\, Tournai\, 7500\, Belgique
CATEGORIES:Cours
END:VEVENT
BEGIN:VEVENT
DTSTART;TZID=Europe/Paris:20260415T170000
DTEND;TZID=Europe/Paris:20260415T203000
DTSTAMP:20260425T163731
CREATED:20241217T172349Z
LAST-MODIFIED:20241217T173204Z
UID:10001006-1776272400-1776285000@judokano.be
SUMMARY:Entrainement Judo
DESCRIPTION:U7-U9: 17h00-18h00 \nU11-U13: 18h00-19h00 \nU15+ : 19h00-20h30
URL:http://judokano.be/event/entrainement-judo/2026-04-15/
LOCATION:KanoTournai\, 76 rue Roc Saint-Nicaise\, Tournai\, 7500\, Belgique
CATEGORIES:Cours
END:VEVENT
BEGIN:VEVENT
DTSTART;TZID=Europe/Paris:20260410T173000
DTEND;TZID=Europe/Paris:20260410T210000
DTSTAMP:20260425T163731
CREATED:20241217T172523Z
LAST-MODIFIED:20241218T065600Z
UID:10001083-1775842200-1775854800@judokano.be
SUMMARY:Entrainement judo
DESCRIPTION:U07-U09: 17h30-18h30 \nU11-U13: 18h30-19h30 \nU15+ : 19h30-21h00
URL:http://judokano.be/event/entrainement-judo-2/2026-04-10/
LOCATION:KanoTournai\, 76 rue Roc Saint-Nicaise\, Tournai\, 7500\, Belgique
CATEGORIES:Cours
END:VEVENT
BEGIN:VEVENT
DTSTART;TZID=Europe/Paris:20260408T170000
DTEND;TZID=Europe/Paris:20260408T203000
DTSTAMP:20260425T163731
CREATED:20241217T172349Z
LAST-MODIFIED:20241217T173204Z
UID:10001005-1775667600-1775680200@judokano.be
SUMMARY:Entrainement Judo
DESCRIPTION:U7-U9: 17h00-18h00 \nU11-U13: 18h00-19h00 \nU15+ : 19h00-20h30
URL:http://judokano.be/event/entrainement-judo/2026-04-08/
LOCATION:KanoTournai\, 76 rue Roc Saint-Nicaise\, Tournai\, 7500\, Belgique
CATEGORIES:Cours
END:VEVENT
BEGIN:VEVENT
DTSTART;TZID=Europe/Paris:20260406T173000
DTEND;TZID=Europe/Paris:20260406T190000
DTSTAMP:20260425T163731
CREATED:20250908T125354Z
LAST-MODIFIED:20250908T125354Z
UID:10001162-1775496600-1775502000@judokano.be
SUMMARY:Session Uchikomis
DESCRIPTION:
URL:http://judokano.be/event/session-uchikomis/2026-04-06/
LOCATION:KanoTournai\, 76 rue Roc Saint-Nicaise\, Tournai\, 7500\, Belgique
CATEGORIES:Cours
END:VEVENT
BEGIN:VEVENT
DTSTART;TZID=Europe/Paris:20260405T080000
DTEND;TZID=Europe/Paris:20260405T170000
DTSTAMP:20260425T163731
CREATED:20251212T151051Z
LAST-MODIFIED:20251212T151410Z
UID:10001185-1775376000-1775408400@judokano.be
SUMMARY:Tournoi de Maubeuge
DESCRIPTION:2026-04-05 U18 excellence cadets Maubeuge\n  \n\n	Remarque : JavaScript est requis pour ce contenu.
URL:http://judokano.be/event/tournoi-de-maubeuge/
LOCATION:Maubeuge\, Maubeuge\, France
CATEGORIES:Compétitions
END:VEVENT
BEGIN:VEVENT
DTSTART;TZID=Europe/Paris:20260403T173000
DTEND;TZID=Europe/Paris:20260403T210000
DTSTAMP:20260425T163731
CREATED:20241217T172523Z
LAST-MODIFIED:20241218T065600Z
UID:10001082-1775237400-1775250000@judokano.be
SUMMARY:Entrainement judo
DESCRIPTION:U07-U09: 17h30-18h30 \nU11-U13: 18h30-19h30 \nU15+ : 19h30-21h00
URL:http://judokano.be/event/entrainement-judo-2/2026-04-03/
LOCATION:KanoTournai\, 76 rue Roc Saint-Nicaise\, Tournai\, 7500\, Belgique
CATEGORIES:Cours
END:VEVENT
BEGIN:VEVENT
DTSTART;TZID=Europe/Paris:20260401T170000
DTEND;TZID=Europe/Paris:20260401T203000
DTSTAMP:20260425T163731
CREATED:20241217T172349Z
LAST-MODIFIED:20241217T173204Z
UID:10001004-1775062800-1775075400@judokano.be
SUMMARY:Entrainement Judo
DESCRIPTION:U7-U9: 17h00-18h00 \nU11-U13: 18h00-19h00 \nU15+ : 19h00-20h30
URL:http://judokano.be/event/entrainement-judo/2026-04-01/
LOCATION:KanoTournai\, 76 rue Roc Saint-Nicaise\, Tournai\, 7500\, Belgique
CATEGORIES:Cours
END:VEVENT
BEGIN:VEVENT
DTSTART;TZID=Europe/Paris:20260329T090000
DTEND;TZID=Europe/Paris:20260329T170000
DTSTAMP:20260425T163731
CREATED:20251222T120938Z
LAST-MODIFIED:20251222T120938Z
UID:10001198-1774774800-1774803600@judokano.be
SUMMARY:Tournoi de Houthulst U11 U13
DESCRIPTION:20260329houthuslt\n\n	Remarque : JavaScript est requis pour ce contenu.\n\n\n    \n\n\n        \n        \n        \n 
URL:http://judokano.be/event/tournoi-de-houthulst-u11-u13/
LOCATION:Houthulst\, Paardedreef 6\, Houthulst\, 8650
CATEGORIES:Compétitions
END:VEVENT
BEGIN:VEVENT
DTSTART;TZID=Europe/Paris:20260328T170000
DTEND;TZID=Europe/Paris:20260328T190000
DTSTAMP:20260425T163731
CREATED:20251204T125052Z
LAST-MODIFIED:20260227T081052Z
UID:10001213-1774717200-1774724400@judokano.be
SUMMARY:Randori Training
DESCRIPTION:Dès 2026\, le Kano Tournai lance un nouveau rendez-vous incontournable pour les judokas à la recherche de volume et d’intensité. Une fois par mois\, nous vous proposons un Randori Training pur\, fidèle à la tradition de l’entraînement à la japonaise. \nL’objectif est clair : travailler le cardio\, la résistance et la technique en situation de fatigue\, sans temps morts inutiles. C’est l’occasion idéale de se tester et de progresser dans une ambiance de travail studieuse et martiale. \nAu programme de cette session : Le format est dense et conçu pour l’endurance. \n\n\nTachi-waza (Debout) : 10 randoris de 5 à 6 minutes. \n\n\nNe-waza (Sol) : 5 randoris. \n\n\nCe cours est ouvert aux judokas motivés (Cadets\, Juniors\, Seniors) prêts à relever le défi physique. \nInfos pratiques : \n\n\n📅 Date : Samedi 31 janvier 2026 (Première édition !) \n\n\n📍 Lieu : Kano Tournai \n\n\n🥋 Équipement : Judogi (et de quoi s’hydrater !) \n\n\nVenez nombreux pour partager l’effort et la passion du Judo.
URL:http://judokano.be/event/randori-training/2026-03-28/
LOCATION:KanoTournai\, 76 rue Roc Saint-Nicaise\, Tournai\, 7500\, Belgique
CATEGORIES:Cours
ATTACH;FMTTYPE=image/png:http://judokano.be/wp-content/uploads/2025/12/randoriT.png
END:VEVENT
BEGIN:VEVENT
DTSTART;TZID=Europe/Paris:20260328T100000
DTEND;TZID=Europe/Paris:20260328T190000
DTSTAMP:20260425T163731
CREATED:20260206T085500Z
LAST-MODIFIED:20260210T115955Z
UID:10001210-1774692000-1774724400@judokano.be
SUMMARY:MasterClass Jorre Verstraeten
DESCRIPTION:C’est un événement de haut vol qui se prépare sur les tatamis du Kano Tournai ! \nLe samedi 28 mars 2026\, nous avons l’immense honneur d’accueillir l’un des fers de lance du judo belge : Jorre Verstraeten. Multiple médaillé européen et figure incontournable du circuit international\, Jorre vient partager son expertise\, sa technique et sa passion avec nous. \nQue tu sois en quête de perfectionnement technique ou que tu souhaites simplement t’inspirer du parcours d’un athlète d’élite\, cette Master Class est faite pour toi. Fidèles à nos valeurs de bienveillance et de dépassement de soi\, nous t’attendons pour une journée placée sous le signe de l’entraide et de la prospérité mutuelle. \n\nLe Programme de la Journée\nPréparez vos judogis pour un programme intense et complet : \n10h00 – 12h00 : Master Class – Session 1 \n12h00 – 14h00 : Pause (récupération et échanges) \n14h00 – 16h00 : Master Class – Session 2 \n16h45 – 18h45 : Session Randori (pour ceux qui veulent mettre en pratique les conseils de Jorre et tester leur détermination) \n\nPourquoi participer ?\nL’Excellence Technique : Apprends les détails qui font la différence au plus haut niveau mondial. \nL’Esprit Kano : Partage un moment privilégié avec la communauté du judo. \nLe Défi : Termine la journée par une session de randori pour exprimer ton judo dans le respect du Code Moral. \nNe manque pas cette occasion unique de progresser aux côtés d’un champion d’exception. Marque bien la date du samedi 28 mars dans ton agenda ! \nOn se voit sur le tapis ? \n\n	Remarque : JavaScript est requis pour ce contenu.\n\n\n    \n\n\n        \n        \n         \n\nPayer par QR code si vous le désirez:
URL:http://judokano.be/event/masterclass-jorre-verstraeten/
LOCATION:KanoTournai\, 76 rue Roc Saint-Nicaise\, Tournai\, 7500\, Belgique
CATEGORIES:Activités,Tous
ATTACH;FMTTYPE=image/png:http://judokano.be/wp-content/uploads/2026/02/MC-Jorre-Final-WEB.png
END:VEVENT
BEGIN:VEVENT
DTSTART;TZID=Europe/Paris:20260327T173000
DTEND;TZID=Europe/Paris:20260327T210000
DTSTAMP:20260425T163731
CREATED:20241217T172523Z
LAST-MODIFIED:20241218T065600Z
UID:10001081-1774632600-1774645200@judokano.be
SUMMARY:Entrainement judo
DESCRIPTION:U07-U09: 17h30-18h30 \nU11-U13: 18h30-19h30 \nU15+ : 19h30-21h00
URL:http://judokano.be/event/entrainement-judo-2/2026-03-27/
LOCATION:KanoTournai\, 76 rue Roc Saint-Nicaise\, Tournai\, 7500\, Belgique
CATEGORIES:Cours
END:VEVENT
BEGIN:VEVENT
DTSTART;TZID=Europe/Paris:20260325T170000
DTEND;TZID=Europe/Paris:20260325T203000
DTSTAMP:20260425T163731
CREATED:20241217T172349Z
LAST-MODIFIED:20241217T173204Z
UID:10001003-1774458000-1774470600@judokano.be
SUMMARY:Entrainement Judo
DESCRIPTION:U7-U9: 17h00-18h00 \nU11-U13: 18h00-19h00 \nU15+ : 19h00-20h30
URL:http://judokano.be/event/entrainement-judo/2026-03-25/
LOCATION:KanoTournai\, 76 rue Roc Saint-Nicaise\, Tournai\, 7500\, Belgique
CATEGORIES:Cours
END:VEVENT
BEGIN:VEVENT
DTSTART;TZID=Europe/Paris:20260320T173000
DTEND;TZID=Europe/Paris:20260320T210000
DTSTAMP:20260425T163731
CREATED:20241217T172523Z
LAST-MODIFIED:20241218T065600Z
UID:10001080-1774027800-1774040400@judokano.be
SUMMARY:Entrainement judo
DESCRIPTION:U07-U09: 17h30-18h30 \nU11-U13: 18h30-19h30 \nU15+ : 19h30-21h00
URL:http://judokano.be/event/entrainement-judo-2/2026-03-20/
LOCATION:KanoTournai\, 76 rue Roc Saint-Nicaise\, Tournai\, 7500\, Belgique
CATEGORIES:Cours
END:VEVENT
BEGIN:VEVENT
DTSTART;TZID=Europe/Paris:20260318T170000
DTEND;TZID=Europe/Paris:20260318T203000
DTSTAMP:20260425T163731
CREATED:20241217T172349Z
LAST-MODIFIED:20241217T173204Z
UID:10001002-1773853200-1773865800@judokano.be
SUMMARY:Entrainement Judo
DESCRIPTION:U7-U9: 17h00-18h00 \nU11-U13: 18h00-19h00 \nU15+ : 19h00-20h30
URL:http://judokano.be/event/entrainement-judo/2026-03-18/
LOCATION:KanoTournai\, 76 rue Roc Saint-Nicaise\, Tournai\, 7500\, Belgique
CATEGORIES:Cours
END:VEVENT
BEGIN:VEVENT
DTSTART;TZID=Europe/Paris:20260316T173000
DTEND;TZID=Europe/Paris:20260316T190000
DTSTAMP:20260425T163731
CREATED:20250908T125120Z
LAST-MODIFIED:20250908T125256Z
UID:10001151-1773682200-1773687600@judokano.be
SUMMARY:Cours Kata & Uchikomis
DESCRIPTION:
URL:http://judokano.be/event/cours-kata-3/2026-03-16/
LOCATION:KanoTournai\, 76 rue Roc Saint-Nicaise\, Tournai\, 7500\, Belgique
CATEGORIES:Cours
END:VEVENT
BEGIN:VEVENT
DTSTART;TZID=Europe/Paris:20260315T080000
DTEND;TZID=Europe/Paris:20260315T170000
DTSTAMP:20260425T163731
CREATED:20251222T104525Z
LAST-MODIFIED:20251222T104525Z
UID:10001196-1773561600-1773594000@judokano.be
SUMMARY:Grand Prix de Soignies
DESCRIPTION:Remarque : JavaScript est requis pour ce contenu.
URL:http://judokano.be/event/grand-prix-de-soignies-2/
LOCATION:Soignies\, rue cognebeau\, soignies\, Belgique
CATEGORIES:Compétitions
END:VEVENT
BEGIN:VEVENT
DTSTART;VALUE=DATE:20260314
DTEND;VALUE=DATE:20260316
DTSTAMP:20260425T163731
CREATED:20251204T073721Z
LAST-MODIFIED:20251204T073721Z
UID:10001171-1773446400-1773619199@judokano.be
SUMMARY:Stage International Soeverein U15 U18 U21+
DESCRIPTION:3rd International IHJA Soeverein Training Camp\nInfos: https://ihja.be/ \n  \n 
URL:http://judokano.be/event/stage-international-soeverein-u15-u18-u21/
LOCATION:Lommel\, Sportveldenstraat 10\, Lommel\, 3920\, Belgium
CATEGORIES:Activités
END:VEVENT
BEGIN:VEVENT
DTSTART;VALUE=DATE:20260314
DTEND;VALUE=DATE:20260315
DTSTAMP:20260425T163731
CREATED:20251222T110140Z
LAST-MODIFIED:20251222T110140Z
UID:10001197-1773446400-1773532799@judokano.be
SUMMARY:Grand Prix de Soignies
DESCRIPTION:Remarque : JavaScript est requis pour ce contenu.
URL:http://judokano.be/event/grand-prix-de-soignies-3/
LOCATION:Soignies\, rue cognebeau\, soignies\, Belgique
CATEGORIES:Compétitions
END:VEVENT
BEGIN:VEVENT
DTSTART;TZID=Europe/Paris:20260313T173000
DTEND;TZID=Europe/Paris:20260313T210000
DTSTAMP:20260425T163731
CREATED:20241217T172523Z
LAST-MODIFIED:20241218T065600Z
UID:10001079-1773423000-1773435600@judokano.be
SUMMARY:Entrainement judo
DESCRIPTION:U07-U09: 17h30-18h30 \nU11-U13: 18h30-19h30 \nU15+ : 19h30-21h00
URL:http://judokano.be/event/entrainement-judo-2/2026-03-13/
LOCATION:KanoTournai\, 76 rue Roc Saint-Nicaise\, Tournai\, 7500\, Belgique
CATEGORIES:Cours
END:VEVENT
BEGIN:VEVENT
DTSTART;TZID=Europe/Paris:20260311T170000
DTEND;TZID=Europe/Paris:20260311T203000
DTSTAMP:20260425T163731
CREATED:20241217T172349Z
LAST-MODIFIED:20241217T173204Z
UID:10001001-1773248400-1773261000@judokano.be
SUMMARY:Entrainement Judo
DESCRIPTION:U7-U9: 17h00-18h00 \nU11-U13: 18h00-19h00 \nU15+ : 19h00-20h30
URL:http://judokano.be/event/entrainement-judo/2026-03-11/
LOCATION:KanoTournai\, 76 rue Roc Saint-Nicaise\, Tournai\, 7500\, Belgique
CATEGORIES:Cours
END:VEVENT
BEGIN:VEVENT
DTSTART;TZID=Europe/Paris:20260306T173000
DTEND;TZID=Europe/Paris:20260306T210000
DTSTAMP:20260425T163731
CREATED:20241217T172523Z
LAST-MODIFIED:20241218T065600Z
UID:10001078-1772818200-1772830800@judokano.be
SUMMARY:Entrainement judo
DESCRIPTION:U07-U09: 17h30-18h30 \nU11-U13: 18h30-19h30 \nU15+ : 19h30-21h00
URL:http://judokano.be/event/entrainement-judo-2/2026-03-06/
LOCATION:KanoTournai\, 76 rue Roc Saint-Nicaise\, Tournai\, 7500\, Belgique
CATEGORIES:Cours
END:VEVENT
BEGIN:VEVENT
DTSTART;TZID=Europe/Paris:20260304T170000
DTEND;TZID=Europe/Paris:20260304T203000
DTSTAMP:20260425T163731
CREATED:20241217T172349Z
LAST-MODIFIED:20241217T173204Z
UID:10001000-1772643600-1772656200@judokano.be
SUMMARY:Entrainement Judo
DESCRIPTION:U7-U9: 17h00-18h00 \nU11-U13: 18h00-19h00 \nU15+ : 19h00-20h30
URL:http://judokano.be/event/entrainement-judo/2026-03-04/
LOCATION:KanoTournai\, 76 rue Roc Saint-Nicaise\, Tournai\, 7500\, Belgique
CATEGORIES:Cours
END:VEVENT
BEGIN:VEVENT
DTSTART;TZID=Europe/Paris:20260302T173000
DTEND;TZID=Europe/Paris:20260302T190000
DTSTAMP:20260425T163731
CREATED:20250908T125354Z
LAST-MODIFIED:20250908T125354Z
UID:10001161-1772472600-1772478000@judokano.be
SUMMARY:Session Uchikomis
DESCRIPTION:
URL:http://judokano.be/event/session-uchikomis/2026-03-02/
LOCATION:KanoTournai\, 76 rue Roc Saint-Nicaise\, Tournai\, 7500\, Belgique
CATEGORIES:Cours
END:VEVENT
BEGIN:VEVENT
DTSTART;VALUE=DATE:20260301
DTEND;VALUE=DATE:20260302
DTSTAMP:20260425T163731
CREATED:20251222T103759Z
LAST-MODIFIED:20251222T103759Z
UID:10001195-1772323200-1772409599@judokano.be
SUMMARY:Tournoi d'Ingelmunster U11 U13
DESCRIPTION:Ingelmunster 260301\n  \n\n	Remarque : JavaScript est requis pour ce contenu.
URL:http://judokano.be/event/tournoi-dingelmunster-u11-u13/
LOCATION:Ingelmunster\, Ingelmunster\, Belgique
CATEGORIES:Compétitions
END:VEVENT
END:VCALENDAR