BEGIN:VCALENDAR
VERSION:2.0
PRODID:-//KanoTournai - ECPv6.15.20//NONSGML v1.0//EN
CALSCALE:GREGORIAN
METHOD:PUBLISH
X-WR-CALNAME:KanoTournai
X-ORIGINAL-URL:http://judokano.be
X-WR-CALDESC:Évènements pour KanoTournai
REFRESH-INTERVAL;VALUE=DURATION:PT1H
X-Robots-Tag:noindex
X-PUBLISHED-TTL:PT1H
BEGIN:VTIMEZONE
TZID:Europe/Paris
BEGIN:DAYLIGHT
TZOFFSETFROM:+0100
TZOFFSETTO:+0200
TZNAME:CEST
DTSTART:20250330T010000
END:DAYLIGHT
BEGIN:STANDARD
TZOFFSETFROM:+0200
TZOFFSETTO:+0100
TZNAME:CET
DTSTART:20251026T010000
END:STANDARD
BEGIN:DAYLIGHT
TZOFFSETFROM:+0100
TZOFFSETTO:+0200
TZNAME:CEST
DTSTART:20260329T010000
END:DAYLIGHT
BEGIN:STANDARD
TZOFFSETFROM:+0200
TZOFFSETTO:+0100
TZNAME:CET
DTSTART:20261025T010000
END:STANDARD
BEGIN:DAYLIGHT
TZOFFSETFROM:+0100
TZOFFSETTO:+0200
TZNAME:CEST
DTSTART:20270328T010000
END:DAYLIGHT
BEGIN:STANDARD
TZOFFSETFROM:+0200
TZOFFSETTO:+0100
TZNAME:CET
DTSTART:20271031T010000
END:STANDARD
END:VTIMEZONE
BEGIN:VEVENT
DTSTART;TZID=Europe/Paris:20260501T173000
DTEND;TZID=Europe/Paris:20260501T210000
DTSTAMP:20260425T213555
CREATED:20241217T172523Z
LAST-MODIFIED:20241218T065600Z
UID:10001086-1777656600-1777669200@judokano.be
SUMMARY:Entrainement judo
DESCRIPTION:U07-U09: 17h30-18h30 \nU11-U13: 18h30-19h30 \nU15+ : 19h30-21h00
URL:http://judokano.be/event/entrainement-judo-2/2026-05-01/
LOCATION:KanoTournai\, 76 rue Roc Saint-Nicaise\, Tournai\, 7500\, Belgique
CATEGORIES:Cours
END:VEVENT
BEGIN:VEVENT
DTSTART;TZID=Europe/Paris:20260504T173000
DTEND;TZID=Europe/Paris:20260504T190000
DTSTAMP:20260425T213555
CREATED:20250908T125354Z
LAST-MODIFIED:20250908T125354Z
UID:10001163-1777915800-1777921200@judokano.be
SUMMARY:Session Uchikomis
DESCRIPTION:
URL:http://judokano.be/event/session-uchikomis/2026-05-04/
LOCATION:KanoTournai\, 76 rue Roc Saint-Nicaise\, Tournai\, 7500\, Belgique
CATEGORIES:Cours
END:VEVENT
BEGIN:VEVENT
DTSTART;TZID=Europe/Paris:20260506T170000
DTEND;TZID=Europe/Paris:20260506T203000
DTSTAMP:20260425T213555
CREATED:20241217T172349Z
LAST-MODIFIED:20241217T173204Z
UID:10001009-1778086800-1778099400@judokano.be
SUMMARY:Entrainement Judo
DESCRIPTION:U7-U9: 17h00-18h00 \nU11-U13: 18h00-19h00 \nU15+ : 19h00-20h30
URL:http://judokano.be/event/entrainement-judo/2026-05-06/
LOCATION:KanoTournai\, 76 rue Roc Saint-Nicaise\, Tournai\, 7500\, Belgique
CATEGORIES:Cours
END:VEVENT
BEGIN:VEVENT
DTSTART;TZID=Europe/Paris:20260508T173000
DTEND;TZID=Europe/Paris:20260508T210000
DTSTAMP:20260425T213555
CREATED:20241217T172523Z
LAST-MODIFIED:20241218T065600Z
UID:10001087-1778261400-1778274000@judokano.be
SUMMARY:Entrainement judo
DESCRIPTION:U07-U09: 17h30-18h30 \nU11-U13: 18h30-19h30 \nU15+ : 19h30-21h00
URL:http://judokano.be/event/entrainement-judo-2/2026-05-08/
LOCATION:KanoTournai\, 76 rue Roc Saint-Nicaise\, Tournai\, 7500\, Belgique
CATEGORIES:Cours
END:VEVENT
BEGIN:VEVENT
DTSTART;TZID=Europe/Paris:20260513T170000
DTEND;TZID=Europe/Paris:20260513T203000
DTSTAMP:20260425T213555
CREATED:20241217T172349Z
LAST-MODIFIED:20241217T173204Z
UID:10001010-1778691600-1778704200@judokano.be
SUMMARY:Entrainement Judo
DESCRIPTION:U7-U9: 17h00-18h00 \nU11-U13: 18h00-19h00 \nU15+ : 19h00-20h30
URL:http://judokano.be/event/entrainement-judo/2026-05-13/
LOCATION:KanoTournai\, 76 rue Roc Saint-Nicaise\, Tournai\, 7500\, Belgique
CATEGORIES:Cours
END:VEVENT
BEGIN:VEVENT
DTSTART;TZID=Europe/Paris:20260515T173000
DTEND;TZID=Europe/Paris:20260515T210000
DTSTAMP:20260425T213555
CREATED:20241217T172523Z
LAST-MODIFIED:20241218T065600Z
UID:10001088-1778866200-1778878800@judokano.be
SUMMARY:Entrainement judo
DESCRIPTION:U07-U09: 17h30-18h30 \nU11-U13: 18h30-19h30 \nU15+ : 19h30-21h00
URL:http://judokano.be/event/entrainement-judo-2/2026-05-15/
LOCATION:KanoTournai\, 76 rue Roc Saint-Nicaise\, Tournai\, 7500\, Belgique
CATEGORIES:Cours
END:VEVENT
BEGIN:VEVENT
DTSTART;TZID=Europe/Paris:20260518T173000
DTEND;TZID=Europe/Paris:20260518T190000
DTSTAMP:20260425T213555
CREATED:20250908T125120Z
LAST-MODIFIED:20250908T125256Z
UID:10001153-1779125400-1779130800@judokano.be
SUMMARY:Cours Kata & Uchikomis
DESCRIPTION:
URL:http://judokano.be/event/cours-kata-3/2026-05-18/
LOCATION:KanoTournai\, 76 rue Roc Saint-Nicaise\, Tournai\, 7500\, Belgique
CATEGORIES:Cours
END:VEVENT
BEGIN:VEVENT
DTSTART;TZID=Europe/Paris:20260520T170000
DTEND;TZID=Europe/Paris:20260520T203000
DTSTAMP:20260425T213555
CREATED:20241217T172349Z
LAST-MODIFIED:20241217T173204Z
UID:10001011-1779296400-1779309000@judokano.be
SUMMARY:Entrainement Judo
DESCRIPTION:U7-U9: 17h00-18h00 \nU11-U13: 18h00-19h00 \nU15+ : 19h00-20h30
URL:http://judokano.be/event/entrainement-judo/2026-05-20/
LOCATION:KanoTournai\, 76 rue Roc Saint-Nicaise\, Tournai\, 7500\, Belgique
CATEGORIES:Cours
END:VEVENT
BEGIN:VEVENT
DTSTART;TZID=Europe/Paris:20260522T173000
DTEND;TZID=Europe/Paris:20260522T210000
DTSTAMP:20260425T213555
CREATED:20241217T172523Z
LAST-MODIFIED:20241218T065600Z
UID:10001089-1779471000-1779483600@judokano.be
SUMMARY:Entrainement judo
DESCRIPTION:U07-U09: 17h30-18h30 \nU11-U13: 18h30-19h30 \nU15+ : 19h30-21h00
URL:http://judokano.be/event/entrainement-judo-2/2026-05-22/
LOCATION:KanoTournai\, 76 rue Roc Saint-Nicaise\, Tournai\, 7500\, Belgique
CATEGORIES:Cours
END:VEVENT
BEGIN:VEVENT
DTSTART;TZID=Europe/Paris:20260527T170000
DTEND;TZID=Europe/Paris:20260527T203000
DTSTAMP:20260425T213555
CREATED:20241217T172349Z
LAST-MODIFIED:20241217T173204Z
UID:10001012-1779901200-1779913800@judokano.be
SUMMARY:Entrainement Judo
DESCRIPTION:U7-U9: 17h00-18h00 \nU11-U13: 18h00-19h00 \nU15+ : 19h00-20h30
URL:http://judokano.be/event/entrainement-judo/2026-05-27/
LOCATION:KanoTournai\, 76 rue Roc Saint-Nicaise\, Tournai\, 7500\, Belgique
CATEGORIES:Cours
END:VEVENT
BEGIN:VEVENT
DTSTART;TZID=Europe/Paris:20260529T173000
DTEND;TZID=Europe/Paris:20260529T210000
DTSTAMP:20260425T213555
CREATED:20241217T172523Z
LAST-MODIFIED:20241218T065600Z
UID:10001090-1780075800-1780088400@judokano.be
SUMMARY:Entrainement judo
DESCRIPTION:U07-U09: 17h30-18h30 \nU11-U13: 18h30-19h30 \nU15+ : 19h30-21h00
URL:http://judokano.be/event/entrainement-judo-2/2026-05-29/
LOCATION:KanoTournai\, 76 rue Roc Saint-Nicaise\, Tournai\, 7500\, Belgique
CATEGORIES:Cours
END:VEVENT
BEGIN:VEVENT
DTSTART;TZID=Europe/Paris:20260530T170000
DTEND;TZID=Europe/Paris:20260530T190000
DTSTAMP:20260425T213555
CREATED:20251204T125052Z
LAST-MODIFIED:20260227T081052Z
UID:10001175-1780160400-1780167600@judokano.be
SUMMARY:Randori Training
DESCRIPTION:Dès 2026\, le Kano Tournai lance un nouveau rendez-vous incontournable pour les judokas à la recherche de volume et d’intensité. Une fois par mois\, nous vous proposons un Randori Training pur\, fidèle à la tradition de l’entraînement à la japonaise. \nL’objectif est clair : travailler le cardio\, la résistance et la technique en situation de fatigue\, sans temps morts inutiles. C’est l’occasion idéale de se tester et de progresser dans une ambiance de travail studieuse et martiale. \nAu programme de cette session : Le format est dense et conçu pour l’endurance. \n\n\nTachi-waza (Debout) : 10 randoris de 5 à 6 minutes. \n\n\nNe-waza (Sol) : 5 randoris. \n\n\nCe cours est ouvert aux judokas motivés (Cadets\, Juniors\, Seniors) prêts à relever le défi physique. \nInfos pratiques : \n\n\n📅 Date : Samedi 31 janvier 2026 (Première édition !) \n\n\n📍 Lieu : Kano Tournai \n\n\n🥋 Équipement : Judogi (et de quoi s’hydrater !) \n\n\nVenez nombreux pour partager l’effort et la passion du Judo.
URL:http://judokano.be/event/randori-training/2026-05-30/
LOCATION:KanoTournai\, 76 rue Roc Saint-Nicaise\, Tournai\, 7500\, Belgique
CATEGORIES:Cours
ATTACH;FMTTYPE=image/png:http://judokano.be/wp-content/uploads/2025/12/randoriT.png
END:VEVENT
END:VCALENDAR