BEGIN:VCALENDAR
VERSION:2.0
PRODID:-//KanoTournai - ECPv6.15.20//NONSGML v1.0//EN
CALSCALE:GREGORIAN
METHOD:PUBLISH
X-WR-CALNAME:KanoTournai
X-ORIGINAL-URL:http://judokano.be
X-WR-CALDESC:Évènements pour KanoTournai
REFRESH-INTERVAL;VALUE=DURATION:PT1H
X-Robots-Tag:noindex
X-PUBLISHED-TTL:PT1H
BEGIN:VTIMEZONE
TZID:Europe/Paris
BEGIN:DAYLIGHT
TZOFFSETFROM:+0100
TZOFFSETTO:+0200
TZNAME:CEST
DTSTART:20250330T010000
END:DAYLIGHT
BEGIN:STANDARD
TZOFFSETFROM:+0200
TZOFFSETTO:+0100
TZNAME:CET
DTSTART:20251026T010000
END:STANDARD
BEGIN:DAYLIGHT
TZOFFSETFROM:+0100
TZOFFSETTO:+0200
TZNAME:CEST
DTSTART:20260329T010000
END:DAYLIGHT
BEGIN:STANDARD
TZOFFSETFROM:+0200
TZOFFSETTO:+0100
TZNAME:CET
DTSTART:20261025T010000
END:STANDARD
BEGIN:DAYLIGHT
TZOFFSETFROM:+0100
TZOFFSETTO:+0200
TZNAME:CEST
DTSTART:20270328T010000
END:DAYLIGHT
BEGIN:STANDARD
TZOFFSETFROM:+0200
TZOFFSETTO:+0100
TZNAME:CET
DTSTART:20271031T010000
END:STANDARD
END:VTIMEZONE
BEGIN:VEVENT
DTSTART;VALUE=DATE:20260214
DTEND;VALUE=DATE:20260302
DTSTAMP:20260425T181404
CREATED:20241218T065941Z
LAST-MODIFIED:20241218T065941Z
UID:10001097-1771027200-1772409599@judokano.be
SUMMARY:Congé de détente
DESCRIPTION:
URL:http://judokano.be/event/conge-de-detente/
LOCATION:KanoTournai\, 76 rue Roc Saint-Nicaise\, Tournai\, 7500\, Belgique
CATEGORIES:Fermé
END:VEVENT
BEGIN:VEVENT
DTSTART;TZID=Europe/Paris:20260221T080000
DTEND;TZID=Europe/Paris:20260221T170000
DTSTAMP:20260425T181404
CREATED:20251222T102953Z
LAST-MODIFIED:20251222T102953Z
UID:10001193-1771660800-1771693200@judokano.be
SUMMARY:Izegem 4 Kids (U11 U13)
DESCRIPTION:izegem4kids26\n\n	Remarque : JavaScript est requis pour ce contenu.
URL:http://judokano.be/event/izegem-4-kids-u11-u13/
LOCATION:izegem\, Heilig Hartstraat 15\, Izegem\, 8870\, Belgium
CATEGORIES:Compétitions
END:VEVENT
END:VCALENDAR