BEGIN:VCALENDAR
VERSION:2.0
PRODID:-//KanoTournai - ECPv6.15.20//NONSGML v1.0//EN
CALSCALE:GREGORIAN
METHOD:PUBLISH
X-WR-CALNAME:KanoTournai
X-ORIGINAL-URL:http://judokano.be
X-WR-CALDESC:Évènements pour KanoTournai
REFRESH-INTERVAL;VALUE=DURATION:PT1H
X-Robots-Tag:noindex
X-PUBLISHED-TTL:PT1H
BEGIN:VTIMEZONE
TZID:Europe/Paris
BEGIN:DAYLIGHT
TZOFFSETFROM:+0100
TZOFFSETTO:+0200
TZNAME:CEST
DTSTART:20250330T010000
END:DAYLIGHT
BEGIN:STANDARD
TZOFFSETFROM:+0200
TZOFFSETTO:+0100
TZNAME:CET
DTSTART:20251026T010000
END:STANDARD
BEGIN:DAYLIGHT
TZOFFSETFROM:+0100
TZOFFSETTO:+0200
TZNAME:CEST
DTSTART:20260329T010000
END:DAYLIGHT
BEGIN:STANDARD
TZOFFSETFROM:+0200
TZOFFSETTO:+0100
TZNAME:CET
DTSTART:20261025T010000
END:STANDARD
BEGIN:DAYLIGHT
TZOFFSETFROM:+0100
TZOFFSETTO:+0200
TZNAME:CEST
DTSTART:20270328T010000
END:DAYLIGHT
BEGIN:STANDARD
TZOFFSETFROM:+0200
TZOFFSETTO:+0100
TZNAME:CET
DTSTART:20271031T010000
END:STANDARD
END:VTIMEZONE
BEGIN:VEVENT
DTSTART;TZID=Europe/Paris:20260116T173000
DTEND;TZID=Europe/Paris:20260116T210000
DTSTAMP:20260425T212656
CREATED:20241217T172523Z
LAST-MODIFIED:20241218T065600Z
UID:10001071-1768584600-1768597200@judokano.be
SUMMARY:Entrainement judo
DESCRIPTION:U07-U09: 17h30-18h30 \nU11-U13: 18h30-19h30 \nU15+ : 19h30-21h00
URL:http://judokano.be/event/entrainement-judo-2/2026-01-16/
LOCATION:KanoTournai\, 76 rue Roc Saint-Nicaise\, Tournai\, 7500\, Belgique
CATEGORIES:Cours
END:VEVENT
BEGIN:VEVENT
DTSTART;TZID=Europe/Paris:20260116T210000
DTEND;TZID=Europe/Paris:20260116T230000
DTSTAMP:20260425T212656
CREATED:20251222T122502Z
LAST-MODIFIED:20251222T122502Z
UID:10001200-1768597200-1768604400@judokano.be
SUMMARY:Drink de nouvel an
DESCRIPTION:
URL:http://judokano.be/event/drink-de-nouvel-an/
LOCATION:KanoTournai\, 76 rue Roc Saint-Nicaise\, Tournai\, 7500\, Belgique
CATEGORIES:Activités
ATTACH;FMTTYPE=image/png:http://judokano.be/wp-content/uploads/2025/12/kagami.png
END:VEVENT
END:VCALENDAR