BEGIN:VCALENDAR
VERSION:2.0
PRODID:-//KanoTournai - ECPv6.15.20//NONSGML v1.0//EN
CALSCALE:GREGORIAN
METHOD:PUBLISH
X-ORIGINAL-URL:http://judokano.be
X-WR-CALDESC:Évènements pour KanoTournai
REFRESH-INTERVAL;VALUE=DURATION:PT1H
X-Robots-Tag:noindex
X-PUBLISHED-TTL:PT1H
BEGIN:VTIMEZONE
TZID:Europe/Paris
BEGIN:DAYLIGHT
TZOFFSETFROM:+0100
TZOFFSETTO:+0200
TZNAME:CEST
DTSTART:20240331T010000
END:DAYLIGHT
BEGIN:STANDARD
TZOFFSETFROM:+0200
TZOFFSETTO:+0100
TZNAME:CET
DTSTART:20241027T010000
END:STANDARD
BEGIN:DAYLIGHT
TZOFFSETFROM:+0100
TZOFFSETTO:+0200
TZNAME:CEST
DTSTART:20250330T010000
END:DAYLIGHT
BEGIN:STANDARD
TZOFFSETFROM:+0200
TZOFFSETTO:+0100
TZNAME:CET
DTSTART:20251026T010000
END:STANDARD
BEGIN:DAYLIGHT
TZOFFSETFROM:+0100
TZOFFSETTO:+0200
TZNAME:CEST
DTSTART:20260329T010000
END:DAYLIGHT
BEGIN:STANDARD
TZOFFSETFROM:+0200
TZOFFSETTO:+0100
TZNAME:CET
DTSTART:20261025T010000
END:STANDARD
BEGIN:DAYLIGHT
TZOFFSETFROM:+0100
TZOFFSETTO:+0200
TZNAME:CEST
DTSTART:20270328T010000
END:DAYLIGHT
BEGIN:STANDARD
TZOFFSETFROM:+0200
TZOFFSETTO:+0100
TZNAME:CET
DTSTART:20271031T010000
END:STANDARD
END:VTIMEZONE
BEGIN:VEVENT
DTSTART;VALUE=DATE:20251220
DTEND;VALUE=DATE:20260105
DTSTAMP:20260425T212934
CREATED:20241218T065835Z
LAST-MODIFIED:20241218T065835Z
UID:10001096-1766188800-1767571199@judokano.be
SUMMARY:Congé d'hiver
DESCRIPTION:
URL:http://judokano.be/event/conge-dhiver/
LOCATION:KanoTournai\, 76 rue Roc Saint-Nicaise\, Tournai\, 7500\, Belgique
CATEGORIES:Fermé
END:VEVENT
BEGIN:VEVENT
DTSTART;VALUE=DATE:20260103
DTEND;VALUE=DATE:20260104
DTSTAMP:20260425T212934
CREATED:20251204T144425Z
LAST-MODIFIED:20251204T144824Z
UID:10001182-1767398400-1767484799@judokano.be
SUMMARY:Stage de Koksijde U13/U15/U18/U21+
DESCRIPTION:Comme chaque année le KANO participera au stage de Koksijde. \nNous participerons à la journée du 3 janvier uniquement. \nSi des judokas sont intéressés aux 3 jours\, ils peuvent prendre directement contact avec l’organisation. \n__________________________________________________________________________________________- \nPour la journée du 3 janvier: cout: 30€ \nPrévoir sa nourriture. Le Kano offre la glace ou la gaufre 😉 \nHoraire du Samedi: \n9.00 – 10:45  Randoritraining groupe 1 U13/U15 \n11:00-13:00    Randoritraining groupe 2 U18/+18 \n14:30-16:30    Training Technique + Randoritraining GROUPE 1 U13/U15 \n16.45 – 19.00  Training Technique + Randoritraining GROUPE 2 U18/+18 \n___________________________________________________________________________________________________________ \n\n	Remarque : JavaScript est requis pour ce contenu.\n\n\n    \n\n\n        \n        \n        \n 
URL:http://judokano.be/event/stage-de-koksijde-u13-u15-u18-u21/
LOCATION:Koksijde\, Koksijde\, Belgique
CATEGORIES:Cours extérieur
END:VEVENT
END:VCALENDAR